Workbook

Sheet Fund overview
A1: Evaluated trading days
A2: line | B2: value
A3: Evaluated trading days | B3: ='Fund and null distribution'!B2 -> 1
A5: LLM pods: mean excess (bps/day)
A6: line | B6: value
A7: LLM pods: mean excess, bps/day | B7: ='Fund and null distribution'!B5 -> 1.3032
A9: Best random pod (bps/day)
A10: line | B10: value
A11: Random pods: best mean, bps/day | B11: ='Fund and null distribution'!B11 -> 13.888
A13: Pods meeting the skill bar
A14: line | B14: value
A15: Pods meeting the skill bar | B15: ='Fund and null distribution'!B14 -> 0
A17: Cumulative sector-neutral excess by LLM pod (bps)
A18: pod | B18: 09-22 | C18: 09-23 | D18: 09-24 | E18: 09-25 | F18: 09-28 | G18: 09-29 | H18: 09-30 | I18: 10-01 | J18: 10-02 | K18: 10-05 | L18: 10-06 | M18: 10-07 | N18: 10-08 | O18: 10-09 | P18: 10-12 | Q18: 10-13 | R18: 10-14 | S18: 10-15 | T18: 10-16 | U18: 10-19 | V18: 10-20 | W18: 10-21 | X18: 10-22 | Y18: 10-23 | Z18: 10-26 | AA18: 10-27 | AB18: 10-28 | AC18: 10-29 | AD18: 10-30 | AE18: 11-02 | AF18: 11-03 | AG18: 11-04 | AH18: 11-05 | AI18: 11-06 | AJ18: 11-09 | AK18: 11-10 | AL18: 11-11 | AM18: 11-12 | AN18: 11-13 | AO18: 11-16 | AP18: 11-17 | AQ18: 11-18 | AR18: 11-19 | AS18: 11-20 | AT18: 11-23 | AU18: 11-24 | AV18: 11-25 | AW18: 11-27 | AX18: 11-30 | AY18: 12-01 | AZ18: 12-02 | BA18: 12-03 | BB18: 12-04 | BC18: 12-07 | BD18: 12-08 | BE18: 12-09 | BF18: 12-10 | BG18: 12-11 | BH18: 12-14 | BI18: 12-15 | BJ18: 12-16 | BK18: 12-17 | BL18: 12-18 | BM18: 12-21 | BN18: 12-22 | BO18: 12-23 | BP18: 12-24 | BQ18: 12-28 | BR18: 12-29 | BS18: 12-30 | BT18: 12-31 | BU18: 01-04 | BV18: 01-05 | BW18: 01-06 | BX18: 01-07 | BY18: 01-08 | BZ18: 01-11 | CA18: 01-12 | CB18: 01-13 | CC18: 01-14 | CD18: 01-15 | CE18: 01-19 | CF18: 01-20 | CG18: 01-21 | CH18: 01-22 | CI18: 01-25 | CJ18: 01-26 | CK18: 01-27 | CL18: 01-28 | CM18: 01-29 | CN18: 02-01 | CO18: 02-02 | CP18: 02-03 | CQ18: 02-04 | CR18: 02-05 | CS18: 02-08 | CT18: 02-09 | CU18: 02-10 | CV18: 02-11 | CW18: 02-12
A19: Retail Attention Overnight | B19: ='Pod by trading day'!C182 -> -19.56 | C19: ='Pod by trading day'!D182 | D19: ='Pod by trading day'!E182 | E19: ='Pod by trading day'!F182 | F19: ='Pod by trading day'!G182 | G19: ='Pod by trading day'!H182 | H19: ='Pod by trading day'!I182 | I19: ='Pod by trading day'!J182 | ... CW19: ='Pod by trading day'!CX182
A20: Post-Earnings Drift, Overnight Leg | B20: ='Pod by trading day'!C183 -> 11.704 | C20: ='Pod by trading day'!D183 | D20: ='Pod by trading day'!E183 | E20: ='Pod by trading day'!F183 | F20: ='Pod by trading day'!G183 | G20: ='Pod by trading day'!H183 | H20: ='Pod by trading day'!I183 | I20: ='Pod by trading day'!J183 | ... CW20: ='Pod by trading day'!CX183
A21: Intraday-to-Overnight Reversal | B21: ='Pod by trading day'!C184 -> 4.098 | C21: ='Pod by trading day'!D184 | D21: ='Pod by trading day'!E184 | E21: ='Pod by trading day'!F184 | F21: ='Pod by trading day'!G184 | G21: ='Pod by trading day'!H184 | H21: ='Pod by trading day'!I184 | I21: ='Pod by trading day'!J184 | ... CW21: ='Pod by trading day'!CX184
A22: Analyst Revision Momentum | B22: ='Pod by trading day'!C185 -> -2.965 | C22: ='Pod by trading day'!D185 | D22: ='Pod by trading day'!E185 | E22: ='Pod by trading day'!F185 | F22: ='Pod by trading day'!G185 | G22: ='Pod by trading day'!H185 | H22: ='Pod by trading day'!I185 | I22: ='Pod by trading day'!J185 | ... CW22: ='Pod by trading day'!CX185
A23: Clustered Insider Buying | B23: ='Pod by trading day'!C186 -> 2.143 | C23: ='Pod by trading day'!D186 | D23: ='Pod by trading day'!E186 | E23: ='Pod by trading day'!F186 | F23: ='Pod by trading day'!G186 | G23: ='Pod by trading day'!H186 | H23: ='Pod by trading day'!I186 | I23: ='Pod by trading day'!J186 | ... CW23: ='Pod by trading day'!CX186
A24: Same-Month Seasonality | B24: ='Pod by trading day'!C187 -> -21.574 | C24: ='Pod by trading day'!D187 | D24: ='Pod by trading day'!E187 | E24: ='Pod by trading day'!F187 | F24: ='Pod by trading day'!G187 | G24: ='Pod by trading day'!H187 | H24: ='Pod by trading day'!I187 | I24: ='Pod by trading day'!J187 | ... CW24: ='Pod by trading day'!CX187
A25: Quality at a Reasonable Price | B25: ='Pod by trading day'!C188 -> -0.086 | C25: ='Pod by trading day'!D188 | D25: ='Pod by trading day'!E188 | E25: ='Pod by trading day'!F188 | F25: ='Pod by trading day'!G188 | G25: ='Pod by trading day'!H188 | H25: ='Pod by trading day'!I188 | I25: ='Pod by trading day'!J188 | ... CW25: ='Pod by trading day'!CX188
A26: Residual Momentum | B26: ='Pod by trading day'!C189 -> 13.936 | C26: ='Pod by trading day'!D189 | D26: ='Pod by trading day'!E189 | E26: ='Pod by trading day'!F189 | F26: ='Pod by trading day'!G189 | G26: ='Pod by trading day'!H189 | H26: ='Pod by trading day'!I189 | I26: ='Pod by trading day'!J189 | ... CW26: ='Pod by trading day'!CX189
A27: Overnight Return Persistence | B27: ='Pod by trading day'!C190 -> 8.172 | C27: ='Pod by trading day'!D190 | D27: ='Pod by trading day'!E190 | E27: ='Pod by trading day'!F190 | F27: ='Pod by trading day'!G190 | G27: ='Pod by trading day'!H190 | H27: ='Pod by trading day'!I190 | I27: ='Pod by trading day'!J190 | ... CW27: ='Pod by trading day'!CX190
A28: 52-Week-High Anchoring | B28: ='Pod by trading day'!C191 -> 17.164 | C28: ='Pod by trading day'!D191 | D28: ='Pod by trading day'!E191 | E28: ='Pod by trading day'!F191 | F28: ='Pod by trading day'!G191 | G28: ='Pod by trading day'!H191 | H28: ='Pod by trading day'!I191 | I28: ='Pod by trading day'!J191 | ... CW28: ='Pod by trading day'!CX191
A47: LLM pods vs random pods, cumulative average (bps)
A48: line | B48: 09-22 | C48: 09-23 | D48: 09-24 | E48: 09-25 | F48: 09-28 | G48: 09-29 | H48: 09-30 | I48: 10-01 | J48: 10-02 | K48: 10-05 | L48: 10-06 | M48: 10-07 | N48: 10-08 | O48: 10-09 | P48: 10-12 | Q48: 10-13 | R48: 10-14 | S48: 10-15 | T48: 10-16 | U48: 10-19 | V48: 10-20 | W48: 10-21 | X48: 10-22 | Y48: 10-23 | Z48: 10-26 | AA48: 10-27 | AB48: 10-28 | AC48: 10-29 | AD48: 10-30 | AE48: 11-02 | AF48: 11-03 | AG48: 11-04 | AH48: 11-05 | AI48: 11-06 | AJ48: 11-09 | AK48: 11-10 | AL48: 11-11 | AM48: 11-12 | AN48: 11-13 | AO48: 11-16 | AP48: 11-17 | AQ48: 11-18 | AR48: 11-19 | AS48: 11-20 | AT48: 11-23 | AU48: 11-24 | AV48: 11-25 | AW48: 11-27 | AX48: 11-30 | AY48: 12-01 | AZ48: 12-02 | BA48: 12-03 | BB48: 12-04 | BC48: 12-07 | BD48: 12-08 | BE48: 12-09 | BF48: 12-10 | BG48: 12-11 | BH48: 12-14 | BI48: 12-15 | BJ48: 12-16 | BK48: 12-17 | BL48: 12-18 | BM48: 12-21 | BN48: 12-22 | BO48: 12-23 | BP48: 12-24 | BQ48: 12-28 | BR48: 12-29 | BS48: 12-30 | BT48: 12-31 | BU48: 01-04 | BV48: 01-05 | BW48: 01-06 | BX48: 01-07 | BY48: 01-08 | BZ48: 01-11 | CA48: 01-12 | CB48: 01-13 | CC48: 01-14 | CD48: 01-15 | CE48: 01-19 | CF48: 01-20 | CG48: 01-21 | CH48: 01-22 | CI48: 01-25 | CJ48: 01-26 | CK48: 01-27 | CL48: 01-28 | CM48: 01-29 | CN48: 02-01 | CO48: 02-02 | CP48: 02-03 | CQ48: 02-04 | CR48: 02-05 | CS48: 02-08 | CT48: 02-09 | CU48: 02-10 | CV48: 02-11 | CW48: 02-12
A49: LLM pods: cumulative average excess, bps | B49: ='Fund by trading day'!B7 -> 1.3032 | C49: ='Fund by trading day'!C7 | D49: ='Fund by trading day'!D7 | E49: ='Fund by trading day'!E7 | F49: ='Fund by trading day'!F7 | G49: ='Fund by trading day'!G7 | H49: ='Fund by trading day'!H7 | I49: ='Fund by trading day'!I7 | ... CW49: ='Fund by trading day'!CW7
A50: Random pods: cumulative average, bps | B50: ='Fund by trading day'!B8 -> 0.82685 | C50: ='Fund by trading day'!C8 | D50: ='Fund by trading day'!D8 | E50: ='Fund by trading day'!E8 | F50: ='Fund by trading day'!F8 | G50: ='Fund by trading day'!G8 | H50: ='Fund by trading day'!H8 | I50: ='Fund by trading day'!I8 | ... CW50: ='Fund by trading day'!CW8
A69: Daily average excess: LLM pods vs random (bps)
A70: line | B70: 09-22 | C70: 09-23 | D70: 09-24 | E70: 09-25 | F70: 09-28 | G70: 09-29 | H70: 09-30 | I70: 10-01 | J70: 10-02 | K70: 10-05 | L70: 10-06 | M70: 10-07 | N70: 10-08 | O70: 10-09 | P70: 10-12 | Q70: 10-13 | R70: 10-14 | S70: 10-15 | T70: 10-16 | U70: 10-19 | V70: 10-20 | W70: 10-21 | X70: 10-22 | Y70: 10-23 | Z70: 10-26 | AA70: 10-27 | AB70: 10-28 | AC70: 10-29 | AD70: 10-30 | AE70: 11-02 | AF70: 11-03 | AG70: 11-04 | AH70: 11-05 | AI70: 11-06 | AJ70: 11-09 | AK70: 11-10 | AL70: 11-11 | AM70: 11-12 | AN70: 11-13 | AO70: 11-16 | AP70: 11-17 | AQ70: 11-18 | AR70: 11-19 | AS70: 11-20 | AT70: 11-23 | AU70: 11-24 | AV70: 11-25 | AW70: 11-27 | AX70: 11-30 | AY70: 12-01 | AZ70: 12-02 | BA70: 12-03 | BB70: 12-04 | BC70: 12-07 | BD70: 12-08 | BE70: 12-09 | BF70: 12-10 | BG70: 12-11 | BH70: 12-14 | BI70: 12-15 | BJ70: 12-16 | BK70: 12-17 | BL70: 12-18 | BM70: 12-21 | BN70: 12-22 | BO70: 12-23 | BP70: 12-24 | BQ70: 12-28 | BR70: 12-29 | BS70: 12-30 | BT70: 12-31 | BU70: 01-04 | BV70: 01-05 | BW70: 01-06 | BX70: 01-07 | BY70: 01-08 | BZ70: 01-11 | CA70: 01-12 | CB70: 01-13 | CC70: 01-14 | CD70: 01-15 | CE70: 01-19 | CF70: 01-20 | CG70: 01-21 | CH70: 01-22 | CI70: 01-25 | CJ70: 01-26 | CK70: 01-27 | CL70: 01-28 | CM70: 01-29 | CN70: 02-01 | CO70: 02-02 | CP70: 02-03 | CQ70: 02-04 | CR70: 02-05 | CS70: 02-08 | CT70: 02-09 | CU70: 02-10 | CV70: 02-11 | CW70: 02-12
A71: LLM pods: average excess, bps | B71: ='Fund by trading day'!B2 -> 1.3032 | C71: ='Fund by trading day'!C2 | D71: ='Fund by trading day'!D2 | E71: ='Fund by trading day'!E2 | F71: ='Fund by trading day'!F2 | G71: ='Fund by trading day'!G2 | H71: ='Fund by trading day'!H2 | I71: ='Fund by trading day'!I2 | ... CW71: ='Fund by trading day'!CW2
A72: Random pods: average, bps | B72: ='Fund by trading day'!B5 -> 0.82685 | C72: ='Fund by trading day'!C5 | D72: ='Fund by trading day'!D5 | E72: ='Fund by trading day'!E5 | F72: ='Fund by trading day'!F5 | G72: ='Fund by trading day'!G5 | H72: ='Fund by trading day'!H5 | I72: ='Fund by trading day'!I5 | ... CW72: ='Fund by trading day'!CW5
A73: Random pods: best, bps | B73: ='Fund by trading day'!B6 -> 13.888 | C73: ='Fund by trading day'!C6 | D73: ='Fund by trading day'!D6 | E73: ='Fund by trading day'!E6 | F73: ='Fund by trading day'!F6 | G73: ='Fund by trading day'!G6 | H73: ='Fund by trading day'!H6 | I73: ='Fund by trading day'!I6 | ... CW73: ='Fund by trading day'!CW6
A92: Leaderboard: skill is t-stat >= 3 and z vs random >= 2.33
A93: pod | B93: Evaluated days | C93: Mean sector-neutral excess, bps/day | D93: Cumulative excess, bps | E93: t-stat | F93: Mean net of costs, bps/day | G93: Hit rate | H93: Mean IC | I93: Close-to-close sector-neutral excess, bps/day | J93: z-score vs random pods | K93: Days needed to reach the t threshold at this mean and sd | L93: Projected cumulative excess at horizon, bps | M93: Meets the skill bar (1 = yes)
A94: worst 100 by yesterday's close-to-close return | B94: ='Pod summary (leaderboard)'!B2 -> 1 | C94: ='Pod summary (leaderboard)'!B3 -> 13.654 | D94: ='Pod summary (leaderboard)'!B4 -> 13.654 | E94: ='Pod summary (leaderboard)'!B11 | F94: ='Pod summary (leaderboard)'!B5 -> 27.379 | G94: ='Pod summary (leaderboard)'!B6 -> 0.67 | H94: ='Pod summary (leaderboard)'!B7 -> 0.0962 | I94: ='Pod summary (leaderboard)'!B8 | J94: ='Pod summary (leaderboard)'!B13 -> 2.0238564 | K94: ='Pod summary (leaderboard)'!B14 | L94: ='Pod summary (leaderboard)'!B15 -> 1365.4 | M94: ='Pod summary (leaderboard)'!B16 -> 0
A95: lowest 100 by 60-day volatility | B95: ='Pod summary (leaderboard)'!C2 -> 1 | C95: ='Pod summary (leaderboard)'!C3 -> 12.648 | D95: ='Pod summary (leaderboard)'!C4 -> 12.648 | E95: ='Pod summary (leaderboard)'!C11 | F95: ='Pod summary (leaderboard)'!C5 -> -14.709 | G95: ='Pod summary (leaderboard)'!C6 -> 0.44 | H95: ='Pod summary (leaderboard)'!C7 -> -0.0239 | I95: ='Pod summary (leaderboard)'!C8 | J95: ='Pod summary (leaderboard)'!C13 -> 1.8651306 | K95: ='Pod summary (leaderboard)'!C14 | L95: ='Pod summary (leaderboard)'!C15 -> 1264.8 | M95: ='Pod summary (leaderboard)'!C16 -> 0
A96: largest 100 by market cap | B96: ='Pod summary (leaderboard)'!D2 -> 1 | C96: ='Pod summary (leaderboard)'!D3 -> 4.751 | D96: ='Pod summary (leaderboard)'!D4 -> 4.751 | E96: ='Pod summary (leaderboard)'!D11 | F96: ='Pod summary (leaderboard)'!D5 -> 4.964 | G96: ='Pod summary (leaderboard)'!D6 -> 0.64 | H96: ='Pod summary (leaderboard)'!D7 -> 0.0763 | I96: ='Pod summary (leaderboard)'!D8 | J96: ='Pod summary (leaderboard)'!D13 -> 0.61914893 | K96: ='Pod summary (leaderboard)'!D14 | L96: ='Pod summary (leaderboard)'!D15 -> 475.1 | M96: ='Pod summary (leaderboard)'!D16 -> 0
A97: top 100 by 12-1 month return | B97: ='Pod summary (leaderboard)'!E2 -> 1 | C97: ='Pod summary (leaderboard)'!E3 -> -23.532 | D97: ='Pod summary (leaderboard)'!E4 -> -23.532 | E97: ='Pod summary (leaderboard)'!E11 | F97: ='Pod summary (leaderboard)'!E5 -> -12.603 | G97: ='Pod summary (leaderboard)'!E6 -> 0.51 | H97: ='Pod summary (leaderboard)'!E7 -> 0.0517 | I97: ='Pod summary (leaderboard)'!E8 | J97: ='Pod summary (leaderboard)'!E13 -> -3.8433179 | K97: ='Pod summary (leaderboard)'!E14 | L97: ='Pod summary (leaderboard)'!E15 -> -2353.2 | M97: ='Pod summary (leaderboard)'!E16 -> 0
A98: best 100 by yesterday's close-to-close return | B98: ='Pod summary (leaderboard)'!F2 -> 1 | C98: ='Pod summary (leaderboard)'!F3 -> -14.463 | D98: ='Pod summary (leaderboard)'!F4 -> -14.463 | E98: ='Pod summary (leaderboard)'!F11 | F98: ='Pod summary (leaderboard)'!F5 -> -5.67 | G98: ='Pod summary (leaderboard)'!F6 -> 0.5758 | H98: ='Pod summary (leaderboard)'!F7 -> -0.0962 | I98: ='Pod summary (leaderboard)'!F8 | J98: ='Pod summary (leaderboard)'!F13 -> -2.412419 | K98: ='Pod summary (leaderboard)'!F14 | L98: ='Pod summary (leaderboard)'!F15 -> -1446.3 | M98: ='Pod summary (leaderboard)'!F16 -> 0
...

Sheet Operations and cost
A1: Assumptions: edit prices, cost, thresholds, notional | B1: Inputs: edit the blue cells on the 'Assumptions (edit)' sheet; this table follows them.
A2: line | B2: value
A3: LLM price, $ per M input tokens | B3: ='Assumptions (edit)'!B2 -> 0.25
A4: LLM price, $ per M output tokens | B4: ='Assumptions (edit)'!B3 -> 0.69
A5: Assumed round-trip cost, bps | B5: ='Assumptions (edit)'!B4 -> 10
A6: t-stat required to call it skill | B6: ='Assumptions (edit)'!B5 -> 3
A7: Watch horizon, trading days | B7: ='Assumptions (edit)'!B6 -> 100
A8: Notional per pod, $ | B8: ='Assumptions (edit)'!B7 -> 100000
A10: Fund by month
A11: line | B11: Sep-26 | C11: Oct-26 | D11: Nov-26 | E11: Dec-26 | F11: Jan-27 | G11: Feb-27
A12: Trading days in horizon | B12: ='Fund by month'!B2 -> 7 | C12: ='Fund by month'!C2 -> 22 | D12: ='Fund by month'!D2 -> 20 | E12: ='Fund by month'!E2 -> 22 | F12: ='Fund by month'!F2 -> 19 | G12: ='Fund by month'!G2 -> 10
A13: Evaluated days | B13: ='Fund by month'!B3 -> 1 | C13: ='Fund by month'!C3 -> 0 | D13: ='Fund by month'!D3 -> 0 | E13: ='Fund by month'!E3 -> 0 | F13: ='Fund by month'!F3 -> 0 | G13: ='Fund by month'!G3 -> 0
A14: LLM pods: average excess, bps/day | B14: ='Fund by month'!B4 -> 1.3032 | C14: ='Fund by month'!C4 | D14: ='Fund by month'!D4 | E14: ='Fund by month'!E4 | F14: ='Fund by month'!F4 | G14: ='Fund by month'!G4
A15: Random pods: average, bps/day | B15: ='Fund by month'!B5 -> 0.82685 | C15: ='Fund by month'!C5 | D15: ='Fund by month'!D5 | E15: ='Fund by month'!E5 | F15: ='Fund by month'!F5 | G15: ='Fund by month'!G5
A16: LLM cost, $ | B16: ='Fund by month'!B6 -> 0.97179068 | C16: ='Fund by month'!C6 -> 0 | D16: ='Fund by month'!D6 -> 0 | E16: ='Fund by month'!E6 -> 0 | F16: ='Fund by month'!F6 -> 0 | G16: ='Fund by month'!G6 -> 0
A17: FMP calls | B17: ='Fund by month'!B7 -> 16847 | C17: ='Fund by month'!C7 -> 0 | D17: ='Fund by month'!D7 -> 0 | E17: ='Fund by month'!E7 -> 0 | F17: ='Fund by month'!F7 -> 0 | G17: ='Fund by month'!G7 -> 0
A19: LLM cost per trading day ($)
A20: line | B20: 09-22 | C20: 09-23 | D20: 09-24 | E20: 09-25 | F20: 09-28 | G20: 09-29 | H20: 09-30 | I20: 10-01 | J20: 10-02 | K20: 10-05 | L20: 10-06 | M20: 10-07 | N20: 10-08 | O20: 10-09 | P20: 10-12 | Q20: 10-13 | R20: 10-14 | S20: 10-15 | T20: 10-16 | U20: 10-19 | V20: 10-20 | W20: 10-21 | X20: 10-22 | Y20: 10-23 | Z20: 10-26 | AA20: 10-27 | AB20: 10-28 | AC20: 10-29 | AD20: 10-30 | AE20: 11-02 | AF20: 11-03 | AG20: 11-04 | AH20: 11-05 | AI20: 11-06 | AJ20: 11-09 | AK20: 11-10 | AL20: 11-11 | AM20: 11-12 | AN20: 11-13 | AO20: 11-16 | AP20: 11-17 | AQ20: 11-18 | AR20: 11-19 | AS20: 11-20 | AT20: 11-23 | AU20: 11-24 | AV20: 11-25 | AW20: 11-27 | AX20: 11-30 | AY20: 12-01 | AZ20: 12-02 | BA20: 12-03 | BB20: 12-04 | BC20: 12-07 | BD20: 12-08 | BE20: 12-09 | BF20: 12-10 | BG20: 12-11 | BH20: 12-14 | BI20: 12-15 | BJ20: 12-16 | BK20: 12-17 | BL20: 12-18 | BM20: 12-21 | BN20: 12-22 | BO20: 12-23 | BP20: 12-24 | BQ20: 12-28 | BR20: 12-29 | BS20: 12-30 | BT20: 12-31 | BU20: 01-04 | BV20: 01-05 | BW20: 01-06 | BX20: 01-07 | BY20: 01-08 | BZ20: 01-11 | CA20: 01-12 | CB20: 01-13 | CC20: 01-14 | CD20: 01-15 | CE20: 01-19 | CF20: 01-20 | CG20: 01-21 | CH20: 01-22 | CI20: 01-25 | CJ20: 01-26 | CK20: 01-27 | CL20: 01-28 | CM20: 01-29 | CN20: 02-01 | CO20: 02-02 | CP20: 02-03 | CQ20: 02-04 | CR20: 02-05 | CS20: 02-08 | CT20: 02-09 | CU20: 02-10 | CV20: 02-11 | CW20: 02-12
A21: LLM cost, $ | B21: ='Fund by trading day'!B13 -> 0.53601575 | C21: ='Fund by trading day'!C13 -> 0.43577493 | D21: ='Fund by trading day'!D13 -> 0 | E21: ='Fund by trading day'!E13 -> 0 | F21: ='Fund by trading day'!F13 -> 0 | G21: ='Fund by trading day'!G13 -> 0 | H21: ='Fund by trading day'!H13 -> 0 | I21: ='Fund by trading day'!I13 -> 0 | ... CW21: ='Fund by trading day'!CW13 -> 0
A40: External API calls per day
A41: line | B41: 09-22 | C41: 09-23 | D41: 09-24 | E41: 09-25 | F41: 09-28 | G41: 09-29 | H41: 09-30 | I41: 10-01 | J41: 10-02 | K41: 10-05 | L41: 10-06 | M41: 10-07 | N41: 10-08 | O41: 10-09 | P41: 10-12 | Q41: 10-13 | R41: 10-14 | S41: 10-15 | T41: 10-16 | U41: 10-19 | V41: 10-20 | W41: 10-21 | X41: 10-22 | Y41: 10-23 | Z41: 10-26 | AA41: 10-27 | AB41: 10-28 | AC41: 10-29 | AD41: 10-30 | AE41: 11-02 | AF41: 11-03 | AG41: 11-04 | AH41: 11-05 | AI41: 11-06 | AJ41: 11-09 | AK41: 11-10 | AL41: 11-11 | AM41: 11-12 | AN41: 11-13 | AO41: 11-16 | AP41: 11-17 | AQ41: 11-18 | AR41: 11-19 | AS41: 11-20 | AT41: 11-23 | AU41: 11-24 | AV41: 11-25 | AW41: 11-27 | AX41: 11-30 | AY41: 12-01 | AZ41: 12-02 | BA41: 12-03 | BB41: 12-04 | BC41: 12-07 | BD41: 12-08 | BE41: 12-09 | BF41: 12-10 | BG41: 12-11 | BH41: 12-14 | BI41: 12-15 | BJ41: 12-16 | BK41: 12-17 | BL41: 12-18 | BM41: 12-21 | BN41: 12-22 | BO41: 12-23 | BP41: 12-24 | BQ41: 12-28 | BR41: 12-29 | BS41: 12-30 | BT41: 12-31 | BU41: 01-04 | BV41: 01-05 | BW41: 01-06 | BX41: 01-07 | BY41: 01-08 | BZ41: 01-11 | CA41: 01-12 | CB41: 01-13 | CC41: 01-14 | CD41: 01-15 | CE41: 01-19 | CF41: 01-20 | CG41: 01-21 | CH41: 01-22 | CI41: 01-25 | CJ41: 01-26 | CK41: 01-27 | CL41: 01-28 | CM41: 01-29 | CN41: 02-01 | CO41: 02-02 | CP41: 02-03 | CQ41: 02-04 | CR41: 02-05 | CS41: 02-08 | CT41: 02-09 | CU41: 02-10 | CV41: 02-11 | CW41: 02-12
A42: FMP calls | B42: ='Fund by trading day'!B15 -> 15355 | C42: ='Fund by trading day'!C15 -> 1492 | D42: ='Fund by trading day'!D15 -> 0 | E42: ='Fund by trading day'!E15 -> 0 | F42: ='Fund by trading day'!F15 -> 0 | G42: ='Fund by trading day'!G15 -> 0 | H42: ='Fund by trading day'!H15 -> 0 | I42: ='Fund by trading day'!I15 -> 0 | ... CW42: ='Fund by trading day'!CW15 -> 0
A43: SerpAPI calls | B43: ='Fund by trading day'!B16 -> 0 | C43: ='Fund by trading day'!C16 -> 0 | D43: ='Fund by trading day'!D16 -> 0 | E43: ='Fund by trading day'!E16 -> 0 | F43: ='Fund by trading day'!F16 -> 0 | G43: ='Fund by trading day'!G16 -> 0 | H43: ='Fund by trading day'!H16 -> 0 | I43: ='Fund by trading day'!I16 -> 0 | ... CW43: ='Fund by trading day'!CW16 -> 0
A62: LLM pods submitting and average tool calls
A63: line | B63: 09-22 | C63: 09-23 | D63: 09-24 | E63: 09-25 | F63: 09-28 | G63: 09-29 | H63: 09-30 | I63: 10-01 | J63: 10-02 | K63: 10-05 | L63: 10-06 | M63: 10-07 | N63: 10-08 | O63: 10-09 | P63: 10-12 | Q63: 10-13 | R63: 10-14 | S63: 10-15 | T63: 10-16 | U63: 10-19 | V63: 10-20 | W63: 10-21 | X63: 10-22 | Y63: 10-23 | Z63: 10-26 | AA63: 10-27 | AB63: 10-28 | AC63: 10-29 | AD63: 10-30 | AE63: 11-02 | AF63: 11-03 | AG63: 11-04 | AH63: 11-05 | AI63: 11-06 | AJ63: 11-09 | AK63: 11-10 | AL63: 11-11 | AM63: 11-12 | AN63: 11-13 | AO63: 11-16 | AP63: 11-17 | AQ63: 11-18 | AR63: 11-19 | AS63: 11-20 | AT63: 11-23 | AU63: 11-24 | AV63: 11-25 | AW63: 11-27 | AX63: 11-30 | AY63: 12-01 | AZ63: 12-02 | BA63: 12-03 | BB63: 12-04 | BC63: 12-07 | BD63: 12-08 | BE63: 12-09 | BF63: 12-10 | BG63: 12-11 | BH63: 12-14 | BI63: 12-15 | BJ63: 12-16 | BK63: 12-17 | BL63: 12-18 | BM63: 12-21 | BN63: 12-22 | BO63: 12-23 | BP63: 12-24 | BQ63: 12-28 | BR63: 12-29 | BS63: 12-30 | BT63: 12-31 | BU63: 01-04 | BV63: 01-05 | BW63: 01-06 | BX63: 01-07 | BY63: 01-08 | BZ63: 01-11 | CA63: 01-12 | CB63: 01-13 | CC63: 01-14 | CD63: 01-15 | CE63: 01-19 | CF63: 01-20 | CG63: 01-21 | CH63: 01-22 | CI63: 01-25 | CJ63: 01-26 | CK63: 01-27 | CL63: 01-28 | CM63: 01-29 | CN63: 02-01 | CO63: 02-02 | CP63: 02-03 | CQ63: 02-04 | CR63: 02-05 | CS63: 02-08 | CT63: 02-09 | CU63: 02-10 | CV63: 02-11 | CW63: 02-12
A64: LLM pods that submitted | B64: ='Fund by trading day'!B9 -> 10 | C64: ='Fund by trading day'!C9 -> 10 | D64: ='Fund by trading day'!D9 -> 0 | E64: ='Fund by trading day'!E9 -> 0 | F64: ='Fund by trading day'!F9 -> 0 | G64: ='Fund by trading day'!G9 -> 0 | H64: ='Fund by trading day'!H9 -> 0 | I64: ='Fund by trading day'!I9 -> 0 | ... CW64: ='Fund by trading day'!CW9 -> 0
A65: Average agent tool calls | B65: ='Fund by trading day'!B10 -> 13.8 | C65: ='Fund by trading day'!C10 -> 8.2 | D65: ='Fund by trading day'!D10 | E65: ='Fund by trading day'!E10 | F65: ='Fund by trading day'!F10 | G65: ='Fund by trading day'!G10 | H65: ='Fund by trading day'!H10 | I65: ='Fund by trading day'!I10 | ... CW65: ='Fund by trading day'!CW10
A84: Cumulative net P&L per pod on the notional ($)
A85: pod | B85: 09-22 | C85: 09-23 | D85: 09-24 | E85: 09-25 | F85: 09-28 | G85: 09-29 | H85: 09-30 | I85: 10-01 | J85: 10-02 | K85: 10-05 | L85: 10-06 | M85: 10-07 | N85: 10-08 | O85: 10-09 | P85: 10-12 | Q85: 10-13 | R85: 10-14 | S85: 10-15 | T85: 10-16 | U85: 10-19 | V85: 10-20 | W85: 10-21 | X85: 10-22 | Y85: 10-23 | Z85: 10-26 | AA85: 10-27 | AB85: 10-28 | AC85: 10-29 | AD85: 10-30 | AE85: 11-02 | AF85: 11-03 | AG85: 11-04 | AH85: 11-05 | AI85: 11-06 | AJ85: 11-09 | AK85: 11-10 | AL85: 11-11 | AM85: 11-12 | AN85: 11-13 | AO85: 11-16 | AP85: 11-17 | AQ85: 11-18 | AR85: 11-19 | AS85: 11-20 | AT85: 11-23 | AU85: 11-24 | AV85: 11-25 | AW85: 11-27 | AX85: 11-30 | AY85: 12-01 | AZ85: 12-02 | BA85: 12-03 | BB85: 12-04 | BC85: 12-07 | BD85: 12-08 | BE85: 12-09 | BF85: 12-10 | BG85: 12-11 | BH85: 12-14 | BI85: 12-15 | BJ85: 12-16 | BK85: 12-17 | BL85: 12-18 | BM85: 12-21 | BN85: 12-22 | BO85: 12-23 | BP85: 12-24 | BQ85: 12-28 | BR85: 12-29 | BS85: 12-30 | BT85: 12-31 | BU85: 01-04 | BV85: 01-05 | BW85: 01-06 | BX85: 01-07 | BY85: 01-08 | BZ85: 01-11 | CA85: 01-12 | CB85: 01-13 | CC85: 01-14 | CD85: 01-15 | CE85: 01-19 | CF85: 01-20 | CG85: 01-21 | CH85: 01-22 | CI85: 01-25 | CJ85: 01-26 | CK85: 01-27 | CL85: 01-28 | CM85: 01-29 | CN85: 02-01 | CO85: 02-02 | CP85: 02-03 | CQ85: 02-04 | CR85: 02-05 | CS85: 02-08 | CT85: 02-09 | CU85: 02-10 | CV85: 02-11 | CW85: 02-12
A86: Retail Attention Overnight | B86: ='Pod by trading day'!C462 -> -272.27 | C86: ='Pod by trading day'!D462 | D86: ='Pod by trading day'!E462 | E86: ='Pod by trading day'!F462 | F86: ='Pod by trading day'!G462 | G86: ='Pod by trading day'!H462 | H86: ='Pod by trading day'!I462 | I86: ='Pod by trading day'!J462 | ... CW86: ='Pod by trading day'!CX462
A87: Post-Earnings Drift, Overnight Leg | B87: ='Pod by trading day'!C463 -> 52.29 | C87: ='Pod by trading day'!D463 | D87: ='Pod by trading day'!E463 | E87: ='Pod by trading day'!F463 | F87: ='Pod by trading day'!G463 | G87: ='Pod by trading day'!H463 | H87: ='Pod by trading day'!I463 | I87: ='Pod by trading day'!J463 | ... CW87: ='Pod by trading day'!CX463
A88: Intraday-to-Overnight Reversal | B88: ='Pod by trading day'!C464 -> -74.53 | C88: ='Pod by trading day'!D464 | D88: ='Pod by trading day'!E464 | E88: ='Pod by trading day'!F464 | F88: ='Pod by trading day'!G464 | G88: ='Pod by trading day'!H464 | H88: ='Pod by trading day'!I464 | I88: ='Pod by trading day'!J464 | ... CW88: ='Pod by trading day'!CX464
A89: Analyst Revision Momentum | B89: ='Pod by trading day'!C465 -> -162.85 | C89: ='Pod by trading day'!D465 | D89: ='Pod by trading day'!E465 | E89: ='Pod by trading day'!F465 | F89: ='Pod by trading day'!G465 | G89: ='Pod by trading day'!H465 | H89: ='Pod by trading day'!I465 | I89: ='Pod by trading day'!J465 | ... CW89: ='Pod by trading day'!CX465
A90: Clustered Insider Buying | B90: ='Pod by trading day'!C466 -> 41.95 | C90: ='Pod by trading day'!D466 | D90: ='Pod by trading day'!E466 | E90: ='Pod by trading day'!F466 | F90: ='Pod by trading day'!G466 | G90: ='Pod by trading day'!H466 | H90: ='Pod by trading day'!I466 | I90: ='Pod by trading day'!J466 | ... CW90: ='Pod by trading day'!CX466
A91: Same-Month Seasonality | B91: ='Pod by trading day'!C467 -> -182.98 | C91: ='Pod by trading day'!D467 | D91: ='Pod by trading day'!E467 | E91: ='Pod by trading day'!F467 | F91: ='Pod by trading day'!G467 | G91: ='Pod by trading day'!H467 | H91: ='Pod by trading day'!I467 | I91: ='Pod by trading day'!J467 | ... CW91: ='Pod by trading day'!CX467
A92: Quality at a Reasonable Price | B92: ='Pod by trading day'!C468 -> 1.9 | C92: ='Pod by trading day'!D468 | D92: ='Pod by trading day'!E468 | E92: ='Pod by trading day'!F468 | F92: ='Pod by trading day'!G468 | G92: ='Pod by trading day'!H468 | H92: ='Pod by trading day'!I468 | I92: ='Pod by trading day'!J468 | ... CW92: ='Pod by trading day'!CX468
A93: Residual Momentum | B93: ='Pod by trading day'!C469 -> 48.33 | C93: ='Pod by trading day'!D469 | D93: ='Pod by trading day'!E469 | E93: ='Pod by trading day'!F469 | F93: ='Pod by trading day'!G469 | G93: ='Pod by trading day'!H469 | H93: ='Pod by trading day'!I469 | I93: ='Pod by trading day'!J469 | ... CW93: ='Pod by trading day'!CX469
A94: Overnight Return Persistence | B94: ='Pod by trading day'!C470 -> -85.22 | C94: ='Pod by trading day'!D470 | D94: ='Pod by trading day'!E470 | E94: ='Pod by trading day'!F470 | F94: ='Pod by trading day'!G470 | G94: ='Pod by trading day'!H470 | H94: ='Pod by trading day'!I470 | I94: ='Pod by trading day'!J470 | ... CW94: ='Pod by trading day'!CX470
A95: 52-Week-High Anchoring | B95: ='Pod by trading day'!C471 -> 291.11 | C95: ='Pod by trading day'!D471 | D95: ='Pod by trading day'!E471 | E95: ='Pod by trading day'!F471 | F95: ='Pod by trading day'!G471 | G95: ='Pod by trading day'!H471 | H95: ='Pod by trading day'!I471 | I95: ='Pod by trading day'!J471 | ... CW95: ='Pod by trading day'!CX471
A114: Every cell on this sheet refers to the statement sheets; edit inputs there (blue) and this dashboard follows.

Sheet Pods and positioning
A1: Sector mix of the 100 picks per LLM pod (2026-09-23)
A2: sector | B2: Retail Attention Overnight | C2: Post-Earnings Drift, Overnight Leg | D2: Intraday-to-Overnight Reversal | E2: Analyst Revision Momentum | F2: Clustered Insider Buying | G2: Same-Month Seasonality | H2: Quality at a Reasonable Price | I2: Residual Momentum | J2: Overnight Return Persistence | K2: 52-Week-High Anchoring
A3: Basic Materials | B3: ='Sector mix of picks (2026-09-23'!C7 -> #N/A | C3: ='Sector mix of picks (2026-09-23'!C8 -> #N/A | D3: ='Sector mix of picks (2026-09-23'!C9 -> #N/A | E3: ='Sector mix of picks (2026-09-23'!C10 -> #N/A | F3: ='Sector mix of picks (2026-09-23'!C11 -> #N/A | G3: ='Sector mix of picks (2026-09-23'!C12 -> #N/A | H3: ='Sector mix of picks (2026-09-23'!C13 -> #N/A | I3: ='Sector mix of picks (2026-09-23'!C14 -> #N/A | J3: ='Sector mix of picks (2026-09-23'!C15 -> #N/A | K3: ='Sector mix of picks (2026-09-23'!C16 -> #N/A
A4: Communication Services | B4: ='Sector mix of picks (2026-09-23'!D7 -> #N/A | C4: ='Sector mix of picks (2026-09-23'!D8 -> #N/A | D4: ='Sector mix of picks (2026-09-23'!D9 -> #N/A | E4: ='Sector mix of picks (2026-09-23'!D10 -> #N/A | F4: ='Sector mix of picks (2026-09-23'!D11 -> #N/A | G4: ='Sector mix of picks (2026-09-23'!D12 -> #N/A | H4: ='Sector mix of picks (2026-09-23'!D13 -> #N/A | I4: ='Sector mix of picks (2026-09-23'!D14 -> #N/A | J4: ='Sector mix of picks (2026-09-23'!D15 -> #N/A | K4: ='Sector mix of picks (2026-09-23'!D16 -> #N/A
A5: Consumer Cyclical | B5: ='Sector mix of picks (2026-09-23'!E7 -> #N/A | C5: ='Sector mix of picks (2026-09-23'!E8 -> #N/A | D5: ='Sector mix of picks (2026-09-23'!E9 -> #N/A | E5: ='Sector mix of picks (2026-09-23'!E10 -> #N/A | F5: ='Sector mix of picks (2026-09-23'!E11 -> #N/A | G5: ='Sector mix of picks (2026-09-23'!E12 -> #N/A | H5: ='Sector mix of picks (2026-09-23'!E13 -> #N/A | I5: ='Sector mix of picks (2026-09-23'!E14 -> #N/A | J5: ='Sector mix of picks (2026-09-23'!E15 -> #N/A | K5: ='Sector mix of picks (2026-09-23'!E16 -> #N/A
A6: Consumer Defensive | B6: ='Sector mix of picks (2026-09-23'!F7 -> #N/A | C6: ='Sector mix of picks (2026-09-23'!F8 -> #N/A | D6: ='Sector mix of picks (2026-09-23'!F9 -> #N/A | E6: ='Sector mix of picks (2026-09-23'!F10 -> #N/A | F6: ='Sector mix of picks (2026-09-23'!F11 -> #N/A | G6: ='Sector mix of picks (2026-09-23'!F12 -> #N/A | H6: ='Sector mix of picks (2026-09-23'!F13 -> #N/A | I6: ='Sector mix of picks (2026-09-23'!F14 -> #N/A | J6: ='Sector mix of picks (2026-09-23'!F15 -> #N/A | K6: ='Sector mix of picks (2026-09-23'!F16 -> #N/A
A7: Energy | B7: ='Sector mix of picks (2026-09-23'!G7 -> #N/A | C7: ='Sector mix of picks (2026-09-23'!G8 -> #N/A | D7: ='Sector mix of picks (2026-09-23'!G9 -> #N/A | E7: ='Sector mix of picks (2026-09-23'!G10 -> #N/A | F7: ='Sector mix of picks (2026-09-23'!G11 -> #N/A | G7: ='Sector mix of picks (2026-09-23'!G12 -> #N/A | H7: ='Sector mix of picks (2026-09-23'!G13 -> #N/A | I7: ='Sector mix of picks (2026-09-23'!G14 -> #N/A | J7: ='Sector mix of picks (2026-09-23'!G15 -> #N/A | K7: ='Sector mix of picks (2026-09-23'!G16 -> #N/A
A8: Financial Services | B8: ='Sector mix of picks (2026-09-23'!H7 -> #N/A | C8: ='Sector mix of picks (2026-09-23'!H8 -> #N/A | D8: ='Sector mix of picks (2026-09-23'!H9 -> #N/A | E8: ='Sector mix of picks (2026-09-23'!H10 -> #N/A | F8: ='Sector mix of picks (2026-09-23'!H11 -> #N/A | G8: ='Sector mix of picks (2026-09-23'!H12 -> #N/A | H8: ='Sector mix of picks (2026-09-23'!H13 -> #N/A | I8: ='Sector mix of picks (2026-09-23'!H14 -> #N/A | J8: ='Sector mix of picks (2026-09-23'!H15 -> #N/A | K8: ='Sector mix of picks (2026-09-23'!H16 -> #N/A
A9: Healthcare | B9: ='Sector mix of picks (2026-09-23'!I7 -> #N/A | C9: ='Sector mix of picks (2026-09-23'!I8 -> #N/A | D9: ='Sector mix of picks (2026-09-23'!I9 -> #N/A | E9: ='Sector mix of picks (2026-09-23'!I10 -> #N/A | F9: ='Sector mix of picks (2026-09-23'!I11 -> #N/A | G9: ='Sector mix of picks (2026-09-23'!I12 -> #N/A | H9: ='Sector mix of picks (2026-09-23'!I13 -> #N/A | I9: ='Sector mix of picks (2026-09-23'!I14 -> #N/A | J9: ='Sector mix of picks (2026-09-23'!I15 -> #N/A | K9: ='Sector mix of picks (2026-09-23'!I16 -> #N/A
A10: Industrials | B10: ='Sector mix of picks (2026-09-23'!J7 -> #N/A | C10: ='Sector mix of picks (2026-09-23'!J8 -> #N/A | D10: ='Sector mix of picks (2026-09-23'!J9 -> #N/A | E10: ='Sector mix of picks (2026-09-23'!J10 -> #N/A | F10: ='Sector mix of picks (2026-09-23'!J11 -> #N/A | G10: ='Sector mix of picks (2026-09-23'!J12 -> #N/A | H10: ='Sector mix of picks (2026-09-23'!J13 -> #N/A | I10: ='Sector mix of picks (2026-09-23'!J14 -> #N/A | J10: ='Sector mix of picks (2026-09-23'!J15 -> #N/A | K10: ='Sector mix of picks (2026-09-23'!J16 -> #N/A
A11: Real Estate | B11: ='Sector mix of picks (2026-09-23'!K7 -> #N/A | C11: ='Sector mix of picks (2026-09-23'!K8 -> #N/A | D11: ='Sector mix of picks (2026-09-23'!K9 -> #N/A | E11: ='Sector mix of picks (2026-09-23'!K10 -> #N/A | F11: ='Sector mix of picks (2026-09-23'!K11 -> #N/A | G11: ='Sector mix of picks (2026-09-23'!K12 -> #N/A | H11: ='Sector mix of picks (2026-09-23'!K13 -> #N/A | I11: ='Sector mix of picks (2026-09-23'!K14 -> #N/A | J11: ='Sector mix of picks (2026-09-23'!K15 -> #N/A | K11: ='Sector mix of picks (2026-09-23'!K16 -> #N/A
A12: Technology | B12: ='Sector mix of picks (2026-09-23'!L7 -> #N/A | C12: ='Sector mix of picks (2026-09-23'!L8 -> #N/A | D12: ='Sector mix of picks (2026-09-23'!L9 -> #N/A | E12: ='Sector mix of picks (2026-09-23'!L10 -> #N/A | F12: ='Sector mix of picks (2026-09-23'!L11 -> #N/A | G12: ='Sector mix of picks (2026-09-23'!L12 -> #N/A | H12: ='Sector mix of picks (2026-09-23'!L13 -> #N/A | I12: ='Sector mix of picks (2026-09-23'!L14 -> #N/A | J12: ='Sector mix of picks (2026-09-23'!L15 -> #N/A | K12: ='Sector mix of picks (2026-09-23'!L16 -> #N/A
A13: Utilities | B13: ='Sector mix of picks (2026-09-23'!M7 -> #N/A | C13: ='Sector mix of picks (2026-09-23'!M8 -> #N/A | D13: ='Sector mix of picks (2026-09-23'!M9 -> #N/A | E13: ='Sector mix of picks (2026-09-23'!M10 -> #N/A | F13: ='Sector mix of picks (2026-09-23'!M11 -> #N/A | G13: ='Sector mix of picks (2026-09-23'!M12 -> #N/A | H13: ='Sector mix of picks (2026-09-23'!M13 -> #N/A | I13: ='Sector mix of picks (2026-09-23'!M14 -> #N/A | J13: ='Sector mix of picks (2026-09-23'!M15 -> #N/A | K13: ='Sector mix of picks (2026-09-23'!M16 -> #N/A
A32: Shared picks between LLM pods (100 = identical books; ~7 = chance)
A33: pod_a | B33: Retail Attention Overnight | C33: Post-Earnings Drift, Overnight Leg | D33: Intraday-to-Overnight Reversal | E33: Analyst Revision Momentum | F33: Clustered Insider Buying | G33: Same-Month Seasonality | H33: Quality at a Reasonable Price | I33: Residual Momentum | J33: Overnight Return Persistence | K33: 52-Week-High Anchoring
A34: Retail Attention Overnight | B34: ='Pick overlap between LLM pods ('!C2 -> 100 | C34: ='Pick overlap between LLM pods ('!D2 -> 6 | D34: ='Pick overlap between LLM pods ('!E2 -> 23 | E34: ='Pick overlap between LLM pods ('!F2 -> 9 | F34: ='Pick overlap between LLM pods ('!G2 -> 6 | G34: ='Pick overlap between LLM pods ('!H2 -> 10 | H34: ='Pick overlap between LLM pods ('!I2 -> 8 | I34: ='Pick overlap between LLM pods ('!J2 -> 8 | ... K34: ='Pick overlap between LLM pods ('!L2 -> 13
A35: Post-Earnings Drift, Overnight Leg | B35: ='Pick overlap between LLM pods ('!C3 -> 6 | C35: ='Pick overlap between LLM pods ('!D3 -> 100 | D35: ='Pick overlap between LLM pods ('!E3 -> 5 | E35: ='Pick overlap between LLM pods ('!F3 -> 6 | F35: ='Pick overlap between LLM pods ('!G3 -> 12 | G35: ='Pick overlap between LLM pods ('!H3 -> 7 | H35: ='Pick overlap between LLM pods ('!I3 -> 4 | I35: ='Pick overlap between LLM pods ('!J3 -> 3 | ... K35: ='Pick overlap between LLM pods ('!L3 -> 8
A36: Intraday-to-Overnight Reversal | B36: ='Pick overlap between LLM pods ('!C4 -> 23 | C36: ='Pick overlap between LLM pods ('!D4 -> 5 | D36: ='Pick overlap between LLM pods ('!E4 -> 100 | E36: ='Pick overlap between LLM pods ('!F4 -> 4 | F36: ='Pick overlap between LLM pods ('!G4 -> 8 | G36: ='Pick overlap between LLM pods ('!H4 -> 12 | H36: ='Pick overlap between LLM pods ('!I4 -> 14 | I36: ='Pick overlap between LLM pods ('!J4 -> 18 | ... K36: ='Pick overlap between LLM pods ('!L4 -> 4
A37: Analyst Revision Momentum | B37: ='Pick overlap between LLM pods ('!C5 -> 9 | C37: ='Pick overlap between LLM pods ('!D5 -> 6 | D37: ='Pick overlap between LLM pods ('!E5 -> 4 | E37: ='Pick overlap between LLM pods ('!F5 -> 100 | F37: ='Pick overlap between LLM pods ('!G5 -> 7 | G37: ='Pick overlap between LLM pods ('!H5 -> 11 | H37: ='Pick overlap between LLM pods ('!I5 -> 6 | I37: ='Pick overlap between LLM pods ('!J5 -> 2 | ... K37: ='Pick overlap between LLM pods ('!L5 -> 13
A38: Clustered Insider Buying | B38: ='Pick overlap between LLM pods ('!C6 -> 6 | C38: ='Pick overlap between LLM pods ('!D6 -> 12 | D38: ='Pick overlap between LLM pods ('!E6 -> 8 | E38: ='Pick overlap between LLM pods ('!F6 -> 7 | F38: ='Pick overlap between LLM pods ('!G6 -> 100 | G38: ='Pick overlap between LLM pods ('!H6 -> 5 | H38: ='Pick overlap between LLM pods ('!I6 -> 7 | I38: ='Pick overlap between LLM pods ('!J6 -> 10 | ... K38: ='Pick overlap between LLM pods ('!L6 -> 10
A39: Same-Month Seasonality | B39: ='Pick overlap between LLM pods ('!C7 -> 10 | C39: ='Pick overlap between LLM pods ('!D7 -> 7 | D39: ='Pick overlap between LLM pods ('!E7 -> 12 | E39: ='Pick overlap between LLM pods ('!F7 -> 11 | F39: ='Pick overlap between LLM pods ('!G7 -> 5 | G39: ='Pick overlap between LLM pods ('!H7 -> 100 | H39: ='Pick overlap between LLM pods ('!I7 -> 4 | I39: ='Pick overlap between LLM pods ('!J7 -> 3 | ... K39: ='Pick overlap between LLM pods ('!L7 -> 3
A40: Quality at a Reasonable Price | B40: ='Pick overlap between LLM pods ('!C8 -> 8 | C40: ='Pick overlap between LLM pods ('!D8 -> 4 | D40: ='Pick overlap between LLM pods ('!E8 -> 14 | E40: ='Pick overlap between LLM pods ('!F8 -> 6 | F40: ='Pick overlap between LLM pods ('!G8 -> 7 | G40: ='Pick overlap between LLM pods ('!H8 -> 4 | H40: ='Pick overlap between LLM pods ('!I8 -> 100 | I40: ='Pick overlap between LLM pods ('!J8 -> 12 | ... K40: ='Pick overlap between LLM pods ('!L8 -> 5
A41: Residual Momentum | B41: ='Pick overlap between LLM pods ('!C9 -> 8 | C41: ='Pick overlap between LLM pods ('!D9 -> 3 | D41: ='Pick overlap between LLM pods ('!E9 -> 18 | E41: ='Pick overlap between LLM pods ('!F9 -> 2 | F41: ='Pick overlap between LLM pods ('!G9 -> 10 | G41: ='Pick overlap between LLM pods ('!H9 -> 3 | H41: ='Pick overlap between LLM pods ('!I9 -> 12 | I41: ='Pick overlap between LLM pods ('!J9 -> 100 | ... K41: ='Pick overlap between LLM pods ('!L9 -> 0
A42: Overnight Return Persistence | B42: ='Pick overlap between LLM pods ('!C10 -> 2 | C42: ='Pick overlap between LLM pods ('!D10 -> 9 | D42: ='Pick overlap between LLM pods ('!E10 -> 11 | E42: ='Pick overlap between LLM pods ('!F10 -> 13 | F42: ='Pick overlap between LLM pods ('!G10 -> 10 | G42: ='Pick overlap between LLM pods ('!H10 -> 11 | H42: ='Pick overlap between LLM pods ('!I10 -> 2 | I42: ='Pick overlap between LLM pods ('!J10 -> 9 | ... K42: ='Pick overlap between LLM pods ('!L10 -> 10
A43: 52-Week-High Anchoring | B43: ='Pick overlap between LLM pods ('!C11 -> 13 | C43: ='Pick overlap between LLM pods ('!D11 -> 8 | D43: ='Pick overlap between LLM pods ('!E11 -> 4 | E43: ='Pick overlap between LLM pods ('!F11 -> 13 | F43: ='Pick overlap between LLM pods ('!G11 -> 10 | G43: ='Pick overlap between LLM pods ('!H11 -> 3 | H43: ='Pick overlap between LLM pods ('!I11 -> 5 | I43: ='Pick overlap between LLM pods ('!J11 -> 0 | ... K43: ='Pick overlap between LLM pods ('!L11 -> 100
A45: Running t-stat by LLM pod
A46: pod | B46: 09-22 | C46: 09-23 | D46: 09-24 | E46: 09-25 | F46: 09-28 | G46: 09-29 | H46: 09-30 | I46: 10-01 | J46: 10-02 | K46: 10-05 | L46: 10-06 | M46: 10-07 | N46: 10-08 | O46: 10-09 | P46: 10-12 | Q46: 10-13 | R46: 10-14 | S46: 10-15 | T46: 10-16 | U46: 10-19 | V46: 10-20 | W46: 10-21 | X46: 10-22 | Y46: 10-23 | Z46: 10-26 | AA46: 10-27 | AB46: 10-28 | AC46: 10-29 | AD46: 10-30 | AE46: 11-02 | AF46: 11-03 | AG46: 11-04 | AH46: 11-05 | AI46: 11-06 | AJ46: 11-09 | AK46: 11-10 | AL46: 11-11 | AM46: 11-12 | AN46: 11-13 | AO46: 11-16 | AP46: 11-17 | AQ46: 11-18 | AR46: 11-19 | AS46: 11-20 | AT46: 11-23 | AU46: 11-24 | AV46: 11-25 | AW46: 11-27 | AX46: 11-30 | AY46: 12-01 | AZ46: 12-02 | BA46: 12-03 | BB46: 12-04 | BC46: 12-07 | BD46: 12-08 | BE46: 12-09 | BF46: 12-10 | BG46: 12-11 | BH46: 12-14 | BI46: 12-15 | BJ46: 12-16 | BK46: 12-17 | BL46: 12-18 | BM46: 12-21 | BN46: 12-22 | BO46: 12-23 | BP46: 12-24 | BQ46: 12-28 | BR46: 12-29 | BS46: 12-30 | BT46: 12-31 | BU46: 01-04 | BV46: 01-05 | BW46: 01-06 | BX46: 01-07 | BY46: 01-08 | BZ46: 01-11 | CA46: 01-12 | CB46: 01-13 | CC46: 01-14 | CD46: 01-15 | CE46: 01-19 | CF46: 01-20 | CG46: 01-21 | CH46: 01-22 | CI46: 01-25 | CJ46: 01-26 | CK46: 01-27 | CL46: 01-28 | CM46: 01-29 | CN46: 02-01 | CO46: 02-02 | CP46: 02-03 | CQ46: 02-04 | CR46: 02-05 | CS46: 02-08 | CT46: 02-09 | CU46: 02-10 | CV46: 02-11 | CW46: 02-12
A47: Retail Attention Overnight | B47: ='Pod by trading day'!C392 | C47: ='Pod by trading day'!D392 | D47: ='Pod by trading day'!E392 | E47: ='Pod by trading day'!F392 | F47: ='Pod by trading day'!G392 | G47: ='Pod by trading day'!H392 | H47: ='Pod by trading day'!I392 | I47: ='Pod by trading day'!J392 | ... CW47: ='Pod by trading day'!CX392
A48: Post-Earnings Drift, Overnight Leg | B48: ='Pod by trading day'!C393 | C48: ='Pod by trading day'!D393 | D48: ='Pod by trading day'!E393 | E48: ='Pod by trading day'!F393 | F48: ='Pod by trading day'!G393 | G48: ='Pod by trading day'!H393 | H48: ='Pod by trading day'!I393 | I48: ='Pod by trading day'!J393 | ... CW48: ='Pod by trading day'!CX393
A49: Intraday-to-Overnight Reversal | B49: ='Pod by trading day'!C394 | C49: ='Pod by trading day'!D394 | D49: ='Pod by trading day'!E394 | E49: ='Pod by trading day'!F394 | F49: ='Pod by trading day'!G394 | G49: ='Pod by trading day'!H394 | H49: ='Pod by trading day'!I394 | I49: ='Pod by trading day'!J394 | ... CW49: ='Pod by trading day'!CX394
A50: Analyst Revision Momentum | B50: ='Pod by trading day'!C395 | C50: ='Pod by trading day'!D395 | D50: ='Pod by trading day'!E395 | E50: ='Pod by trading day'!F395 | F50: ='Pod by trading day'!G395 | G50: ='Pod by trading day'!H395 | H50: ='Pod by trading day'!I395 | I50: ='Pod by trading day'!J395 | ... CW50: ='Pod by trading day'!CX395
A51: Clustered Insider Buying | B51: ='Pod by trading day'!C396 | C51: ='Pod by trading day'!D396 | D51: ='Pod by trading day'!E396 | E51: ='Pod by trading day'!F396 | F51: ='Pod by trading day'!G396 | G51: ='Pod by trading day'!H396 | H51: ='Pod by trading day'!I396 | I51: ='Pod by trading day'!J396 | ... CW51: ='Pod by trading day'!CX396
A52: Same-Month Seasonality | B52: ='Pod by trading day'!C397 | C52: ='Pod by trading day'!D397 | D52: ='Pod by trading day'!E397 | E52: ='Pod by trading day'!F397 | F52: ='Pod by trading day'!G397 | G52: ='Pod by trading day'!H397 | H52: ='Pod by trading day'!I397 | I52: ='Pod by trading day'!J397 | ... CW52: ='Pod by trading day'!CX397
A53: Quality at a Reasonable Price | B53: ='Pod by trading day'!C398 | C53: ='Pod by trading day'!D398 | D53: ='Pod by trading day'!E398 | E53: ='Pod by trading day'!F398 | F53: ='Pod by trading day'!G398 | G53: ='Pod by trading day'!H398 | H53: ='Pod by trading day'!I398 | I53: ='Pod by trading day'!J398 | ... CW53: ='Pod by trading day'!CX398
A54: Residual Momentum | B54: ='Pod by trading day'!C399 | C54: ='Pod by trading day'!D399 | D54: ='Pod by trading day'!E399 | E54: ='Pod by trading day'!F399 | F54: ='Pod by trading day'!G399 | G54: ='Pod by trading day'!H399 | H54: ='Pod by trading day'!I399 | I54: ='Pod by trading day'!J399 | ... CW54: ='Pod by trading day'!CX399
A55: Overnight Return Persistence | B55: ='Pod by trading day'!C400 | C55: ='Pod by trading day'!D400 | D55: ='Pod by trading day'!E400 | E55: ='Pod by trading day'!F400 | F55: ='Pod by trading day'!G400 | G55: ='Pod by trading day'!H400 | H55: ='Pod by trading day'!I400 | I55: ='Pod by trading day'!J400 | ... CW55: ='Pod by trading day'!CX400
A56: 52-Week-High Anchoring | B56: ='Pod by trading day'!C401 | C56: ='Pod by trading day'!D401 | D56: ='Pod by trading day'!E401 | E56: ='Pod by trading day'!F401 | F56: ='Pod by trading day'!G401 | G56: ='Pod by trading day'!H401 | H56: ='Pod by trading day'!I401 | I56: ='Pod by trading day'!J401 | ... CW56: ='Pod by trading day'!CX401
A75: Cumulative excess, realized then projected at the running mean (bps)
A76: pod | B76: 09-22 | C76: 09-23 | D76: 09-24 | E76: 09-25 | F76: 09-28 | G76: 09-29 | H76: 09-30 | I76: 10-01 | J76: 10-02 | K76: 10-05 | L76: 10-06 | M76: 10-07 | N76: 10-08 | O76: 10-09 | P76: 10-12 | Q76: 10-13 | R76: 10-14 | S76: 10-15 | T76: 10-16 | U76: 10-19 | V76: 10-20 | W76: 10-21 | X76: 10-22 | Y76: 10-23 | Z76: 10-26 | AA76: 10-27 | AB76: 10-28 | AC76: 10-29 | AD76: 10-30 | AE76: 11-02 | AF76: 11-03 | AG76: 11-04 | AH76: 11-05 | AI76: 11-06 | AJ76: 11-09 | AK76: 11-10 | AL76: 11-11 | AM76: 11-12 | AN76: 11-13 | AO76: 11-16 | AP76: 11-17 | AQ76: 11-18 | AR76: 11-19 | AS76: 11-20 | AT76: 11-23 | AU76: 11-24 | AV76: 11-25 | AW76: 11-27 | AX76: 11-30 | AY76: 12-01 | AZ76: 12-02 | BA76: 12-03 | BB76: 12-04 | BC76: 12-07 | BD76: 12-08 | BE76: 12-09 | BF76: 12-10 | BG76: 12-11 | BH76: 12-14 | BI76: 12-15 | BJ76: 12-16 | BK76: 12-17 | BL76: 12-18 | BM76: 12-21 | BN76: 12-22 | BO76: 12-23 | BP76: 12-24 | BQ76: 12-28 | BR76: 12-29 | BS76: 12-30 | BT76: 12-31 | BU76: 01-04 | BV76: 01-05 | BW76: 01-06 | BX76: 01-07 | BY76: 01-08 | BZ76: 01-11 | CA76: 01-12 | CB76: 01-13 | CC76: 01-14 | CD76: 01-15 | CE76: 01-19 | CF76: 01-20 | CG76: 01-21 | CH76: 01-22 | CI76: 01-25 | CJ76: 01-26 | CK76: 01-27 | CL76: 01-28 | CM76: 01-29 | CN76: 02-01 | CO76: 02-02 | CP76: 02-03 | CQ76: 02-04 | CR76: 02-05 | CS76: 02-08 | CT76: 02-09 | CU76: 02-10 | CV76: 02-11 | CW76: 02-12
A77: Retail Attention Overnight | B77: ='Pod by trading day'!C497 -> -19.56 | C77: ='Pod by trading day'!D497 -> -39.12 | D77: ='Pod by trading day'!E497 -> -58.68 | E77: ='Pod by trading day'!F497 -> -78.24 | F77: ='Pod by trading day'!G497 -> -97.8 | G77: ='Pod by trading day'!H497 -> -117.36 | H77: ='Pod by trading day'!I497 -> -136.92 | I77: ='Pod by trading day'!J497 -> -156.48 | ... CW77: ='Pod by trading day'!CX497 -> -1956
...

Sheet Assumptions (edit)
A1: line | B1: value
A2: LLM price, $ per M input tokens | B2: 0.25
A3: LLM price, $ per M output tokens | B3: 0.69
A4: Assumed round-trip cost, bps | B4: 10
A5: t-stat required to call it skill | B5: 3
A6: Watch horizon, trading days | B6: 100
A7: Notional per pod, $ | B7: 100000

Sheet Pod by trading day
A1: line | B1: pod | C1: 09-22 | D1: 09-23 | E1: 09-24 | F1: 09-25 | G1: 09-28 | H1: 09-29 | I1: 09-30 | J1: 10-01 | K1: 10-02 | L1: 10-05 | M1: 10-06 | N1: 10-07 | O1: 10-08 | P1: 10-09 | Q1: 10-12 | R1: 10-13 | S1: 10-14 | T1: 10-15 | U1: 10-16 | V1: 10-19 | W1: 10-20 | X1: 10-21 | Y1: 10-22 | Z1: 10-23 | AA1: 10-26 | AB1: 10-27 | AC1: 10-28 | AD1: 10-29 | AE1: 10-30 | AF1: 11-02 | AG1: 11-03 | AH1: 11-04 | AI1: 11-05 | AJ1: 11-06 | AK1: 11-09 | AL1: 11-10 | AM1: 11-11 | AN1: 11-12 | AO1: 11-13 | AP1: 11-16 | AQ1: 11-17 | AR1: 11-18 | AS1: 11-19 | AT1: 11-20 | AU1: 11-23 | AV1: 11-24 | AW1: 11-25 | AX1: 11-27 | AY1: 11-30 | AZ1: 12-01 | BA1: 12-02 | BB1: 12-03 | BC1: 12-04 | BD1: 12-07 | BE1: 12-08 | BF1: 12-09 | BG1: 12-10 | BH1: 12-11 | BI1: 12-14 | BJ1: 12-15 | BK1: 12-16 | BL1: 12-17 | BM1: 12-18 | BN1: 12-21 | BO1: 12-22 | BP1: 12-23 | BQ1: 12-24 | BR1: 12-28 | BS1: 12-29 | BT1: 12-30 | BU1: 12-31 | BV1: 01-04 | BW1: 01-05 | BX1: 01-06 | BY1: 01-07 | BZ1: 01-08 | CA1: 01-11 | CB1: 01-12 | CC1: 01-13 | CD1: 01-14 | CE1: 01-15 | CF1: 01-19 | CG1: 01-20 | CH1: 01-21 | CI1: 01-22 | CJ1: 01-25 | CK1: 01-26 | CL1: 01-27 | CM1: 01-28 | CN1: 01-29 | CO1: 02-01 | CP1: 02-02 | CQ1: 02-03 | CR1: 02-04 | CS1: 02-05 | CT1: 02-08 | CU1: 02-09 | CV1: 02-10 | CW1: 02-11 | CX1: 02-12
