Workbook

Sheet Same-Month Seasonality
A1: Evaluated days
A2: line | B2: value
A3: Evaluated days | B3: ='Summary'!B2 -> 1
A5: Mean excess (bps/day)
A6: line | B6: value
A7: Mean sector-neutral excess, bps/day | B7: ='Summary'!B3 -> -21.574
A9: t-stat (skill bar: 3)
A10: line | B10: value
A11: t-stat | B11: ='Summary'!B11
A13: Random pods mean (bps/day)
A14: line | B14: value
A15: Random pods: mean, bps/day | B15: ='Summary'!B12 -> 0.827
A17: Cumulative sector-neutral excess vs the random-pod average (bps)
A18: line | B18: 09-22 | C18: 09-23 | D18: 09-24 | E18: 09-25 | F18: 09-28 | G18: 09-29 | H18: 09-30 | I18: 10-01 | J18: 10-02 | K18: 10-05 | L18: 10-06 | M18: 10-07 | N18: 10-08 | O18: 10-09 | P18: 10-12 | Q18: 10-13 | R18: 10-14 | S18: 10-15 | T18: 10-16 | U18: 10-19 | V18: 10-20 | W18: 10-21 | X18: 10-22 | Y18: 10-23 | Z18: 10-26 | AA18: 10-27 | AB18: 10-28 | AC18: 10-29 | AD18: 10-30 | AE18: 11-02 | AF18: 11-03 | AG18: 11-04 | AH18: 11-05 | AI18: 11-06 | AJ18: 11-09 | AK18: 11-10 | AL18: 11-11 | AM18: 11-12 | AN18: 11-13 | AO18: 11-16 | AP18: 11-17 | AQ18: 11-18 | AR18: 11-19 | AS18: 11-20 | AT18: 11-23 | AU18: 11-24 | AV18: 11-25 | AW18: 11-27 | AX18: 11-30 | AY18: 12-01 | AZ18: 12-02 | BA18: 12-03 | BB18: 12-04 | BC18: 12-07 | BD18: 12-08 | BE18: 12-09 | BF18: 12-10 | BG18: 12-11 | BH18: 12-14 | BI18: 12-15 | BJ18: 12-16 | BK18: 12-17 | BL18: 12-18 | BM18: 12-21 | BN18: 12-22 | BO18: 12-23 | BP18: 12-24 | BQ18: 12-28 | BR18: 12-29 | BS18: 12-30 | BT18: 12-31 | BU18: 01-04 | BV18: 01-05 | BW18: 01-06 | BX18: 01-07 | BY18: 01-08 | BZ18: 01-11 | CA18: 01-12 | CB18: 01-13 | CC18: 01-14 | CD18: 01-15 | CE18: 01-19 | CF18: 01-20 | CG18: 01-21 | CH18: 01-22 | CI18: 01-25 | CJ18: 01-26 | CK18: 01-27 | CL18: 01-28 | CM18: 01-29 | CN18: 02-01 | CO18: 02-02 | CP18: 02-03 | CQ18: 02-04 | CR18: 02-05 | CS18: 02-08 | CT18: 02-09 | CU18: 02-10 | CV18: 02-11 | CW18: 02-12
A19: Cumulative excess, bps | B19: ='By trading day'!B9 -> -21.574 | C19: ='By trading day'!C9 | D19: ='By trading day'!D9 | E19: ='By trading day'!E9 | F19: ='By trading day'!F9 | G19: ='By trading day'!G9 | H19: ='By trading day'!H9 | I19: ='By trading day'!I9 | ... CW19: ='By trading day'!CW9
A20: Random pods: cumulative average, bps | B20: ='By trading day'!B10 -> 0.827 | C20: ='By trading day'!C10 | D20: ='By trading day'!D10 | E20: ='By trading day'!E10 | F20: ='By trading day'!F10 | G20: ='By trading day'!G10 | H20: ='By trading day'!H10 | I20: ='By trading day'!I10 | ... CW20: ='By trading day'!CW10
A39: Daily excess vs random average and best random pod (bps)
A40: line | B40: 09-22 | C40: 09-23 | D40: 09-24 | E40: 09-25 | F40: 09-28 | G40: 09-29 | H40: 09-30 | I40: 10-01 | J40: 10-02 | K40: 10-05 | L40: 10-06 | M40: 10-07 | N40: 10-08 | O40: 10-09 | P40: 10-12 | Q40: 10-13 | R40: 10-14 | S40: 10-15 | T40: 10-16 | U40: 10-19 | V40: 10-20 | W40: 10-21 | X40: 10-22 | Y40: 10-23 | Z40: 10-26 | AA40: 10-27 | AB40: 10-28 | AC40: 10-29 | AD40: 10-30 | AE40: 11-02 | AF40: 11-03 | AG40: 11-04 | AH40: 11-05 | AI40: 11-06 | AJ40: 11-09 | AK40: 11-10 | AL40: 11-11 | AM40: 11-12 | AN40: 11-13 | AO40: 11-16 | AP40: 11-17 | AQ40: 11-18 | AR40: 11-19 | AS40: 11-20 | AT40: 11-23 | AU40: 11-24 | AV40: 11-25 | AW40: 11-27 | AX40: 11-30 | AY40: 12-01 | AZ40: 12-02 | BA40: 12-03 | BB40: 12-04 | BC40: 12-07 | BD40: 12-08 | BE40: 12-09 | BF40: 12-10 | BG40: 12-11 | BH40: 12-14 | BI40: 12-15 | BJ40: 12-16 | BK40: 12-17 | BL40: 12-18 | BM40: 12-21 | BN40: 12-22 | BO40: 12-23 | BP40: 12-24 | BQ40: 12-28 | BR40: 12-29 | BS40: 12-30 | BT40: 12-31 | BU40: 01-04 | BV40: 01-05 | BW40: 01-06 | BX40: 01-07 | BY40: 01-08 | BZ40: 01-11 | CA40: 01-12 | CB40: 01-13 | CC40: 01-14 | CD40: 01-15 | CE40: 01-19 | CF40: 01-20 | CG40: 01-21 | CH40: 01-22 | CI40: 01-25 | CJ40: 01-26 | CK40: 01-27 | CL40: 01-28 | CM40: 01-29 | CN40: 02-01 | CO40: 02-02 | CP40: 02-03 | CQ40: 02-04 | CR40: 02-05 | CS40: 02-08 | CT40: 02-09 | CU40: 02-10 | CV40: 02-11 | CW40: 02-12
A41: Sector-neutral overnight excess, bps | B41: ='By trading day'!B2 -> -21.574 | C41: ='By trading day'!C2 | D41: ='By trading day'!D2 | E41: ='By trading day'!E2 | F41: ='By trading day'!F2 | G41: ='By trading day'!G2 | H41: ='By trading day'!H2 | I41: ='By trading day'!I2 | ... CW41: ='By trading day'!CW2
A42: Random pods: average, bps | B42: ='By trading day'!B4 -> 0.827 | C42: ='By trading day'!C4 | D42: ='By trading day'!D4 | E42: ='By trading day'!E4 | F42: ='By trading day'!F4 | G42: ='By trading day'!G4 | H42: ='By trading day'!H4 | I42: ='By trading day'!I4 | ... CW42: ='By trading day'!CW4
A43: Random pods: best, bps | B43: ='By trading day'!B5 -> 13.888 | C43: ='By trading day'!C5 | D43: ='By trading day'!D5 | E43: ='By trading day'!E5 | F43: ='By trading day'!F5 | G43: ='By trading day'!G5 | H43: ='By trading day'!H5 | I43: ='By trading day'!I5 | ... CW43: ='By trading day'!CW5
A62: Running t-stat
A63: line | B63: 09-22 | C63: 09-23 | D63: 09-24 | E63: 09-25 | F63: 09-28 | G63: 09-29 | H63: 09-30 | I63: 10-01 | J63: 10-02 | K63: 10-05 | L63: 10-06 | M63: 10-07 | N63: 10-08 | O63: 10-09 | P63: 10-12 | Q63: 10-13 | R63: 10-14 | S63: 10-15 | T63: 10-16 | U63: 10-19 | V63: 10-20 | W63: 10-21 | X63: 10-22 | Y63: 10-23 | Z63: 10-26 | AA63: 10-27 | AB63: 10-28 | AC63: 10-29 | AD63: 10-30 | AE63: 11-02 | AF63: 11-03 | AG63: 11-04 | AH63: 11-05 | AI63: 11-06 | AJ63: 11-09 | AK63: 11-10 | AL63: 11-11 | AM63: 11-12 | AN63: 11-13 | AO63: 11-16 | AP63: 11-17 | AQ63: 11-18 | AR63: 11-19 | AS63: 11-20 | AT63: 11-23 | AU63: 11-24 | AV63: 11-25 | AW63: 11-27 | AX63: 11-30 | AY63: 12-01 | AZ63: 12-02 | BA63: 12-03 | BB63: 12-04 | BC63: 12-07 | BD63: 12-08 | BE63: 12-09 | BF63: 12-10 | BG63: 12-11 | BH63: 12-14 | BI63: 12-15 | BJ63: 12-16 | BK63: 12-17 | BL63: 12-18 | BM63: 12-21 | BN63: 12-22 | BO63: 12-23 | BP63: 12-24 | BQ63: 12-28 | BR63: 12-29 | BS63: 12-30 | BT63: 12-31 | BU63: 01-04 | BV63: 01-05 | BW63: 01-06 | BX63: 01-07 | BY63: 01-08 | BZ63: 01-11 | CA63: 01-12 | CB63: 01-13 | CC63: 01-14 | CD63: 01-15 | CE63: 01-19 | CF63: 01-20 | CG63: 01-21 | CH63: 01-22 | CI63: 01-25 | CJ63: 01-26 | CK63: 01-27 | CL63: 01-28 | CM63: 01-29 | CN63: 02-01 | CO63: 02-02 | CP63: 02-03 | CQ63: 02-04 | CR63: 02-05 | CS63: 02-08 | CT63: 02-09 | CU63: 02-10 | CV63: 02-11 | CW63: 02-12
A64: Running t-stat | B64: ='By trading day'!B16 | C64: ='By trading day'!C16 | D64: ='By trading day'!D16 | E64: ='By trading day'!E16 | F64: ='By trading day'!F16 | G64: ='By trading day'!G16 | H64: ='By trading day'!H16 | I64: ='By trading day'!I16 | ... CW64: ='By trading day'!CW16
A83: Cumulative excess, realized then projected at the running mean (bps)
A84: line | B84: 09-22 | C84: 09-23 | D84: 09-24 | E84: 09-25 | F84: 09-28 | G84: 09-29 | H84: 09-30 | I84: 10-01 | J84: 10-02 | K84: 10-05 | L84: 10-06 | M84: 10-07 | N84: 10-08 | O84: 10-09 | P84: 10-12 | Q84: 10-13 | R84: 10-14 | S84: 10-15 | T84: 10-16 | U84: 10-19 | V84: 10-20 | W84: 10-21 | X84: 10-22 | Y84: 10-23 | Z84: 10-26 | AA84: 10-27 | AB84: 10-28 | AC84: 10-29 | AD84: 10-30 | AE84: 11-02 | AF84: 11-03 | AG84: 11-04 | AH84: 11-05 | AI84: 11-06 | AJ84: 11-09 | AK84: 11-10 | AL84: 11-11 | AM84: 11-12 | AN84: 11-13 | AO84: 11-16 | AP84: 11-17 | AQ84: 11-18 | AR84: 11-19 | AS84: 11-20 | AT84: 11-23 | AU84: 11-24 | AV84: 11-25 | AW84: 11-27 | AX84: 11-30 | AY84: 12-01 | AZ84: 12-02 | BA84: 12-03 | BB84: 12-04 | BC84: 12-07 | BD84: 12-08 | BE84: 12-09 | BF84: 12-10 | BG84: 12-11 | BH84: 12-14 | BI84: 12-15 | BJ84: 12-16 | BK84: 12-17 | BL84: 12-18 | BM84: 12-21 | BN84: 12-22 | BO84: 12-23 | BP84: 12-24 | BQ84: 12-28 | BR84: 12-29 | BS84: 12-30 | BT84: 12-31 | BU84: 01-04 | BV84: 01-05 | BW84: 01-06 | BX84: 01-07 | BY84: 01-08 | BZ84: 01-11 | CA84: 01-12 | CB84: 01-13 | CC84: 01-14 | CD84: 01-15 | CE84: 01-19 | CF84: 01-20 | CG84: 01-21 | CH84: 01-22 | CI84: 01-25 | CJ84: 01-26 | CK84: 01-27 | CL84: 01-28 | CM84: 01-29 | CN84: 02-01 | CO84: 02-02 | CP84: 02-03 | CQ84: 02-04 | CR84: 02-05 | CS84: 02-08 | CT84: 02-09 | CU84: 02-10 | CV84: 02-11 | CW84: 02-12
A85: Cumulative excess, realized then projected | B85: ='By trading day'!B18 -> -21.574 | C85: ='By trading day'!C18 -> -43.148 | D85: ='By trading day'!D18 -> -64.722 | E85: ='By trading day'!E18 -> -86.296 | F85: ='By trading day'!F18 -> -107.87 | G85: ='By trading day'!G18 -> -129.444 | H85: ='By trading day'!H18 -> -151.018 | I85: ='By trading day'!I18 -> -172.592 | ... CW85: ='By trading day'!CW18 -> -2157.4
A104: Sector mix of the picks
A105: sector | B105: Picks
A106: Basic Materials | B106: ='Sector mix of picks (2026-09-23'!B2 -> #N/A
A107: Communication Services | B107: ='Sector mix of picks (2026-09-23'!C2 -> #N/A
A108: Consumer Cyclical | B108: ='Sector mix of picks (2026-09-23'!D2 -> #N/A
A109: Consumer Defensive | B109: ='Sector mix of picks (2026-09-23'!E2 -> #N/A
A110: Energy | B110: ='Sector mix of picks (2026-09-23'!F2 -> #N/A
A111: Financial Services | B111: ='Sector mix of picks (2026-09-23'!G2 -> #N/A
A112: Healthcare | B112: ='Sector mix of picks (2026-09-23'!H2 -> #N/A
A113: Industrials | B113: ='Sector mix of picks (2026-09-23'!I2 -> #N/A
A114: Real Estate | B114: ='Sector mix of picks (2026-09-23'!J2 -> #N/A
A115: Technology | B115: ='Sector mix of picks (2026-09-23'!K2 -> #N/A
A116: Utilities | B116: ='Sector mix of picks (2026-09-23'!L2 -> #N/A
...

Sheet Assumptions (edit)
A1: line | B1: value
A2: Assumed round-trip cost, bps | B2: 10
A3: t-stat required to call it skill | B3: 3
A4: Watch horizon, trading days | B4: 100
A5: Notional, $ | B5: 100000

Sheet By trading day
A1: line | B1: 09-22 | C1: 09-23 | D1: 09-24 | E1: 09-25 | F1: 09-28 | G1: 09-29 | H1: 09-30 | I1: 10-01 | J1: 10-02 | K1: 10-05 | L1: 10-06 | M1: 10-07 | N1: 10-08 | O1: 10-09 | P1: 10-12 | Q1: 10-13 | R1: 10-14 | S1: 10-15 | T1: 10-16 | U1: 10-19 | V1: 10-20 | W1: 10-21 | X1: 10-22 | Y1: 10-23 | Z1: 10-26 | AA1: 10-27 | AB1: 10-28 | AC1: 10-29 | AD1: 10-30 | AE1: 11-02 | AF1: 11-03 | AG1: 11-04 | AH1: 11-05 | AI1: 11-06 | AJ1: 11-09 | AK1: 11-10 | AL1: 11-11 | AM1: 11-12 | AN1: 11-13 | AO1: 11-16 | AP1: 11-17 | AQ1: 11-18 | AR1: 11-19 | AS1: 11-20 | AT1: 11-23 | AU1: 11-24 | AV1: 11-25 | AW1: 11-27 | AX1: 11-30 | AY1: 12-01 | AZ1: 12-02 | BA1: 12-03 | BB1: 12-04 | BC1: 12-07 | BD1: 12-08 | BE1: 12-09 | BF1: 12-10 | BG1: 12-11 | BH1: 12-14 | BI1: 12-15 | BJ1: 12-16 | BK1: 12-17 | BL1: 12-18 | BM1: 12-21 | BN1: 12-22 | BO1: 12-23 | BP1: 12-24 | BQ1: 12-28 | BR1: 12-29 | BS1: 12-30 | BT1: 12-31 | BU1: 01-04 | BV1: 01-05 | BW1: 01-06 | BX1: 01-07 | BY1: 01-08 | BZ1: 01-11 | CA1: 01-12 | CB1: 01-13 | CC1: 01-14 | CD1: 01-15 | CE1: 01-19 | CF1: 01-20 | CG1: 01-21 | CH1: 01-22 | CI1: 01-25 | CJ1: 01-26 | CK1: 01-27 | CL1: 01-28 | CM1: 01-29 | CN1: 02-01 | CO1: 02-02 | CP1: 02-03 | CQ1: 02-04 | CR1: 02-05 | CS1: 02-08 | CT1: 02-09 | CU1: 02-10 | CV1: 02-11 | CW1: 02-12
A2: Sector-neutral overnight excess, bps | B2: =IF((1=1),SUMIFS('Daily evaluations'!$C$2:$C$2,'Daily evaluations'!$B$2:$B$2,"=d20260922"),"") -> -21.574 | C2: =IF((0=1),SUMIFS('Daily evaluations'!$C$2:$C$2,'Daily evaluations'!$B$2:$B$2,"=d20260923"),"") | D2: =IF((0=1),SUMIFS('Daily evaluations'!$C$2:$C$2,'Daily evaluations'!$B$2:$B$2,"=d20260924"),"") | E2: =IF((0=1),SUMIFS('Daily evaluations'!$C$2:$C$2,'Daily evaluations'!$B$2:$B$2,"=d20260925"),"") | F2: =IF((0=1),SUMIFS('Daily evaluations'!$C$2:$C$2,'Daily evaluations'!$B$2:$B$2,"=d20260928"),"") | G2: =IF((0=1),SUMIFS('Daily evaluations'!$C$2:$C$2,'Daily evaluations'!$B$2:$B$2,"=d20260929"),"") | H2: =IF((0=1),SUMIFS('Daily evaluations'!$C$2:$C$2,'Daily evaluations'!$B$2:$B$2,"=d20260930"),"") | I2: =IF((0=1),SUMIFS('Daily evaluations'!$C$2:$C$2,'Daily evaluations'!$B$2:$B$2,"=d20261001"),"") | J2: =IF((0=1),SUMIFS('Daily evaluations'!$C$2:$C$2,'Daily evaluations'!$B$2:$B$2,"=d20261002"),"") | K2: =IF((0=1),SUMIFS('Daily evaluations'!$C$2:$C$2,'Daily evaluations'!$B$2:$B$2,"=d20261005"),"") | L2: =IF((0=1),SUMIFS('Daily evaluations'!$C$2:$C$2,'Daily evaluations'!$B$2:$B$2,"=d20261006"),"") | M2: =IF((0=1),SUMIFS('Daily evaluations'!$C$2:$C$2,'Daily evaluations'!$B$2:$B$2,"=d20261007"),"") | N2: =IF((0=1),SUMIFS('Daily evaluations'!$C$2:$C$2,'Daily evaluations'!$B$2:$B$2,"=d20261008"),"") | O2: =IF((0=1),SUMIFS('Daily evaluations'!$C$2:$C$2,'Daily evaluations'!$B$2:$B$2,"=d20261009"),"") | P2: =IF((0=1),SUMIFS('Daily evaluations'!$C$2:$C$2,'Daily evaluations'!$B$2:$B$2,"=d20261012"),"") | Q2: =IF((0=1),SUMIFS('Daily evaluations'!$C$2:$C$2,'Daily evaluations'!$B$2:$B$2,"=d20261013"),"") | R2: =IF((0=1),SUMIFS('Daily evaluations'!$C$2:$C$2,'Daily evaluations'!$B$2:$B$2,"=d20261014"),"") | S2: =IF((0=1),SUMIFS('Daily evaluations'!$C$2:$C$2,'Daily evaluations'!$B$2:$B$2,"=d20261015"),"") | T2: =IF((0=1),SUMIFS('Daily evaluations'!$C$2:$C$2,'Daily evaluations'!$B$2:$B$2,"=d20261016"),"") | U2: =IF((0=1),SUMIFS('Daily evaluations'!$C$2:$C$2,'Daily evaluations'!$B$2:$B$2,"=d20261019"),"") | V2: =IF((0=1),SUMIFS('Daily evaluations'!$C$2:$C$2,'Daily evaluations'!$B$2:$B$2,"=d20261020"),"") | W2: =IF((0=1),SUMIFS('Daily evaluations'!$C$2:$C$2,'Daily evaluations'!$B$2:$B$2,"=d20261021"),"") | X2: =IF((0=1),SUMIFS('Daily evaluations'!$C$2:$C$2,'Daily evaluations'!$B$2:$B$2,"=d20261022"),"") | Y2: =IF((0=1),SUMIFS('Daily evaluations'!$C$2:$C$2,'Daily evaluations'!$B$2:$B$2,"=d20261023"),"") | Z2: =IF((0=1),SUMIFS('Daily evaluations'!$C$2:$C$2,'Daily evaluations'!$B$2:$B$2,"=d20261026"),"") | AA2: =IF((0=1),SUMIFS('Daily evaluations'!$C$2:$C$2,'Daily evaluations'!$B$2:$B$2,"=d20261027"),"") | AB2: =IF((0=1),SUMIFS('Daily evaluations'!$C$2:$C$2,'Daily evaluations'!$B$2:$B$2,"=d20261028"),"") | AC2: =IF((0=1),SUMIFS('Daily evaluations'!$C$2:$C$2,'Daily evaluations'!$B$2:$B$2,"=d20261029"),"") | AD2: =IF((0=1),SUMIFS('Daily evaluations'!$C$2:$C$2,'Daily evaluations'!$B$2:$B$2,"=d20261030"),"") | AE2: =IF((0=1),SUMIFS('Daily evaluations'!$C$2:$C$2,'Daily evaluations'!$B$2:$B$2,"=d20261102"),"") | AF2: =IF((0=1),SUMIFS('Daily evaluations'!$C$2:$C$2,'Daily evaluations'!$B$2:$B$2,"=d20261103"),"") | AG2: =IF((0=1),SUMIFS('Daily evaluations'!$C$2:$C$2,'Daily evaluations'!$B$2:$B$2,"=d20261104"),"") | AH2: =IF((0=1),SUMIFS('Daily evaluations'!$C$2:$C$2,'Daily evaluations'!$B$2:$B$2,"=d20261105"),"") | AI2: =IF((0=1),SUMIFS('Daily evaluations'!$C$2:$C$2,'Daily evaluations'!$B$2:$B$2,"=d20261106"),"") | AJ2: =IF((0=1),SUMIFS('Daily evaluations'!$C$2:$C$2,'Daily evaluations'!$B$2:$B$2,"=d20261109"),"") | AK2: =IF((0=1),SUMIFS('Daily evaluations'!$C$2:$C$2,'Daily evaluations'!$B$2:$B$2,"=d20261110"),"") | AL2: =IF((0=1),SUMIFS('Daily evaluations'!$C$2:$C$2,'Daily evaluations'!$B$2:$B$2,"=d20261111"),"") | AM2: =IF((0=1),SUMIFS('Daily evaluations'!$C$2:$C$2,'Daily evaluations'!$B$2:$B$2,"=d20261112"),"") | AN2: =IF((0=1),SUMIFS('Daily evaluations'!$C$2:$C$2,'Daily evaluations'!$B$2:$B$2,"=d20261113"),"") | AO2: =IF((0=1),SUMIFS('Daily evaluations'!$C$2:$C$2,'Daily evaluations'!$B$2:$B$2,"=d20261116"),"") | AP2: =IF((0=1),SUMIFS('Daily evaluations'!$C$2:$C$2,'Daily evaluations'!$B$2:$B$2,"=d20261117"),"") | AQ2: =IF((0=1),SUMIFS('Daily evaluations'!$C$2:$C$2,'Daily evaluations'!$B$2:$B$2,"=d20261118"),"") | AR2: =IF((0=1),SUMIFS('Daily evaluations'!$C$2:$C$2,'Daily evaluations'!$B$2:$B$2,"=d20261119"),"") | AS2: =IF((0=1),SUMIFS('Daily evaluations'!$C$2:$C$2,'Daily evaluations'!$B$2:$B$2,"=d20261120"),"") | AT2: =IF((0=1),SUMIFS('Daily evaluations'!$C$2:$C$2,'Daily evaluations'!$B$2:$B$2,"=d20261123"),"") | AU2: =IF((0=1),SUMIFS('Daily evaluations'!$C$2:$C$2,'Daily evaluations'!$B$2:$B$2,"=d20261124"),"") | AV2: =IF((0=1),SUMIFS('Daily evaluations'!$C$2:$C$2,'Daily evaluations'!$B$2:$B$2,"=d20261125"),"") | AW2: =IF((0=1),SUMIFS('Daily evaluations'!$C$2:$C$2,'Daily evaluations'!$B$2:$B$2,"=d20261127"),"") | AX2: =IF((0=1),SUMIFS('Daily evaluations'!$C$2:$C$2,'Daily evaluations'!$B$2:$B$2,"=d20261130"),"") | AY2: =IF((0=1),SUMIFS('Daily evaluations'!$C$2:$C$2,'Daily evaluations'!$B$2:$B$2,"=d20261201"),"") | AZ2: =IF((0=1),SUMIFS('Daily evaluations'!$C$2:$C$2,'Daily evaluations'!$B$2:$B$2,"=d20261202"),"") | BA2: =IF((0=1),SUMIFS('Daily evaluations'!$C$2:$C$2,'Daily evaluations'!$B$2:$B$2,"=d20261203"),"") | BB2: =IF((0=1),SUMIFS('Daily evaluations'!$C$2:$C$2,'Daily evaluations'!$B$2:$B$2,"=d20261204"),"") | BC2: =IF((0=1),SUMIFS('Daily evaluations'!$C$2:$C$2,'Daily evaluations'!$B$2:$B$2,"=d20261207"),"") | BD2: =IF((0=1),SUMIFS('Daily evaluations'!$C$2:$C$2,'Daily evaluations'!$B$2:$B$2,"=d20261208"),"") | BE2: =IF((0=1),SUMIFS('Daily evaluations'!$C$2:$C$2,'Daily evaluations'!$B$2:$B$2,"=d20261209"),"") | BF2: =IF((0=1),SUMIFS('Daily evaluations'!$C$2:$C$2,'Daily evaluations'!$B$2:$B$2,"=d20261210"),"") | BG2: =IF((0=1),SUMIFS('Daily evaluations'!$C$2:$C$2,'Daily evaluations'!$B$2:$B$2,"=d20261211"),"") | BH2: =IF((0=1),SUMIFS('Daily evaluations'!$C$2:$C$2,'Daily evaluations'!$B$2:$B$2,"=d20261214"),"") | BI2: =IF((0=1),SUMIFS('Daily evaluations'!$C$2:$C$2,'Daily evaluations'!$B$2:$B$2,"=d20261215"),"") | BJ2: =IF((0=1),SUMIFS('Daily evaluations'!$C$2:$C$2,'Daily evaluations'!$B$2:$B$2,"=d20261216"),"") | BK2: =IF((0=1),SUMIFS('Daily evaluations'!$C$2:$C$2,'Daily evaluations'!$B$2:$B$2,"=d20261217"),"") | BL2: =IF((0=1),SUMIFS('Daily evaluations'!$C$2:$C$2,'Daily evaluations'!$B$2:$B$2,"=d20261218"),"") | BM2: =IF((0=1),SUMIFS('Daily evaluations'!$C$2:$C$2,'Daily evaluations'!$B$2:$B$2,"=d20261221"),"") | BN2: =IF((0=1),SUMIFS('Daily evaluations'!$C$2:$C$2,'Daily evaluations'!$B$2:$B$2,"=d20261222"),"") | BO2: =IF((0=1),SUMIFS('Daily evaluations'!$C$2:$C$2,'Daily evaluations'!$B$2:$B$2,"=d20261223"),"") | BP2: =IF((0=1),SUMIFS('Daily evaluations'!$C$2:$C$2,'Daily evaluations'!$B$2:$B$2,"=d20261224"),"") | BQ2: =IF((0=1),SUMIFS('Daily evaluations'!$C$2:$C$2,'Daily evaluations'!$B$2:$B$2,"=d20261228"),"") | BR2: =IF((0=1),SUMIFS('Daily evaluations'!$C$2:$C$2,'Daily evaluations'!$B$2:$B$2,"=d20261229"),"") | BS2: =IF((0=1),SUMIFS('Daily evaluations'!$C$2:$C$2,'Daily evaluations'!$B$2:$B$2,"=d20261230"),"") | BT2: =IF((0=1),SUMIFS('Daily evaluations'!$C$2:$C$2,'Daily evaluations'!$B$2:$B$2,"=d20261231"),"") | BU2: =IF((0=1),SUMIFS('Daily evaluations'!$C$2:$C$2,'Daily evaluations'!$B$2:$B$2,"=d20270104"),"") | BV2: =IF((0=1),SUMIFS('Daily evaluations'!$C$2:$C$2,'Daily evaluations'!$B$2:$B$2,"=d20270105"),"") | BW2: =IF((0=1),SUMIFS('Daily evaluations'!$C$2:$C$2,'Daily evaluations'!$B$2:$B$2,"=d20270106"),"") | BX2: =IF((0=1),SUMIFS('Daily evaluations'!$C$2:$C$2,'Daily evaluations'!$B$2:$B$2,"=d20270107"),"") | BY2: =IF((0=1),SUMIFS('Daily evaluations'!$C$2:$C$2,'Daily evaluations'!$B$2:$B$2,"=d20270108"),"") | BZ2: =IF((0=1),SUMIFS('Daily evaluations'!$C$2:$C$2,'Daily evaluations'!$B$2:$B$2,"=d20270111"),"") | CA2: =IF((0=1),SUMIFS('Daily evaluations'!$C$2:$C$2,'Daily evaluations'!$B$2:$B$2,"=d20270112"),"") | CB2: =IF((0=1),SUMIFS('Daily evaluations'!$C$2:$C$2,'Daily evaluations'!$B$2:$B$2,"=d20270113"),"") | CC2: =IF((0=1),SUMIFS('Daily evaluations'!$C$2:$C$2,'Daily evaluations'!$B$2:$B$2,"=d20270114"),"") | CD2: =IF((0=1),SUMIFS('Daily evaluations'!$C$2:$C$2,'Daily evaluations'!$B$2:$B$2,"=d20270115"),"") | CE2: =IF((0=1),SUMIFS('Daily evaluations'!$C$2:$C$2,'Daily evaluations'!$B$2:$B$2,"=d20270119"),"") | CF2: =IF((0=1),SUMIFS('Daily evaluations'!$C$2:$C$2,'Daily evaluations'!$B$2:$B$2,"=d20270120"),"") | CG2: =IF((0=1),SUMIFS('Daily evaluations'!$C$2:$C$2,'Daily evaluations'!$B$2:$B$2,"=d20270121"),"") | CH2: =IF((0=1),SUMIFS('Daily evaluations'!$C$2:$C$2,'Daily evaluations'!$B$2:$B$2,"=d20270122"),"") | CI2: =IF((0=1),SUMIFS('Daily evaluations'!$C$2:$C$2,'Daily evaluations'!$B$2:$B$2,"=d20270125"),"") | CJ2: =IF((0=1),SUMIFS('Daily evaluations'!$C$2:$C$2,'Daily evaluations'!$B$2:$B$2,"=d20270126"),"") | CK2: =IF((0=1),SUMIFS('Daily evaluations'!$C$2:$C$2,'Daily evaluations'!$B$2:$B$2,"=d20270127"),"") | CL2: =IF((0=1),SUMIFS('Daily evaluations'!$C$2:$C$2,'Daily evaluations'!$B$2:$B$2,"=d20270128"),"") | CM2: =IF((0=1),SUMIFS('Daily evaluations'!$C$2:$C$2,'Daily evaluations'!$B$2:$B$2,"=d20270129"),"") | CN2: =IF((0=1),SUMIFS('Daily evaluations'!$C$2:$C$2,'Daily evaluations'!$B$2:$B$2,"=d20270201"),"") | CO2: =IF((0=1),SUMIFS('Daily evaluations'!$C$2:$C$2,'Daily evaluations'!$B$2:$B$2,"=d20270202"),"") | CP2: =IF((0=1),SUMIFS('Daily evaluations'!$C$2:$C$2,'Daily evaluations'!$B$2:$B$2,"=d20270203"),"") | CQ2: =IF((0=1),SUMIFS('Daily evaluations'!$C$2:$C$2,'Daily evaluations'!$B$2:$B$2,"=d20270204"),"") | CR2: =IF((0=1),SUMIFS('Daily evaluations'!$C$2:$C$2,'Daily evaluations'!$B$2:$B$2,"=d20270205"),"") | CS2: =IF((0=1),SUMIFS('Daily evaluations'!$C$2:$C$2,'Daily evaluations'!$B$2:$B$2,"=d20270208"),"") | CT2: =IF((0=1),SUMIFS('Daily evaluations'!$C$2:$C$2,'Daily evaluations'!$B$2:$B$2,"=d20270209"),"") | CU2: =IF((0=1),SUMIFS('Daily evaluations'!$C$2:$C$2,'Daily evaluations'!$B$2:$B$2,"=d20270210"),"") | CV2: =IF((0=1),SUMIFS('Daily evaluations'!$C$2:$C$2,'Daily evaluations'!$B$2:$B$2,"=d20270211"),"") | CW2: =IF((0=1),SUMIFS('Daily evaluations'!$C$2:$C$2,'Daily evaluations'!$B$2:$B$2,"=d20270212"),"")
A3: Net of costs, bps | B3: =IF((1=1),(SUMIFS('Daily evaluations'!$D$2:$D$2,'Daily evaluations'!$B$2:$B$2,"=d20260922")-'Assumptions (edit)'!B2),"") -> -18.298 | C3: =IF((0=1),(SUMIFS('Daily evaluations'!$D$2:$D$2,'Daily evaluations'!$B$2:$B$2,"=d20260923")-'Assumptions (edit)'!B2),"") | D3: =IF((0=1),(SUMIFS('Daily evaluations'!$D$2:$D$2,'Daily evaluations'!$B$2:$B$2,"=d20260924")-'Assumptions (edit)'!B2),"") | E3: =IF((0=1),(SUMIFS('Daily evaluations'!$D$2:$D$2,'Daily evaluations'!$B$2:$B$2,"=d20260925")-'Assumptions (edit)'!B2),"") | F3: =IF((0=1),(SUMIFS('Daily evaluations'!$D$2:$D$2,'Daily evaluations'!$B$2:$B$2,"=d20260928")-'Assumptions (edit)'!B2),"") | G3: =IF((0=1),(SUMIFS('Daily evaluations'!$D$2:$D$2,'Daily evaluations'!$B$2:$B$2,"=d20260929")-'Assumptions (edit)'!B2),"") | H3: =IF((0=1),(SUMIFS('Daily evaluations'!$D$2:$D$2,'Daily evaluations'!$B$2:$B$2,"=d20260930")-'Assumptions (edit)'!B2),"") | I3: =IF((0=1),(SUMIFS('Daily evaluations'!$D$2:$D$2,'Daily evaluations'!$B$2:$B$2,"=d20261001")-'Assumptions (edit)'!B2),"") | J3: =IF((0=1),(SUMIFS('Daily evaluations'!$D$2:$D$2,'Daily evaluations'!$B$2:$B$2,"=d20261002")-'Assumptions (edit)'!B2),"") | K3: =IF((0=1),(SUMIFS('Daily evaluations'!$D$2:$D$2,'Daily evaluations'!$B$2:$B$2,"=d20261005")-'Assumptions (edit)'!B2),"") | L3: =IF((0=1),(SUMIFS('Daily evaluations'!$D$2:$D$2,'Daily evaluations'!$B$2:$B$2,"=d20261006")-'Assumptions (edit)'!B2),"") | M3: =IF((0=1),(SUMIFS('Daily evaluations'!$D$2:$D$2,'Daily evaluations'!$B$2:$B$2,"=d20261007")-'Assumptions (edit)'!B2),"") | N3: =IF((0=1),(SUMIFS('Daily evaluations'!$D$2:$D$2,'Daily evaluations'!$B$2:$B$2,"=d20261008")-'Assumptions (edit)'!B2),"") | O3: =IF((0=1),(SUMIFS('Daily evaluations'!$D$2:$D$2,'Daily evaluations'!$B$2:$B$2,"=d20261009")-'Assumptions (edit)'!B2),"") | P3: =IF((0=1),(SUMIFS('Daily evaluations'!$D$2:$D$2,'Daily evaluations'!$B$2:$B$2,"=d20261012")-'Assumptions (edit)'!B2),"") | Q3: =IF((0=1),(SUMIFS('Daily evaluations'!$D$2:$D$2,'Daily evaluations'!$B$2:$B$2,"=d20261013")-'Assumptions (edit)'!B2),"") | R3: =IF((0=1),(SUMIFS('Daily evaluations'!$D$2:$D$2,'Daily evaluations'!$B$2:$B$2,"=d20261014")-'Assumptions (edit)'!B2),"") | S3: =IF((0=1),(SUMIFS('Daily evaluations'!$D$2:$D$2,'Daily evaluations'!$B$2:$B$2,"=d20261015")-'Assumptions (edit)'!B2),"") | T3: =IF((0=1),(SUMIFS('Daily evaluations'!$D$2:$D$2,'Daily evaluations'!$B$2:$B$2,"=d20261016")-'Assumptions (edit)'!B2),"") | U3: =IF((0=1),(SUMIFS('Daily evaluations'!$D$2:$D$2,'Daily evaluations'!$B$2:$B$2,"=d20261019")-'Assumptions (edit)'!B2),"") | V3: =IF((0=1),(SUMIFS('Daily evaluations'!$D$2:$D$2,'Daily evaluations'!$B$2:$B$2,"=d20261020")-'Assumptions (edit)'!B2),"") | W3: =IF((0=1),(SUMIFS('Daily evaluations'!$D$2:$D$2,'Daily evaluations'!$B$2:$B$2,"=d20261021")-'Assumptions (edit)'!B2),"") | X3: =IF((0=1),(SUMIFS('Daily evaluations'!$D$2:$D$2,'Daily evaluations'!$B$2:$B$2,"=d20261022")-'Assumptions (edit)'!B2),"") | Y3: =IF((0=1),(SUMIFS('Daily evaluations'!$D$2:$D$2,'Daily evaluations'!$B$2:$B$2,"=d20261023")-'Assumptions (edit)'!B2),"") | Z3: =IF((0=1),(SUMIFS('Daily evaluations'!$D$2:$D$2,'Daily evaluations'!$B$2:$B$2,"=d20261026")-'Assumptions (edit)'!B2),"") | AA3: =IF((0=1),(SUMIFS('Daily evaluations'!$D$2:$D$2,'Daily evaluations'!$B$2:$B$2,"=d20261027")-'Assumptions (edit)'!B2),"") | AB3: =IF((0=1),(SUMIFS('Daily evaluations'!$D$2:$D$2,'Daily evaluations'!$B$2:$B$2,"=d20261028")-'Assumptions (edit)'!B2),"") | AC3: =IF((0=1),(SUMIFS('Daily evaluations'!$D$2:$D$2,'Daily evaluations'!$B$2:$B$2,"=d20261029")-'Assumptions (edit)'!B2),"") | AD3: =IF((0=1),(SUMIFS('Daily evaluations'!$D$2:$D$2,'Daily evaluations'!$B$2:$B$2,"=d20261030")-'Assumptions (edit)'!B2),"") | AE3: =IF((0=1),(SUMIFS('Daily evaluations'!$D$2:$D$2,'Daily evaluations'!$B$2:$B$2,"=d20261102")-'Assumptions (edit)'!B2),"") | AF3: =IF((0=1),(SUMIFS('Daily evaluations'!$D$2:$D$2,'Daily evaluations'!$B$2:$B$2,"=d20261103")-'Assumptions (edit)'!B2),"") | AG3: =IF((0=1),(SUMIFS('Daily evaluations'!$D$2:$D$2,'Daily evaluations'!$B$2:$B$2,"=d20261104")-'Assumptions (edit)'!B2),"") | AH3: =IF((0=1),(SUMIFS('Daily evaluations'!$D$2:$D$2,'Daily evaluations'!$B$2:$B$2,"=d20261105")-'Assumptions (edit)'!B2),"") | AI3: =IF((0=1),(SUMIFS('Daily evaluations'!$D$2:$D$2,'Daily evaluations'!$B$2:$B$2,"=d20261106")-'Assumptions (edit)'!B2),"") | AJ3: =IF((0=1),(SUMIFS('Daily evaluations'!$D$2:$D$2,'Daily evaluations'!$B$2:$B$2,"=d20261109")-'Assumptions (edit)'!B2),"") | AK3: =IF((0=1),(SUMIFS('Daily evaluations'!$D$2:$D$2,'Daily evaluations'!$B$2:$B$2,"=d20261110")-'Assumptions (edit)'!B2),"") | AL3: =IF((0=1),(SUMIFS('Daily evaluations'!$D$2:$D$2,'Daily evaluations'!$B$2:$B$2,"=d20261111")-'Assumptions (edit)'!B2),"") | AM3: =IF((0=1),(SUMIFS('Daily evaluations'!$D$2:$D$2,'Daily evaluations'!$B$2:$B$2,"=d20261112")-'Assumptions (edit)'!B2),"") | AN3: =IF((0=1),(SUMIFS('Daily evaluations'!$D$2:$D$2,'Daily evaluations'!$B$2:$B$2,"=d20261113")-'Assumptions (edit)'!B2),"") | AO3: =IF((0=1),(SUMIFS('Daily evaluations'!$D$2:$D$2,'Daily evaluations'!$B$2:$B$2,"=d20261116")-'Assumptions (edit)'!B2),"") | AP3: =IF((0=1),(SUMIFS('Daily evaluations'!$D$2:$D$2,'Daily evaluations'!$B$2:$B$2,"=d20261117")-'Assumptions (edit)'!B2),"") | AQ3: =IF((0=1),(SUMIFS('Daily evaluations'!$D$2:$D$2,'Daily evaluations'!$B$2:$B$2,"=d20261118")-'Assumptions (edit)'!B2),"") | AR3: =IF((0=1),(SUMIFS('Daily evaluations'!$D$2:$D$2,'Daily evaluations'!$B$2:$B$2,"=d20261119")-'Assumptions (edit)'!B2),"") | AS3: =IF((0=1),(SUMIFS('Daily evaluations'!$D$2:$D$2,'Daily evaluations'!$B$2:$B$2,"=d20261120")-'Assumptions (edit)'!B2),"") | AT3: =IF((0=1),(SUMIFS('Daily evaluations'!$D$2:$D$2,'Daily evaluations'!$B$2:$B$2,"=d20261123")-'Assumptions (edit)'!B2),"") | AU3: =IF((0=1),(SUMIFS('Daily evaluations'!$D$2:$D$2,'Daily evaluations'!$B$2:$B$2,"=d20261124")-'Assumptions (edit)'!B2),"") | AV3: =IF((0=1),(SUMIFS('Daily evaluations'!$D$2:$D$2,'Daily evaluations'!$B$2:$B$2,"=d20261125")-'Assumptions (edit)'!B2),"") | AW3: =IF((0=1),(SUMIFS('Daily evaluations'!$D$2:$D$2,'Daily evaluations'!$B$2:$B$2,"=d20261127")-'Assumptions (edit)'!B2),"") | AX3: =IF((0=1),(SUMIFS('Daily evaluations'!$D$2:$D$2,'Daily evaluations'!$B$2:$B$2,"=d20261130")-'Assumptions (edit)'!B2),"") | AY3: =IF((0=1),(SUMIFS('Daily evaluations'!$D$2:$D$2,'Daily evaluations'!$B$2:$B$2,"=d20261201")-'Assumptions (edit)'!B2),"") | AZ3: =IF((0=1),(SUMIFS('Daily evaluations'!$D$2:$D$2,'Daily evaluations'!$B$2:$B$2,"=d20261202")-'Assumptions (edit)'!B2),"") | BA3: =IF((0=1),(SUMIFS('Daily evaluations'!$D$2:$D$2,'Daily evaluations'!$B$2:$B$2,"=d20261203")-'Assumptions (edit)'!B2),"") | BB3: =IF((0=1),(SUMIFS('Daily evaluations'!$D$2:$D$2,'Daily evaluations'!$B$2:$B$2,"=d20261204")-'Assumptions (edit)'!B2),"") | BC3: =IF((0=1),(SUMIFS('Daily evaluations'!$D$2:$D$2,'Daily evaluations'!$B$2:$B$2,"=d20261207")-'Assumptions (edit)'!B2),"") | BD3: =IF((0=1),(SUMIFS('Daily evaluations'!$D$2:$D$2,'Daily evaluations'!$B$2:$B$2,"=d20261208")-'Assumptions (edit)'!B2),"") | BE3: =IF((0=1),(SUMIFS('Daily evaluations'!$D$2:$D$2,'Daily evaluations'!$B$2:$B$2,"=d20261209")-'Assumptions (edit)'!B2),"") | BF3: =IF((0=1),(SUMIFS('Daily evaluations'!$D$2:$D$2,'Daily evaluations'!$B$2:$B$2,"=d20261210")-'Assumptions (edit)'!B2),"") | BG3: =IF((0=1),(SUMIFS('Daily evaluations'!$D$2:$D$2,'Daily evaluations'!$B$2:$B$2,"=d20261211")-'Assumptions (edit)'!B2),"") | BH3: =IF((0=1),(SUMIFS('Daily evaluations'!$D$2:$D$2,'Daily evaluations'!$B$2:$B$2,"=d20261214")-'Assumptions (edit)'!B2),"") | BI3: =IF((0=1),(SUMIFS('Daily evaluations'!$D$2:$D$2,'Daily evaluations'!$B$2:$B$2,"=d20261215")-'Assumptions (edit)'!B2),"") | BJ3: =IF((0=1),(SUMIFS('Daily evaluations'!$D$2:$D$2,'Daily evaluations'!$B$2:$B$2,"=d20261216")-'Assumptions (edit)'!B2),"") | BK3: =IF((0=1),(SUMIFS('Daily evaluations'!$D$2:$D$2,'Daily evaluations'!$B$2:$B$2,"=d20261217")-'Assumptions (edit)'!B2),"") | BL3: =IF((0=1),(SUMIFS('Daily evaluations'!$D$2:$D$2,'Daily evaluations'!$B$2:$B$2,"=d20261218")-'Assumptions (edit)'!B2),"") | BM3: =IF((0=1),(SUMIFS('Daily evaluations'!$D$2:$D$2,'Daily evaluations'!$B$2:$B$2,"=d20261221")-'Assumptions (edit)'!B2),"") | BN3: =IF((0=1),(SUMIFS('Daily evaluations'!$D$2:$D$2,'Daily evaluations'!$B$2:$B$2,"=d20261222")-'Assumptions (edit)'!B2),"") | BO3: =IF((0=1),(SUMIFS('Daily evaluations'!$D$2:$D$2,'Daily evaluations'!$B$2:$B$2,"=d20261223")-'Assumptions (edit)'!B2),"") | BP3: =IF((0=1),(SUMIFS('Daily evaluations'!$D$2:$D$2,'Daily evaluations'!$B$2:$B$2,"=d20261224")-'Assumptions (edit)'!B2),"") | BQ3: =IF((0=1),(SUMIFS('Daily evaluations'!$D$2:$D$2,'Daily evaluations'!$B$2:$B$2,"=d20261228")-'Assumptions (edit)'!B2),"") | BR3: =IF((0=1),(SUMIFS('Daily evaluations'!$D$2:$D$2,'Daily evaluations'!$B$2:$B$2,"=d20261229")-'Assumptions (edit)'!B2),"") | BS3: =IF((0=1),(SUMIFS('Daily evaluations'!$D$2:$D$2,'Daily evaluations'!$B$2:$B$2,"=d20261230")-'Assumptions (edit)'!B2),"") | BT3: =IF((0=1),(SUMIFS('Daily evaluations'!$D$2:$D$2,'Daily evaluations'!$B$2:$B$2,"=d20261231")-'Assumptions (edit)'!B2),"") | BU3: =IF((0=1),(SUMIFS('Daily evaluations'!$D$2:$D$2,'Daily evaluations'!$B$2:$B$2,"=d20270104")-'Assumptions (edit)'!B2),"") | BV3: =IF((0=1),(SUMIFS('Daily evaluations'!$D$2:$D$2,'Daily evaluations'!$B$2:$B$2,"=d20270105")-'Assumptions (edit)'!B2),"") | BW3: =IF((0=1),(SUMIFS('Daily evaluations'!$D$2:$D$2,'Daily evaluations'!$B$2:$B$2,"=d20270106")-'Assumptions (edit)'!B2),"") | BX3: =IF((0=1),(SUMIFS('Daily evaluations'!$D$2:$D$2,'Daily evaluations'!$B$2:$B$2,"=d20270107")-'Assumptions (edit)'!B2),"") | BY3: =IF((0=1),(SUMIFS('Daily evaluations'!$D$2:$D$2,'Daily evaluations'!$B$2:$B$2,"=d20270108")-'Assumptions (edit)'!B2),"") | BZ3: =IF((0=1),(SUMIFS('Daily evaluations'!$D$2:$D$2,'Daily evaluations'!$B$2:$B$2,"=d20270111")-'Assumptions (edit)'!B2),"") | CA3: =IF((0=1),(SUMIFS('Daily evaluations'!$D$2:$D$2,'Daily evaluations'!$B$2:$B$2,"=d20270112")-'Assumptions (edit)'!B2),"") | CB3: =IF((0=1),(SUMIFS('Daily evaluations'!$D$2:$D$2,'Daily evaluations'!$B$2:$B$2,"=d20270113")-'Assumptions (edit)'!B2),"") | CC3: =IF((0=1),(SUMIFS('Daily evaluations'!$D$2:$D$2,'Daily evaluations'!$B$2:$B$2,"=d20270114")-'Assumptions (edit)'!B2),"") | CD3: =IF((0=1),(SUMIFS('Daily evaluations'!$D$2:$D$2,'Daily evaluations'!$B$2:$B$2,"=d20270115")-'Assumptions (edit)'!B2),"") | CE3: =IF((0=1),(SUMIFS('Daily evaluations'!$D$2:$D$2,'Daily evaluations'!$B$2:$B$2,"=d20270119")-'Assumptions (edit)'!B2),"") | CF3: =IF((0=1),(SUMIFS('Daily evaluations'!$D$2:$D$2,'Daily evaluations'!$B$2:$B$2,"=d20270120")-'Assumptions (edit)'!B2),"") | CG3: =IF((0=1),(SUMIFS('Daily evaluations'!$D$2:$D$2,'Daily evaluations'!$B$2:$B$2,"=d20270121")-'Assumptions (edit)'!B2),"") | CH3: =IF((0=1),(SUMIFS('Daily evaluations'!$D$2:$D$2,'Daily evaluations'!$B$2:$B$2,"=d20270122")-'Assumptions (edit)'!B2),"") | CI3: =IF((0=1),(SUMIFS('Daily evaluations'!$D$2:$D$2,'Daily evaluations'!$B$2:$B$2,"=d20270125")-'Assumptions (edit)'!B2),"") | CJ3: =IF((0=1),(SUMIFS('Daily evaluations'!$D$2:$D$2,'Daily evaluations'!$B$2:$B$2,"=d20270126")-'Assumptions (edit)'!B2),"") | CK3: =IF((0=1),(SUMIFS('Daily evaluations'!$D$2:$D$2,'Daily evaluations'!$B$2:$B$2,"=d20270127")-'Assumptions (edit)'!B2),"") | CL3: =IF((0=1),(SUMIFS('Daily evaluations'!$D$2:$D$2,'Daily evaluations'!$B$2:$B$2,"=d20270128")-'Assumptions (edit)'!B2),"") | CM3: =IF((0=1),(SUMIFS('Daily evaluations'!$D$2:$D$2,'Daily evaluations'!$B$2:$B$2,"=d20270129")-'Assumptions (edit)'!B2),"") | CN3: =IF((0=1),(SUMIFS('Daily evaluations'!$D$2:$D$2,'Daily evaluations'!$B$2:$B$2,"=d20270201")-'Assumptions (edit)'!B2),"") | CO3: =IF((0=1),(SUMIFS('Daily evaluations'!$D$2:$D$2,'Daily evaluations'!$B$2:$B$2,"=d20270202")-'Assumptions (edit)'!B2),"") | CP3: =IF((0=1),(SUMIFS('Daily evaluations'!$D$2:$D$2,'Daily evaluations'!$B$2:$B$2,"=d20270203")-'Assumptions (edit)'!B2),"") | CQ3: =IF((0=1),(SUMIFS('Daily evaluations'!$D$2:$D$2,'Daily evaluations'!$B$2:$B$2,"=d20270204")-'Assumptions (edit)'!B2),"") | CR3: =IF((0=1),(SUMIFS('Daily evaluations'!$D$2:$D$2,'Daily evaluations'!$B$2:$B$2,"=d20270205")-'Assumptions (edit)'!B2),"") | CS3: =IF((0=1),(SUMIFS('Daily evaluations'!$D$2:$D$2,'Daily evaluations'!$B$2:$B$2,"=d20270208")-'Assumptions (edit)'!B2),"") | CT3: =IF((0=1),(SUMIFS('Daily evaluations'!$D$2:$D$2,'Daily evaluations'!$B$2:$B$2,"=d20270209")-'Assumptions (edit)'!B2),"") | CU3: =IF((0=1),(SUMIFS('Daily evaluations'!$D$2:$D$2,'Daily evaluations'!$B$2:$B$2,"=d20270210")-'Assumptions (edit)'!B2),"") | CV3: =IF((0=1),(SUMIFS('Daily evaluations'!$D$2:$D$2,'Daily evaluations'!$B$2:$B$2,"=d20270211")-'Assumptions (edit)'!B2),"") | CW3: =IF((0=1),(SUMIFS('Daily evaluations'!$D$2:$D$2,'Daily evaluations'!$B$2:$B$2,"=d20270212")-'Assumptions (edit)'!B2),"")
A4: Random pods: average, bps | B4: =IF((1=1),SUMIFS('Null distribution by day'!$C$2:$C$2,'Null distribution by day'!$B$2:$B$2,"=d20260922"),"") -> 0.827 | C4: =IF((0=1),SUMIFS('Null distribution by day'!$C$2:$C$2,'Null distribution by day'!$B$2:$B$2,"=d20260923"),"") | D4: =IF((0=1),SUMIFS('Null distribution by day'!$C$2:$C$2,'Null distribution by day'!$B$2:$B$2,"=d20260924"),"") | E4: =IF((0=1),SUMIFS('Null distribution by day'!$C$2:$C$2,'Null distribution by day'!$B$2:$B$2,"=d20260925"),"") | F4: =IF((0=1),SUMIFS('Null distribution by day'!$C$2:$C$2,'Null distribution by day'!$B$2:$B$2,"=d20260928"),"") | G4: =IF((0=1),SUMIFS('Null distribution by day'!$C$2:$C$2,'Null distribution by day'!$B$2:$B$2,"=d20260929"),"") | H4: =IF((0=1),SUMIFS('Null distribution by day'!$C$2:$C$2,'Null distribution by day'!$B$2:$B$2,"=d20260930"),"") | I4: =IF((0=1),SUMIFS('Null distribution by day'!$C$2:$C$2,'Null distribution by day'!$B$2:$B$2,"=d20261001"),"") | J4: =IF((0=1),SUMIFS('Null distribution by day'!$C$2:$C$2,'Null distribution by day'!$B$2:$B$2,"=d20261002"),"") | K4: =IF((0=1),SUMIFS('Null distribution by day'!$C$2:$C$2,'Null distribution by day'!$B$2:$B$2,"=d20261005"),"") | L4: =IF((0=1),SUMIFS('Null distribution by day'!$C$2:$C$2,'Null distribution by day'!$B$2:$B$2,"=d20261006"),"") | M4: =IF((0=1),SUMIFS('Null distribution by day'!$C$2:$C$2,'Null distribution by day'!$B$2:$B$2,"=d20261007"),"") | N4: =IF((0=1),SUMIFS('Null distribution by day'!$C$2:$C$2,'Null distribution by day'!$B$2:$B$2,"=d20261008"),"") | O4: =IF((0=1),SUMIFS('Null distribution by day'!$C$2:$C$2,'Null distribution by day'!$B$2:$B$2,"=d20261009"),"") | P4: =IF((0=1),SUMIFS('Null distribution by day'!$C$2:$C$2,'Null distribution by day'!$B$2:$B$2,"=d20261012"),"") | Q4: =IF((0=1),SUMIFS('Null distribution by day'!$C$2:$C$2,'Null distribution by day'!$B$2:$B$2,"=d20261013"),"") | R4: =IF((0=1),SUMIFS('Null distribution by day'!$C$2:$C$2,'Null distribution by day'!$B$2:$B$2,"=d20261014"),"") | S4: =IF((0=1),SUMIFS('Null distribution by day'!$C$2:$C$2,'Null distribution by day'!$B$2:$B$2,"=d20261015"),"") | T4: =IF((0=1),SUMIFS('Null distribution by day'!$C$2:$C$2,'Null distribution by day'!$B$2:$B$2,"=d20261016"),"") | U4: =IF((0=1),SUMIFS('Null distribution by day'!$C$2:$C$2,'Null distribution by day'!$B$2:$B$2,"=d20261019"),"") | V4: =IF((0=1),SUMIFS('Null distribution by day'!$C$2:$C$2,'Null distribution by day'!$B$2:$B$2,"=d20261020"),"") | W4: =IF((0=1),SUMIFS('Null distribution by day'!$C$2:$C$2,'Null distribution by day'!$B$2:$B$2,"=d20261021"),"") | X4: =IF((0=1),SUMIFS('Null distribution by day'!$C$2:$C$2,'Null distribution by day'!$B$2:$B$2,"=d20261022"),"") | Y4: =IF((0=1),SUMIFS('Null distribution by day'!$C$2:$C$2,'Null distribution by day'!$B$2:$B$2,"=d20261023"),"") | Z4: =IF((0=1),SUMIFS('Null distribution by day'!$C$2:$C$2,'Null distribution by day'!$B$2:$B$2,"=d20261026"),"") | AA4: =IF((0=1),SUMIFS('Null distribution by day'!$C$2:$C$2,'Null distribution by day'!$B$2:$B$2,"=d20261027"),"") | AB4: =IF((0=1),SUMIFS('Null distribution by day'!$C$2:$C$2,'Null distribution by day'!$B$2:$B$2,"=d20261028"),"") | AC4: =IF((0=1),SUMIFS('Null distribution by day'!$C$2:$C$2,'Null distribution by day'!$B$2:$B$2,"=d20261029"),"") | AD4: =IF((0=1),SUMIFS('Null distribution by day'!$C$2:$C$2,'Null distribution by day'!$B$2:$B$2,"=d20261030"),"") | AE4: =IF((0=1),SUMIFS('Null distribution by day'!$C$2:$C$2,'Null distribution by day'!$B$2:$B$2,"=d20261102"),"") | AF4: =IF((0=1),SUMIFS('Null distribution by day'!$C$2:$C$2,'Null distribution by day'!$B$2:$B$2,"=d20261103"),"") | AG4: =IF((0=1),SUMIFS('Null distribution by day'!$C$2:$C$2,'Null distribution by day'!$B$2:$B$2,"=d20261104"),"") | AH4: =IF((0=1),SUMIFS('Null distribution by day'!$C$2:$C$2,'Null distribution by day'!$B$2:$B$2,"=d20261105"),"") | AI4: =IF((0=1),SUMIFS('Null distribution by day'!$C$2:$C$2,'Null distribution by day'!$B$2:$B$2,"=d20261106"),"") | AJ4: =IF((0=1),SUMIFS('Null distribution by day'!$C$2:$C$2,'Null distribution by day'!$B$2:$B$2,"=d20261109"),"") | AK4: =IF((0=1),SUMIFS('Null distribution by day'!$C$2:$C$2,'Null distribution by day'!$B$2:$B$2,"=d20261110"),"") | AL4: =IF((0=1),SUMIFS('Null distribution by day'!$C$2:$C$2,'Null distribution by day'!$B$2:$B$2,"=d20261111"),"") | AM4: =IF((0=1),SUMIFS('Null distribution by day'!$C$2:$C$2,'Null distribution by day'!$B$2:$B$2,"=d20261112"),"") | AN4: =IF((0=1),SUMIFS('Null distribution by day'!$C$2:$C$2,'Null distribution by day'!$B$2:$B$2,"=d20261113"),"") | AO4: =IF((0=1),SUMIFS('Null distribution by day'!$C$2:$C$2,'Null distribution by day'!$B$2:$B$2,"=d20261116"),"") | AP4: =IF((0=1),SUMIFS('Null distribution by day'!$C$2:$C$2,'Null distribution by day'!$B$2:$B$2,"=d20261117"),"") | AQ4: =IF((0=1),SUMIFS('Null distribution by day'!$C$2:$C$2,'Null distribution by day'!$B$2:$B$2,"=d20261118"),"") | AR4: =IF((0=1),SUMIFS('Null distribution by day'!$C$2:$C$2,'Null distribution by day'!$B$2:$B$2,"=d20261119"),"") | AS4: =IF((0=1),SUMIFS('Null distribution by day'!$C$2:$C$2,'Null distribution by day'!$B$2:$B$2,"=d20261120"),"") | AT4: =IF((0=1),SUMIFS('Null distribution by day'!$C$2:$C$2,'Null distribution by day'!$B$2:$B$2,"=d20261123"),"") | AU4: =IF((0=1),SUMIFS('Null distribution by day'!$C$2:$C$2,'Null distribution by day'!$B$2:$B$2,"=d20261124"),"") | AV4: =IF((0=1),SUMIFS('Null distribution by day'!$C$2:$C$2,'Null distribution by day'!$B$2:$B$2,"=d20261125"),"") | AW4: =IF((0=1),SUMIFS('Null distribution by day'!$C$2:$C$2,'Null distribution by day'!$B$2:$B$2,"=d20261127"),"") | AX4: =IF((0=1),SUMIFS('Null distribution by day'!$C$2:$C$2,'Null distribution by day'!$B$2:$B$2,"=d20261130"),"") | AY4: =IF((0=1),SUMIFS('Null distribution by day'!$C$2:$C$2,'Null distribution by day'!$B$2:$B$2,"=d20261201"),"") | AZ4: =IF((0=1),SUMIFS('Null distribution by day'!$C$2:$C$2,'Null distribution by day'!$B$2:$B$2,"=d20261202"),"") | BA4: =IF((0=1),SUMIFS('Null distribution by day'!$C$2:$C$2,'Null distribution by day'!$B$2:$B$2,"=d20261203"),"") | BB4: =IF((0=1),SUMIFS('Null distribution by day'!$C$2:$C$2,'Null distribution by day'!$B$2:$B$2,"=d20261204"),"") | BC4: =IF((0=1),SUMIFS('Null distribution by day'!$C$2:$C$2,'Null distribution by day'!$B$2:$B$2,"=d20261207"),"") | BD4: =IF((0=1),SUMIFS('Null distribution by day'!$C$2:$C$2,'Null distribution by day'!$B$2:$B$2,"=d20261208"),"") | BE4: =IF((0=1),SUMIFS('Null distribution by day'!$C$2:$C$2,'Null distribution by day'!$B$2:$B$2,"=d20261209"),"") | BF4: =IF((0=1),SUMIFS('Null distribution by day'!$C$2:$C$2,'Null distribution by day'!$B$2:$B$2,"=d20261210"),"") | BG4: =IF((0=1),SUMIFS('Null distribution by day'!$C$2:$C$2,'Null distribution by day'!$B$2:$B$2,"=d20261211"),"") | BH4: =IF((0=1),SUMIFS('Null distribution by day'!$C$2:$C$2,'Null distribution by day'!$B$2:$B$2,"=d20261214"),"") | BI4: =IF((0=1),SUMIFS('Null distribution by day'!$C$2:$C$2,'Null distribution by day'!$B$2:$B$2,"=d20261215"),"") | BJ4: =IF((0=1),SUMIFS('Null distribution by day'!$C$2:$C$2,'Null distribution by day'!$B$2:$B$2,"=d20261216"),"") | BK4: =IF((0=1),SUMIFS('Null distribution by day'!$C$2:$C$2,'Null distribution by day'!$B$2:$B$2,"=d20261217"),"") | BL4: =IF((0=1),SUMIFS('Null distribution by day'!$C$2:$C$2,'Null distribution by day'!$B$2:$B$2,"=d20261218"),"") | BM4: =IF((0=1),SUMIFS('Null distribution by day'!$C$2:$C$2,'Null distribution by day'!$B$2:$B$2,"=d20261221"),"") | BN4: =IF((0=1),SUMIFS('Null distribution by day'!$C$2:$C$2,'Null distribution by day'!$B$2:$B$2,"=d20261222"),"") | BO4: =IF((0=1),SUMIFS('Null distribution by day'!$C$2:$C$2,'Null distribution by day'!$B$2:$B$2,"=d20261223"),"") | BP4: =IF((0=1),SUMIFS('Null distribution by day'!$C$2:$C$2,'Null distribution by day'!$B$2:$B$2,"=d20261224"),"") | BQ4: =IF((0=1),SUMIFS('Null distribution by day'!$C$2:$C$2,'Null distribution by day'!$B$2:$B$2,"=d20261228"),"") | BR4: =IF((0=1),SUMIFS('Null distribution by day'!$C$2:$C$2,'Null distribution by day'!$B$2:$B$2,"=d20261229"),"") | BS4: =IF((0=1),SUMIFS('Null distribution by day'!$C$2:$C$2,'Null distribution by day'!$B$2:$B$2,"=d20261230"),"") | BT4: =IF((0=1),SUMIFS('Null distribution by day'!$C$2:$C$2,'Null distribution by day'!$B$2:$B$2,"=d20261231"),"") | BU4: =IF((0=1),SUMIFS('Null distribution by day'!$C$2:$C$2,'Null distribution by day'!$B$2:$B$2,"=d20270104"),"") | BV4: =IF((0=1),SUMIFS('Null distribution by day'!$C$2:$C$2,'Null distribution by day'!$B$2:$B$2,"=d20270105"),"") | BW4: =IF((0=1),SUMIFS('Null distribution by day'!$C$2:$C$2,'Null distribution by day'!$B$2:$B$2,"=d20270106"),"") | BX4: =IF((0=1),SUMIFS('Null distribution by day'!$C$2:$C$2,'Null distribution by day'!$B$2:$B$2,"=d20270107"),"") | BY4: =IF((0=1),SUMIFS('Null distribution by day'!$C$2:$C$2,'Null distribution by day'!$B$2:$B$2,"=d20270108"),"") | BZ4: =IF((0=1),SUMIFS('Null distribution by day'!$C$2:$C$2,'Null distribution by day'!$B$2:$B$2,"=d20270111"),"") | CA4: =IF((0=1),SUMIFS('Null distribution by day'!$C$2:$C$2,'Null distribution by day'!$B$2:$B$2,"=d20270112"),"") | CB4: =IF((0=1),SUMIFS('Null distribution by day'!$C$2:$C$2,'Null distribution by day'!$B$2:$B$2,"=d20270113"),"") | CC4: =IF((0=1),SUMIFS('Null distribution by day'!$C$2:$C$2,'Null distribution by day'!$B$2:$B$2,"=d20270114"),"") | CD4: =IF((0=1),SUMIFS('Null distribution by day'!$C$2:$C$2,'Null distribution by day'!$B$2:$B$2,"=d20270115"),"") | CE4: =IF((0=1),SUMIFS('Null distribution by day'!$C$2:$C$2,'Null distribution by day'!$B$2:$B$2,"=d20270119"),"") | CF4: =IF((0=1),SUMIFS('Null distribution by day'!$C$2:$C$2,'Null distribution by day'!$B$2:$B$2,"=d20270120"),"") | CG4: =IF((0=1),SUMIFS('Null distribution by day'!$C$2:$C$2,'Null distribution by day'!$B$2:$B$2,"=d20270121"),"") | CH4: =IF((0=1),SUMIFS('Null distribution by day'!$C$2:$C$2,'Null distribution by day'!$B$2:$B$2,"=d20270122"),"") | CI4: =IF((0=1),SUMIFS('Null distribution by day'!$C$2:$C$2,'Null distribution by day'!$B$2:$B$2,"=d20270125"),"") | CJ4: =IF((0=1),SUMIFS('Null distribution by day'!$C$2:$C$2,'Null distribution by day'!$B$2:$B$2,"=d20270126"),"") | CK4: =IF((0=1),SUMIFS('Null distribution by day'!$C$2:$C$2,'Null distribution by day'!$B$2:$B$2,"=d20270127"),"") | CL4: =IF((0=1),SUMIFS('Null distribution by day'!$C$2:$C$2,'Null distribution by day'!$B$2:$B$2,"=d20270128"),"") | CM4: =IF((0=1),SUMIFS('Null distribution by day'!$C$2:$C$2,'Null distribution by day'!$B$2:$B$2,"=d20270129"),"") | CN4: =IF((0=1),SUMIFS('Null distribution by day'!$C$2:$C$2,'Null distribution by day'!$B$2:$B$2,"=d20270201"),"") | CO4: =IF((0=1),SUMIFS('Null distribution by day'!$C$2:$C$2,'Null distribution by day'!$B$2:$B$2,"=d20270202"),"") | CP4: =IF((0=1),SUMIFS('Null distribution by day'!$C$2:$C$2,'Null distribution by day'!$B$2:$B$2,"=d20270203"),"") | CQ4: =IF((0=1),SUMIFS('Null distribution by day'!$C$2:$C$2,'Null distribution by day'!$B$2:$B$2,"=d20270204"),"") | CR4: =IF((0=1),SUMIFS('Null distribution by day'!$C$2:$C$2,'Null distribution by day'!$B$2:$B$2,"=d20270205"),"") | CS4: =IF((0=1),SUMIFS('Null distribution by day'!$C$2:$C$2,'Null distribution by day'!$B$2:$B$2,"=d20270208"),"") | CT4: =IF((0=1),SUMIFS('Null distribution by day'!$C$2:$C$2,'Null distribution by day'!$B$2:$B$2,"=d20270209"),"") | CU4: =IF((0=1),SUMIFS('Null distribution by day'!$C$2:$C$2,'Null distribution by day'!$B$2:$B$2,"=d20270210"),"") | CV4: =IF((0=1),SUMIFS('Null distribution by day'!$C$2:$C$2,'Null distribution by day'!$B$2:$B$2,"=d20270211"),"") | CW4: =IF((0=1),SUMIFS('Null distribution by day'!$C$2:$C$2,'Null distribution by day'!$B$2:$B$2,"=d20270212"),"")
A5: Random pods: best, bps | B5: =IF((1=1),SUMIFS('Null distribution by day'!$D$2:$D$2,'Null distribution by day'!$B$2:$B$2,"=d20260922"),"") -> 13.888 | C5: =IF((0=1),SUMIFS('Null distribution by day'!$D$2:$D$2,'Null distribution by day'!$B$2:$B$2,"=d20260923"),"") | D5: =IF((0=1),SUMIFS('Null distribution by day'!$D$2:$D$2,'Null distribution by day'!$B$2:$B$2,"=d20260924"),"") | E5: =IF((0=1),SUMIFS('Null distribution by day'!$D$2:$D$2,'Null distribution by day'!$B$2:$B$2,"=d20260925"),"") | F5: =IF((0=1),SUMIFS('Null distribution by day'!$D$2:$D$2,'Null distribution by day'!$B$2:$B$2,"=d20260928"),"") | G5: =IF((0=1),SUMIFS('Null distribution by day'!$D$2:$D$2,'Null distribution by day'!$B$2:$B$2,"=d20260929"),"") | H5: =IF((0=1),SUMIFS('Null distribution by day'!$D$2:$D$2,'Null distribution by day'!$B$2:$B$2,"=d20260930"),"") | I5: =IF((0=1),SUMIFS('Null distribution by day'!$D$2:$D$2,'Null distribution by day'!$B$2:$B$2,"=d20261001"),"") | J5: =IF((0=1),SUMIFS('Null distribution by day'!$D$2:$D$2,'Null distribution by day'!$B$2:$B$2,"=d20261002"),"") | K5: =IF((0=1),SUMIFS('Null distribution by day'!$D$2:$D$2,'Null distribution by day'!$B$2:$B$2,"=d20261005"),"") | L5: =IF((0=1),SUMIFS('Null distribution by day'!$D$2:$D$2,'Null distribution by day'!$B$2:$B$2,"=d20261006"),"") | M5: =IF((0=1),SUMIFS('Null distribution by day'!$D$2:$D$2,'Null distribution by day'!$B$2:$B$2,"=d20261007"),"") | N5: =IF((0=1),SUMIFS('Null distribution by day'!$D$2:$D$2,'Null distribution by day'!$B$2:$B$2,"=d20261008"),"") | O5: =IF((0=1),SUMIFS('Null distribution by day'!$D$2:$D$2,'Null distribution by day'!$B$2:$B$2,"=d20261009"),"") | P5: =IF((0=1),SUMIFS('Null distribution by day'!$D$2:$D$2,'Null distribution by day'!$B$2:$B$2,"=d20261012"),"") | Q5: =IF((0=1),SUMIFS('Null distribution by day'!$D$2:$D$2,'Null distribution by day'!$B$2:$B$2,"=d20261013"),"") | R5: =IF((0=1),SUMIFS('Null distribution by day'!$D$2:$D$2,'Null distribution by day'!$B$2:$B$2,"=d20261014"),"") | S5: =IF((0=1),SUMIFS('Null distribution by day'!$D$2:$D$2,'Null distribution by day'!$B$2:$B$2,"=d20261015"),"") | T5: =IF((0=1),SUMIFS('Null distribution by day'!$D$2:$D$2,'Null distribution by day'!$B$2:$B$2,"=d20261016"),"") | U5: =IF((0=1),SUMIFS('Null distribution by day'!$D$2:$D$2,'Null distribution by day'!$B$2:$B$2,"=d20261019"),"") | V5: =IF((0=1),SUMIFS('Null distribution by day'!$D$2:$D$2,'Null distribution by day'!$B$2:$B$2,"=d20261020"),"") | W5: =IF((0=1),SUMIFS('Null distribution by day'!$D$2:$D$2,'Null distribution by day'!$B$2:$B$2,"=d20261021"),"") | X5: =IF((0=1),SUMIFS('Null distribution by day'!$D$2:$D$2,'Null distribution by day'!$B$2:$B$2,"=d20261022"),"") | Y5: =IF((0=1),SUMIFS('Null distribution by day'!$D$2:$D$2,'Null distribution by day'!$B$2:$B$2,"=d20261023"),"") | Z5: =IF((0=1),SUMIFS('Null distribution by day'!$D$2:$D$2,'Null distribution by day'!$B$2:$B$2,"=d20261026"),"") | AA5: =IF((0=1),SUMIFS('Null distribution by day'!$D$2:$D$2,'Null distribution by day'!$B$2:$B$2,"=d20261027"),"") | AB5: =IF((0=1),SUMIFS('Null distribution by day'!$D$2:$D$2,'Null distribution by day'!$B$2:$B$2,"=d20261028"),"") | AC5: =IF((0=1),SUMIFS('Null distribution by day'!$D$2:$D$2,'Null distribution by day'!$B$2:$B$2,"=d20261029"),"") | AD5: =IF((0=1),SUMIFS('Null distribution by day'!$D$2:$D$2,'Null distribution by day'!$B$2:$B$2,"=d20261030"),"") | AE5: =IF((0=1),SUMIFS('Null distribution by day'!$D$2:$D$2,'Null distribution by day'!$B$2:$B$2,"=d20261102"),"") | AF5: =IF((0=1),SUMIFS('Null distribution by day'!$D$2:$D$2,'Null distribution by day'!$B$2:$B$2,"=d20261103"),"") | AG5: =IF((0=1),SUMIFS('Null distribution by day'!$D$2:$D$2,'Null distribution by day'!$B$2:$B$2,"=d20261104"),"") | AH5: =IF((0=1),SUMIFS('Null distribution by day'!$D$2:$D$2,'Null distribution by day'!$B$2:$B$2,"=d20261105"),"") | AI5: =IF((0=1),SUMIFS('Null distribution by day'!$D$2:$D$2,'Null distribution by day'!$B$2:$B$2,"=d20261106"),"") | AJ5: =IF((0=1),SUMIFS('Null distribution by day'!$D$2:$D$2,'Null distribution by day'!$B$2:$B$2,"=d20261109"),"") | AK5: =IF((0=1),SUMIFS('Null distribution by day'!$D$2:$D$2,'Null distribution by day'!$B$2:$B$2,"=d20261110"),"") | AL5: =IF((0=1),SUMIFS('Null distribution by day'!$D$2:$D$2,'Null distribution by day'!$B$2:$B$2,"=d20261111"),"") | AM5: =IF((0=1),SUMIFS('Null distribution by day'!$D$2:$D$2,'Null distribution by day'!$B$2:$B$2,"=d20261112"),"") | AN5: =IF((0=1),SUMIFS('Null distribution by day'!$D$2:$D$2,'Null distribution by day'!$B$2:$B$2,"=d20261113"),"") | AO5: =IF((0=1),SUMIFS('Null distribution by day'!$D$2:$D$2,'Null distribution by day'!$B$2:$B$2,"=d20261116"),"") | AP5: =IF((0=1),SUMIFS('Null distribution by day'!$D$2:$D$2,'Null distribution by day'!$B$2:$B$2,"=d20261117"),"") | AQ5: =IF((0=1),SUMIFS('Null distribution by day'!$D$2:$D$2,'Null distribution by day'!$B$2:$B$2,"=d20261118"),"") | AR5: =IF((0=1),SUMIFS('Null distribution by day'!$D$2:$D$2,'Null distribution by day'!$B$2:$B$2,"=d20261119"),"") | AS5: =IF((0=1),SUMIFS('Null distribution by day'!$D$2:$D$2,'Null distribution by day'!$B$2:$B$2,"=d20261120"),"") | AT5: =IF((0=1),SUMIFS('Null distribution by day'!$D$2:$D$2,'Null distribution by day'!$B$2:$B$2,"=d20261123"),"") | AU5: =IF((0=1),SUMIFS('Null distribution by day'!$D$2:$D$2,'Null distribution by day'!$B$2:$B$2,"=d20261124"),"") | AV5: =IF((0=1),SUMIFS('Null distribution by day'!$D$2:$D$2,'Null distribution by day'!$B$2:$B$2,"=d20261125"),"") | AW5: =IF((0=1),SUMIFS('Null distribution by day'!$D$2:$D$2,'Null distribution by day'!$B$2:$B$2,"=d20261127"),"") | AX5: =IF((0=1),SUMIFS('Null distribution by day'!$D$2:$D$2,'Null distribution by day'!$B$2:$B$2,"=d20261130"),"") | AY5: =IF((0=1),SUMIFS('Null distribution by day'!$D$2:$D$2,'Null distribution by day'!$B$2:$B$2,"=d20261201"),"") | AZ5: =IF((0=1),SUMIFS('Null distribution by day'!$D$2:$D$2,'Null distribution by day'!$B$2:$B$2,"=d20261202"),"") | BA5: =IF((0=1),SUMIFS('Null distribution by day'!$D$2:$D$2,'Null distribution by day'!$B$2:$B$2,"=d20261203"),"") | BB5: =IF((0=1),SUMIFS('Null distribution by day'!$D$2:$D$2,'Null distribution by day'!$B$2:$B$2,"=d20261204"),"") | BC5: =IF((0=1),SUMIFS('Null distribution by day'!$D$2:$D$2,'Null distribution by day'!$B$2:$B$2,"=d20261207"),"") | BD5: =IF((0=1),SUMIFS('Null distribution by day'!$D$2:$D$2,'Null distribution by day'!$B$2:$B$2,"=d20261208"),"") | BE5: =IF((0=1),SUMIFS('Null distribution by day'!$D$2:$D$2,'Null distribution by day'!$B$2:$B$2,"=d20261209"),"") | BF5: =IF((0=1),SUMIFS('Null distribution by day'!$D$2:$D$2,'Null distribution by day'!$B$2:$B$2,"=d20261210"),"") | BG5: =IF((0=1),SUMIFS('Null distribution by day'!$D$2:$D$2,'Null distribution by day'!$B$2:$B$2,"=d20261211"),"") | BH5: =IF((0=1),SUMIFS('Null distribution by day'!$D$2:$D$2,'Null distribution by day'!$B$2:$B$2,"=d20261214"),"") | BI5: =IF((0=1),SUMIFS('Null distribution by day'!$D$2:$D$2,'Null distribution by day'!$B$2:$B$2,"=d20261215"),"") | BJ5: =IF((0=1),SUMIFS('Null distribution by day'!$D$2:$D$2,'Null distribution by day'!$B$2:$B$2,"=d20261216"),"") | BK5: =IF((0=1),SUMIFS('Null distribution by day'!$D$2:$D$2,'Null distribution by day'!$B$2:$B$2,"=d20261217"),"") | BL5: =IF((0=1),SUMIFS('Null distribution by day'!$D$2:$D$2,'Null distribution by day'!$B$2:$B$2,"=d20261218"),"") | BM5: =IF((0=1),SUMIFS('Null distribution by day'!$D$2:$D$2,'Null distribution by day'!$B$2:$B$2,"=d20261221"),"") | BN5: =IF((0=1),SUMIFS('Null distribution by day'!$D$2:$D$2,'Null distribution by day'!$B$2:$B$2,"=d20261222"),"") | BO5: =IF((0=1),SUMIFS('Null distribution by day'!$D$2:$D$2,'Null distribution by day'!$B$2:$B$2,"=d20261223"),"") | BP5: =IF((0=1),SUMIFS('Null distribution by day'!$D$2:$D$2,'Null distribution by day'!$B$2:$B$2,"=d20261224"),"") | BQ5: =IF((0=1),SUMIFS('Null distribution by day'!$D$2:$D$2,'Null distribution by day'!$B$2:$B$2,"=d20261228"),"") | BR5: =IF((0=1),SUMIFS('Null distribution by day'!$D$2:$D$2,'Null distribution by day'!$B$2:$B$2,"=d20261229"),"") | BS5: =IF((0=1),SUMIFS('Null distribution by day'!$D$2:$D$2,'Null distribution by day'!$B$2:$B$2,"=d20261230"),"") | BT5: =IF((0=1),SUMIFS('Null distribution by day'!$D$2:$D$2,'Null distribution by day'!$B$2:$B$2,"=d20261231"),"") | BU5: =IF((0=1),SUMIFS('Null distribution by day'!$D$2:$D$2,'Null distribution by day'!$B$2:$B$2,"=d20270104"),"") | BV5: =IF((0=1),SUMIFS('Null distribution by day'!$D$2:$D$2,'Null distribution by day'!$B$2:$B$2,"=d20270105"),"") | BW5: =IF((0=1),SUMIFS('Null distribution by day'!$D$2:$D$2,'Null distribution by day'!$B$2:$B$2,"=d20270106"),"") | BX5: =IF((0=1),SUMIFS('Null distribution by day'!$D$2:$D$2,'Null distribution by day'!$B$2:$B$2,"=d20270107"),"") | BY5: =IF((0=1),SUMIFS('Null distribution by day'!$D$2:$D$2,'Null distribution by day'!$B$2:$B$2,"=d20270108"),"") | BZ5: =IF((0=1),SUMIFS('Null distribution by day'!$D$2:$D$2,'Null distribution by day'!$B$2:$B$2,"=d20270111"),"") | CA5: =IF((0=1),SUMIFS('Null distribution by day'!$D$2:$D$2,'Null distribution by day'!$B$2:$B$2,"=d20270112"),"") | CB5: =IF((0=1),SUMIFS('Null distribution by day'!$D$2:$D$2,'Null distribution by day'!$B$2:$B$2,"=d20270113"),"") | CC5: =IF((0=1),SUMIFS('Null distribution by day'!$D$2:$D$2,'Null distribution by day'!$B$2:$B$2,"=d20270114"),"") | CD5: =IF((0=1),SUMIFS('Null distribution by day'!$D$2:$D$2,'Null distribution by day'!$B$2:$B$2,"=d20270115"),"") | CE5: =IF((0=1),SUMIFS('Null distribution by day'!$D$2:$D$2,'Null distribution by day'!$B$2:$B$2,"=d20270119"),"") | CF5: =IF((0=1),SUMIFS('Null distribution by day'!$D$2:$D$2,'Null distribution by day'!$B$2:$B$2,"=d20270120"),"") | CG5: =IF((0=1),SUMIFS('Null distribution by day'!$D$2:$D$2,'Null distribution by day'!$B$2:$B$2,"=d20270121"),"") | CH5: =IF((0=1),SUMIFS('Null distribution by day'!$D$2:$D$2,'Null distribution by day'!$B$2:$B$2,"=d20270122"),"") | CI5: =IF((0=1),SUMIFS('Null distribution by day'!$D$2:$D$2,'Null distribution by day'!$B$2:$B$2,"=d20270125"),"") | CJ5: =IF((0=1),SUMIFS('Null distribution by day'!$D$2:$D$2,'Null distribution by day'!$B$2:$B$2,"=d20270126"),"") | CK5: =IF((0=1),SUMIFS('Null distribution by day'!$D$2:$D$2,'Null distribution by day'!$B$2:$B$2,"=d20270127"),"") | CL5: =IF((0=1),SUMIFS('Null distribution by day'!$D$2:$D$2,'Null distribution by day'!$B$2:$B$2,"=d20270128"),"") | CM5: =IF((0=1),SUMIFS('Null distribution by day'!$D$2:$D$2,'Null distribution by day'!$B$2:$B$2,"=d20270129"),"") | CN5: =IF((0=1),SUMIFS('Null distribution by day'!$D$2:$D$2,'Null distribution by day'!$B$2:$B$2,"=d20270201"),"") | CO5: =IF((0=1),SUMIFS('Null distribution by day'!$D$2:$D$2,'Null distribution by day'!$B$2:$B$2,"=d20270202"),"") | CP5: =IF((0=1),SUMIFS('Null distribution by day'!$D$2:$D$2,'Null distribution by day'!$B$2:$B$2,"=d20270203"),"") | CQ5: =IF((0=1),SUMIFS('Null distribution by day'!$D$2:$D$2,'Null distribution by day'!$B$2:$B$2,"=d20270204"),"") | CR5: =IF((0=1),SUMIFS('Null distribution by day'!$D$2:$D$2,'Null distribution by day'!$B$2:$B$2,"=d20270205"),"") | CS5: =IF((0=1),SUMIFS('Null distribution by day'!$D$2:$D$2,'Null distribution by day'!$B$2:$B$2,"=d20270208"),"") | CT5: =IF((0=1),SUMIFS('Null distribution by day'!$D$2:$D$2,'Null distribution by day'!$B$2:$B$2,"=d20270209"),"") | CU5: =IF((0=1),SUMIFS('Null distribution by day'!$D$2:$D$2,'Null distribution by day'!$B$2:$B$2,"=d20270210"),"") | CV5: =IF((0=1),SUMIFS('Null distribution by day'!$D$2:$D$2,'Null distribution by day'!$B$2:$B$2,"=d20270211"),"") | CW5: =IF((0=1),SUMIFS('Null distribution by day'!$D$2:$D$2,'Null distribution by day'!$B$2:$B$2,"=d20270212"),"")
