Workbook

Sheet Same-Month Seasonality
A1: Evaluated days
A2: line | B2: value
A3: Evaluated days | B3: ='Summary'!B2 -> 1
A5: Mean excess (bps/day)
A6: line | B6: value
A7: Mean sector-neutral excess, bps/day | B7: ='Summary'!B3 -> -21.574
A9: t-stat (skill bar: 3)
A10: line | B10: value
A11: t-stat | B11: ='Summary'!B11
A13: Random pods mean (bps/day)
A14: line | B14: value
A15: Random pods: mean, bps/day | B15: ='Summary'!B12 -> 0.827
A17: Cumulative sector-neutral excess vs the random-pod average (bps)
A18: line | B18: 09-22 | C18: 09-23 | D18: 09-24 | E18: 09-25 | F18: 09-28 | G18: 09-29 | H18: 09-30 | I18: 10-01 | J18: 10-02 | K18: 10-05 | L18: 10-06 | M18: 10-07 | N18: 10-08 | O18: 10-09 | P18: 10-12 | Q18: 10-13 | R18: 10-14 | S18: 10-15 | T18: 10-16 | U18: 10-19 | V18: 10-20 | W18: 10-21 | X18: 10-22 | Y18: 10-23 | Z18: 10-26 | AA18: 10-27 | AB18: 10-28 | AC18: 10-29 | AD18: 10-30 | AE18: 11-02 | AF18: 11-03 | AG18: 11-04 | AH18: 11-05 | AI18: 11-06 | AJ18: 11-09 | AK18: 11-10 | AL18: 11-11 | AM18: 11-12 | AN18: 11-13 | AO18: 11-16 | AP18: 11-17 | AQ18: 11-18 | AR18: 11-19 | AS18: 11-20 | AT18: 11-23 | AU18: 11-24 | AV18: 11-25 | AW18: 11-27 | AX18: 11-30 | AY18: 12-01 | AZ18: 12-02 | BA18: 12-03 | BB18: 12-04 | BC18: 12-07 | BD18: 12-08 | BE18: 12-09 | BF18: 12-10 | BG18: 12-11 | BH18: 12-14 | BI18: 12-15 | BJ18: 12-16 | BK18: 12-17 | BL18: 12-18 | BM18: 12-21 | BN18: 12-22 | BO18: 12-23 | BP18: 12-24 | BQ18: 12-28 | BR18: 12-29 | BS18: 12-30 | BT18: 12-31 | BU18: 01-04 | BV18: 01-05 | BW18: 01-06 | BX18: 01-07 | BY18: 01-08 | BZ18: 01-11 | CA18: 01-12 | CB18: 01-13 | CC18: 01-14 | CD18: 01-15 | CE18: 01-19 | CF18: 01-20 | CG18: 01-21 | CH18: 01-22 | CI18: 01-25 | CJ18: 01-26 | CK18: 01-27 | CL18: 01-28 | CM18: 01-29 | CN18: 02-01 | CO18: 02-02 | CP18: 02-03 | CQ18: 02-04 | CR18: 02-05 | CS18: 02-08 | CT18: 02-09 | CU18: 02-10 | CV18: 02-11 | CW18: 02-12
A19: Cumulative excess, bps | B19: ='By trading day'!B9 -> -21.574 | C19: ='By trading day'!C9 | D19: ='By trading day'!D9 | E19: ='By trading day'!E9 | F19: ='By trading day'!F9 | G19: ='By trading day'!G9 | H19: ='By trading day'!H9 | I19: ='By trading day'!I9 | ... CW19: ='By trading day'!CW9
A20: Random pods: cumulative average, bps | B20: ='By trading day'!B10 -> 0.827 | C20: ='By trading day'!C10 | D20: ='By trading day'!D10 | E20: ='By trading day'!E10 | F20: ='By trading day'!F10 | G20: ='By trading day'!G10 | H20: ='By trading day'!H10 | I20: ='By trading day'!I10 | ... CW20: ='By trading day'!CW10
A39: Daily excess vs random average and best random pod (bps)
A40: line | B40: 09-22 | C40: 09-23 | D40: 09-24 | E40: 09-25 | F40: 09-28 | G40: 09-29 | H40: 09-30 | I40: 10-01 | J40: 10-02 | K40: 10-05 | L40: 10-06 | M40: 10-07 | N40: 10-08 | O40: 10-09 | P40: 10-12 | Q40: 10-13 | R40: 10-14 | S40: 10-15 | T40: 10-16 | U40: 10-19 | V40: 10-20 | W40: 10-21 | X40: 10-22 | Y40: 10-23 | Z40: 10-26 | AA40: 10-27 | AB40: 10-28 | AC40: 10-29 | AD40: 10-30 | AE40: 11-02 | AF40: 11-03 | AG40: 11-04 | AH40: 11-05 | AI40: 11-06 | AJ40: 11-09 | AK40: 11-10 | AL40: 11-11 | AM40: 11-12 | AN40: 11-13 | AO40: 11-16 | AP40: 11-17 | AQ40: 11-18 | AR40: 11-19 | AS40: 11-20 | AT40: 11-23 | AU40: 11-24 | AV40: 11-25 | AW40: 11-27 | AX40: 11-30 | AY40: 12-01 | AZ40: 12-02 | BA40: 12-03 | BB40: 12-04 | BC40: 12-07 | BD40: 12-08 | BE40: 12-09 | BF40: 12-10 | BG40: 12-11 | BH40: 12-14 | BI40: 12-15 | BJ40: 12-16 | BK40: 12-17 | BL40: 12-18 | BM40: 12-21 | BN40: 12-22 | BO40: 12-23 | BP40: 12-24 | BQ40: 12-28 | BR40: 12-29 | BS40: 12-30 | BT40: 12-31 | BU40: 01-04 | BV40: 01-05 | BW40: 01-06 | BX40: 01-07 | BY40: 01-08 | BZ40: 01-11 | CA40: 01-12 | CB40: 01-13 | CC40: 01-14 | CD40: 01-15 | CE40: 01-19 | CF40: 01-20 | CG40: 01-21 | CH40: 01-22 | CI40: 01-25 | CJ40: 01-26 | CK40: 01-27 | CL40: 01-28 | CM40: 01-29 | CN40: 02-01 | CO40: 02-02 | CP40: 02-03 | CQ40: 02-04 | CR40: 02-05 | CS40: 02-08 | CT40: 02-09 | CU40: 02-10 | CV40: 02-11 | CW40: 02-12
A41: Sector-neutral overnight excess, bps | B41: ='By trading day'!B2 -> -21.574 | C41: ='By trading day'!C2 | D41: ='By trading day'!D2 | E41: ='By trading day'!E2 | F41: ='By trading day'!F2 | G41: ='By trading day'!G2 | H41: ='By trading day'!H2 | I41: ='By trading day'!I2 | ... CW41: ='By trading day'!CW2
A42: Random pods: average, bps | B42: ='By trading day'!B4 -> 0.827 | C42: ='By trading day'!C4 | D42: ='By trading day'!D4 | E42: ='By trading day'!E4 | F42: ='By trading day'!F4 | G42: ='By trading day'!G4 | H42: ='By trading day'!H4 | I42: ='By trading day'!I4 | ... CW42: ='By trading day'!CW4
A43: Random pods: best, bps | B43: ='By trading day'!B5 -> 13.888 | C43: ='By trading day'!C5 | D43: ='By trading day'!D5 | E43: ='By trading day'!E5 | F43: ='By trading day'!F5 | G43: ='By trading day'!G5 | H43: ='By trading day'!H5 | I43: ='By trading day'!I5 | ... CW43: ='By trading day'!CW5
A62: Running t-stat
A63: line | B63: 09-22 | C63: 09-23 | D63: 09-24 | E63: 09-25 | F63: 09-28 | G63: 09-29 | H63: 09-30 | I63: 10-01 | J63: 10-02 | K63: 10-05 | L63: 10-06 | M63: 10-07 | N63: 10-08 | O63: 10-09 | P63: 10-12 | Q63: 10-13 | R63: 10-14 | S63: 10-15 | T63: 10-16 | U63: 10-19 | V63: 10-20 | W63: 10-21 | X63: 10-22 | Y63: 10-23 | Z63: 10-26 | AA63: 10-27 | AB63: 10-28 | AC63: 10-29 | AD63: 10-30 | AE63: 11-02 | AF63: 11-03 | AG63: 11-04 | AH63: 11-05 | AI63: 11-06 | AJ63: 11-09 | AK63: 11-10 | AL63: 11-11 | AM63: 11-12 | AN63: 11-13 | AO63: 11-16 | AP63: 11-17 | AQ63: 11-18 | AR63: 11-19 | AS63: 11-20 | AT63: 11-23 | AU63: 11-24 | AV63: 11-25 | AW63: 11-27 | AX63: 11-30 | AY63: 12-01 | AZ63: 12-02 | BA63: 12-03 | BB63: 12-04 | BC63: 12-07 | BD63: 12-08 | BE63: 12-09 | BF63: 12-10 | BG63: 12-11 | BH63: 12-14 | BI63: 12-15 | BJ63: 12-16 | BK63: 12-17 | BL63: 12-18 | BM63: 12-21 | BN63: 12-22 | BO63: 12-23 | BP63: 12-24 | BQ63: 12-28 | BR63: 12-29 | BS63: 12-30 | BT63: 12-31 | BU63: 01-04 | BV63: 01-05 | BW63: 01-06 | BX63: 01-07 | BY63: 01-08 | BZ63: 01-11 | CA63: 01-12 | CB63: 01-13 | CC63: 01-14 | CD63: 01-15 | CE63: 01-19 | CF63: 01-20 | CG63: 01-21 | CH63: 01-22 | CI63: 01-25 | CJ63: 01-26 | CK63: 01-27 | CL63: 01-28 | CM63: 01-29 | CN63: 02-01 | CO63: 02-02 | CP63: 02-03 | CQ63: 02-04 | CR63: 02-05 | CS63: 02-08 | CT63: 02-09 | CU63: 02-10 | CV63: 02-11 | CW63: 02-12
A64: Running t-stat | B64: ='By trading day'!B16 | C64: ='By trading day'!C16 | D64: ='By trading day'!D16 | E64: ='By trading day'!E16 | F64: ='By trading day'!F16 | G64: ='By trading day'!G16 | H64: ='By trading day'!H16 | I64: ='By trading day'!I16 | ... CW64: ='By trading day'!CW16
A83: Cumulative excess, realized then projected at the running mean (bps)
A84: line | B84: 09-22 | C84: 09-23 | D84: 09-24 | E84: 09-25 | F84: 09-28 | G84: 09-29 | H84: 09-30 | I84: 10-01 | J84: 10-02 | K84: 10-05 | L84: 10-06 | M84: 10-07 | N84: 10-08 | O84: 10-09 | P84: 10-12 | Q84: 10-13 | R84: 10-14 | S84: 10-15 | T84: 10-16 | U84: 10-19 | V84: 10-20 | W84: 10-21 | X84: 10-22 | Y84: 10-23 | Z84: 10-26 | AA84: 10-27 | AB84: 10-28 | AC84: 10-29 | AD84: 10-30 | AE84: 11-02 | AF84: 11-03 | AG84: 11-04 | AH84: 11-05 | AI84: 11-06 | AJ84: 11-09 | AK84: 11-10 | AL84: 11-11 | AM84: 11-12 | AN84: 11-13 | AO84: 11-16 | AP84: 11-17 | AQ84: 11-18 | AR84: 11-19 | AS84: 11-20 | AT84: 11-23 | AU84: 11-24 | AV84: 11-25 | AW84: 11-27 | AX84: 11-30 | AY84: 12-01 | AZ84: 12-02 | BA84: 12-03 | BB84: 12-04 | BC84: 12-07 | BD84: 12-08 | BE84: 12-09 | BF84: 12-10 | BG84: 12-11 | BH84: 12-14 | BI84: 12-15 | BJ84: 12-16 | BK84: 12-17 | BL84: 12-18 | BM84: 12-21 | BN84: 12-22 | BO84: 12-23 | BP84: 12-24 | BQ84: 12-28 | BR84: 12-29 | BS84: 12-30 | BT84: 12-31 | BU84: 01-04 | BV84: 01-05 | BW84: 01-06 | BX84: 01-07 | BY84: 01-08 | BZ84: 01-11 | CA84: 01-12 | CB84: 01-13 | CC84: 01-14 | CD84: 01-15 | CE84: 01-19 | CF84: 01-20 | CG84: 01-21 | CH84: 01-22 | CI84: 01-25 | CJ84: 01-26 | CK84: 01-27 | CL84: 01-28 | CM84: 01-29 | CN84: 02-01 | CO84: 02-02 | CP84: 02-03 | CQ84: 02-04 | CR84: 02-05 | CS84: 02-08 | CT84: 02-09 | CU84: 02-10 | CV84: 02-11 | CW84: 02-12
A85: Cumulative excess, realized then projected | B85: ='By trading day'!B18 -> -21.574 | C85: ='By trading day'!C18 -> -43.148 | D85: ='By trading day'!D18 -> -64.722 | E85: ='By trading day'!E18 -> -86.296 | F85: ='By trading day'!F18 -> -107.87 | G85: ='By trading day'!G18 -> -129.444 | H85: ='By trading day'!H18 -> -151.018 | I85: ='By trading day'!I18 -> -172.592 | ... CW85: ='By trading day'!CW18 -> -2157.4
A104: Sector mix of the picks
A105: sector | B105: Picks
A106: Basic Materials | B106: ='Sector mix of picks (2026-09-23'!B2 -> #N/A
A107: Communication Services | B107: ='Sector mix of picks (2026-09-23'!C2 -> #N/A
A108: Consumer Cyclical | B108: ='Sector mix of picks (2026-09-23'!D2 -> #N/A
A109: Consumer Defensive | B109: ='Sector mix of picks (2026-09-23'!E2 -> #N/A
A110: Energy | B110: ='Sector mix of picks (2026-09-23'!F2 -> #N/A
A111: Financial Services | B111: ='Sector mix of picks (2026-09-23'!G2 -> #N/A
A112: Healthcare | B112: ='Sector mix of picks (2026-09-23'!H2 -> #N/A
A113: Industrials | B113: ='Sector mix of picks (2026-09-23'!I2 -> #N/A
A114: Real Estate | B114: ='Sector mix of picks (2026-09-23'!J2 -> #N/A
A115: Technology | B115: ='Sector mix of picks (2026-09-23'!K2 -> #N/A
A116: Utilities | B116: ='Sector mix of picks (2026-09-23'!L2 -> #N/A
A135: Summary statistics
A136: line | B136: value
A137: Evaluated days | B137: ='Summary'!B2 -> 1
A138: Mean sector-neutral excess, bps/day | B138: ='Summary'!B3 -> -21.574
A139: Cumulative excess, bps | B139: ='Summary'!B4 -> -21.574
A140: Mean net of costs, bps/day | B140: ='Summary'!B5 -> -18.298
A141: Hit rate | B141: ='Summary'!B6 -> 0.5
A142: Mean IC | B142: ='Summary'!B7 -> 0.0123
A143: Close-to-close sector-neutral excess, bps/day | B143: ='Summary'!B8
A144: Mean of squares | B144: ='Summary'!B9 -> 465.431
A145: Daily sd, bps | B145: ='Summary'!B10 -> 0
A146: t-stat | B146: ='Summary'!B11
A147: Random pods: mean, bps/day | B147: ='Summary'!B12 -> 0.827
A148: Random pods: best day-average, bps | B148: ='Summary'!B13 -> 13.888
... A151: Names scored per day | B151: ='Summary'!B16 -> 1436
A153: Assumptions (edit) | B153: Inputs: edit the blue cells on the 'Assumptions (edit)' sheet; this table follows them.
A154: line | B154: value
A155: Assumed round-trip cost, bps | B155: ='Assumptions (edit)'!B2 -> 10
A156: t-stat required to call it skill | B156: ='Assumptions (edit)'!B3 -> 3
A157: Watch horizon, trading days | B157: ='Assumptions (edit)'!B4 -> 100
A158: Notional, $ | B158: ='Assumptions (edit)'!B5 -> 100000
A160: Every cell on this sheet refers to the statement sheets; edit inputs there (blue) and this dashboard follows.

Sheet Assumptions (edit)
A1: line | B1: value
A2: Assumed round-trip cost, bps | B2: 10
A3: t-stat required to call it skill | B3: 3
A4: Watch horizon, trading days | B4: 100
A5: Notional, $ | B5: 100000

Sheet By trading day
A1: line | B1: 09-22 | C1: 09-23 | D1: 09-24 | E1: 09-25 | F1: 09-28 | G1: 09-29 | H1: 09-30 | I1: 10-01 | J1: 10-02 | K1: 10-05 | L1: 10-06 | M1: 10-07 | N1: 10-08 | O1: 10-09 | P1: 10-12 | Q1: 10-13 | R1: 10-14 | S1: 10-15 | T1: 10-16 | U1: 10-19 | V1: 10-20 | W1: 10-21 | X1: 10-22 | Y1: 10-23 | Z1: 10-26 | AA1: 10-27 | AB1: 10-28 | AC1: 10-29 | AD1: 10-30 | AE1: 11-02 | AF1: 11-03 | AG1: 11-04 | AH1: 11-05 | AI1: 11-06 | AJ1: 11-09 | AK1: 11-10 | AL1: 11-11 | AM1: 11-12 | AN1: 11-13 | AO1: 11-16 | AP1: 11-17 | AQ1: 11-18 | AR1: 11-19 | AS1: 11-20 | AT1: 11-23 | AU1: 11-24 | AV1: 11-25 | AW1: 11-27 | AX1: 11-30 | AY1: 12-01 | AZ1: 12-02 | BA1: 12-03 | BB1: 12-04 | BC1: 12-07 | BD1: 12-08 | BE1: 12-09 | BF1: 12-10 | BG1: 12-11 | BH1: 12-14 | BI1: 12-15 | BJ1: 12-16 | BK1: 12-17 | BL1: 12-18 | BM1: 12-21 | BN1: 12-22 | BO1: 12-23 | BP1: 12-24 | BQ1: 12-28 | BR1: 12-29 | BS1: 12-30 | BT1: 12-31 | BU1: 01-04 | BV1: 01-05 | BW1: 01-06 | BX1: 01-07 | BY1: 01-08 | BZ1: 01-11 | CA1: 01-12 | CB1: 01-13 | CC1: 01-14 | CD1: 01-15 | CE1: 01-19 | CF1: 01-20 | CG1: 01-21 | CH1: 01-22 | CI1: 01-25 | CJ1: 01-26 | CK1: 01-27 | CL1: 01-28 | CM1: 01-29 | CN1: 02-01 | CO1: 02-02 | CP1: 02-03 | CQ1: 02-04 | CR1: 02-05 | CS1: 02-08 | CT1: 02-09 | CU1: 02-10 | CV1: 02-11 | CW1: 02-12
A2: Sector-neutral overnight excess, bps | B2: =IF((1=1),SUMIFS('Daily evaluations'!$C$2:$C$2,'Daily evaluations'!$B$2:$B$2,"=d20260922"),"") -> -21.574 | C2: =IF((0=1),SUMIFS('Daily evaluations'!$C$2:$C$2,'Daily evaluations'!$B$2:$B$2,"=d20260923"),"") | D2: =IF((0=1),SUMIFS('Daily evaluations'!$C$2:$C$2,'Daily evaluations'!$B$2:$B$2,"=d20260924"),"") | E2: =IF((0=1),SUMIFS('Daily evaluations'!$C$2:$C$2,'Daily evaluations'!$B$2:$B$2,"=d20260925"),"") | F2: =IF((0=1),SUMIFS('Daily evaluations'!$C$2:$C$2,'Daily evaluations'!$B$2:$B$2,"=d20260928"),"") | G2: =IF((0=1),SUMIFS('Daily evaluations'!$C$2:$C$2,'Daily evaluations'!$B$2:$B$2,"=d20260929"),"") | H2: =IF((0=1),SUMIFS('Daily evaluations'!$C$2:$C$2,'Daily evaluations'!$B$2:$B$2,"=d20260930"),"") | I2: =IF((0=1),SUMIFS('Daily evaluations'!$C$2:$C$2,'Daily evaluations'!$B$2:$B$2,"=d20261001"),"") | J2: =IF((0=1),SUMIFS('Daily evaluations'!$C$2:$C$2,'Daily evaluations'!$B$2:$B$2,"=d20261002"),"") | K2: =IF((0=1),SUMIFS('Daily evaluations'!$C$2:$C$2,'Daily evaluations'!$B$2:$B$2,"=d20261005"),"") | L2: =IF((0=1),SUMIFS('Daily evaluations'!$C$2:$C$2,'Daily evaluations'!$B$2:$B$2,"=d20261006"),"") | M2: =IF((0=1),SUMIFS('Daily evaluations'!$C$2:$C$2,'Daily evaluations'!$B$2:$B$2,"=d20261007"),"") | N2: =IF((0=1),SUMIFS('Daily evaluations'!$C$2:$C$2,'Daily evaluations'!$B$2:$B$2,"=d20261008"),"") | O2: =IF((0=1),SUMIFS('Daily evaluations'!$C$2:$C$2,'Daily evaluations'!$B$2:$B$2,"=d20261009"),"") | P2: =IF((0=1),SUMIFS('Daily evaluations'!$C$2:$C$2,'Daily evaluations'!$B$2:$B$2,"=d20261012"),"") | Q2: =IF((0=1),SUMIFS('Daily evaluations'!$C$2:$C$2,'Daily evaluations'!$B$2:$B$2,"=d20261013"),"") | R2: =IF((0=1),SUMIFS('Daily evaluations'!$C$2:$C$2,'Daily evaluations'!$B$2:$B$2,"=d20261014"),"") | S2: =IF((0=1),SUMIFS('Daily evaluations'!$C$2:$C$2,'Daily evaluations'!$B$2:$B$2,"=d20261015"),"") | T2: =IF((0=1),SUMIFS('Daily evaluations'!$C$2:$C$2,'Daily evaluations'!$B$2:$B$2,"=d20261016"),"") | U2: =IF((0=1),SUMIFS('Daily evaluations'!$C$2:$C$2,'Daily evaluations'!$B$2:$B$2,"=d20261019"),"") | V2: =IF((0=1),SUMIFS('Daily evaluations'!$C$2:$C$2,'Daily evaluations'!$B$2:$B$2,"=d20261020"),"") | W2: =IF((0=1),SUMIFS('Daily evaluations'!$C$2:$C$2,'Daily evaluations'!$B$2:$B$2,"=d20261021"),"") | X2: =IF((0=1),SUMIFS('Daily evaluations'!$C$2:$C$2,'Daily evaluations'!$B$2:$B$2,"=d20261022"),"") | Y2: =IF((0=1),SUMIFS('Daily evaluations'!$C$2:$C$2,'Daily evaluations'!$B$2:$B$2,"=d20261023"),"") | Z2: =IF((0=1),SUMIFS('Daily evaluations'!$C$2:$C$2,'Daily evaluations'!$B$2:$B$2,"=d20261026"),"") | AA2: =IF((0=1),SUMIFS('Daily evaluations'!$C$2:$C$2,'Daily evaluations'!$B$2:$B$2,"=d20261027"),"") | AB2: =IF((0=1),SUMIFS('Daily evaluations'!$C$2:$C$2,'Daily evaluations'!$B$2:$B$2,"=d20261028"),"") | AC2: =IF((0=1),SUMIFS('Daily evaluations'!$C$2:$C$2,'Daily evaluations'!$B$2:$B$2,"=d20261029"),"") | AD2: =IF((0=1),SUMIFS('Daily evaluations'!$C$2:$C$2,'Daily evaluations'!$B$2:$B$2,"=d20261030"),"") | AE2: =IF((0=1),SUMIFS('Daily evaluations'!$C$2:$C$2,'Daily evaluations'!$B$2:$B$2,"=d20261102"),"") | AF2: =IF((0=1),SUMIFS('Daily evaluations'!$C$2:$C$2,'Daily evaluations'!$B$2:$B$2,"=d20261103"),"") | AG2: =IF((0=1),SUMIFS('Daily evaluations'!$C$2:$C$2,'Daily evaluations'!$B$2:$B$2,"=d20261104"),"") | AH2: =IF((0=1),SUMIFS('Daily evaluations'!$C$2:$C$2,'Daily evaluations'!$B$2:$B$2,"=d20261105"),"") | AI2: =IF((0=1),SUMIFS('Daily evaluations'!$C$2:$C$2,'Daily evaluations'!$B$2:$B$2,"=d20261106"),"") | AJ2: =IF((0=1),SUMIFS('Daily evaluations'!$C$2:$C$2,'Daily evaluations'!$B$2:$B$2,"=d20261109"),"") | AK2: =IF((0=1),SUMIFS('Daily evaluations'!$C$2:$C$2,'Daily evaluations'!$B$2:$B$2,"=d20261110"),"") | AL2: =IF((0=1),SUMIFS('Daily evaluations'!$C$2:$C$2,'Daily evaluations'!$B$2:$B$2,"=d20261111"),"") | AM2: =IF((0=1),SUMIFS('Daily evaluations'!$C$2:$C$2,'Daily evaluations'!$B$2:$B$2,"=d20261112"),"") | AN2: =IF((0=1),SUMIFS('Daily evaluations'!$C$2:$C$2,'Daily evaluations'!$B$2:$B$2,"=d20261113"),"") | AO2: =IF((0=1),SUMIFS('Daily evaluations'!$C$2:$C$2,'Daily evaluations'!$B$2:$B$2,"=d20261116"),"") | AP2: =IF((0=1),SUMIFS('Daily evaluations'!$C$2:$C$2,'Daily evaluations'!$B$2:$B$2,"=d20261117"),"") | AQ2: =IF((0=1),SUMIFS('Daily evaluations'!$C$2:$C$2,'Daily evaluations'!$B$2:$B$2,"=d20261118"),"") | AR2: =IF((0=1),SUMIFS('Daily evaluations'!$C$2:$C$2,'Daily evaluations'!$B$2:$B$2,"=d20261119"),"") | AS2: =IF((0=1),SUMIFS('Daily evaluations'!$C$2:$C$2,'Daily evaluations'!$B$2:$B$2,"=d20261120"),"") | AT2: =IF((0=1),SUMIFS('Daily evaluations'!$C$2:$C$2,'Daily evaluations'!$B$2:$B$2,"=d20261123"),"") | AU2: =IF((0=1),SUMIFS('Daily evaluations'!$C$2:$C$2,'Daily evaluations'!$B$2:$B$2,"=d20261124"),"") | AV2: =IF((0=1),SUMIFS('Daily evaluations'!$C$2:$C$2,'Daily evaluations'!$B$2:$B$2,"=d20261125"),"") | AW2: =IF((0=1),SUMIFS('Daily evaluations'!$C$2:$C$2,'Daily evaluations'!$B$2:$B$2,"=d20261127"),"") | AX2: =IF((0=1),SUMIFS('Daily evaluations'!$C$2:$C$2,'Daily evaluations'!$B$2:$B$2,"=d20261130"),"") | AY2: =IF((0=1),SUMIFS('Daily evaluations'!$C$2:$C$2,'Daily evaluations'!$B$2:$B$2,"=d20261201"),"") | AZ2: =IF((0=1),SUMIFS('Daily evaluations'!$C$2:$C$2,'Daily evaluations'!$B$2:$B$2,"=d20261202"),"") | BA2: =IF((0=1),SUMIFS('Daily evaluations'!$C$2:$C$2,'Daily evaluations'!$B$2:$B$2,"=d20261203"),"") | BB2: =IF((0=1),SUMIFS('Daily evaluations'!$C$2:$C$2,'Daily evaluations'!$B$2:$B$2,"=d20261204"),"") | BC2: =IF((0=1),SUMIFS('Daily evaluations'!$C$2:$C$2,'Daily evaluations'!$B$2:$B$2,"=d20261207"),"") | BD2: =IF((0=1),SUMIFS('Daily evaluations'!$C$2:$C$2,'Daily evaluations'!$B$2:$B$2,"=d20261208"),"") | BE2: =IF((0=1),SUMIFS('Daily evaluations'!$C$2:$C$2,'Daily evaluations'!$B$2:$B$2,"=d20261209"),"") | BF2: =IF((0=1),SUMIFS('Daily evaluations'!$C$2:$C$2,'Daily evaluations'!$B$2:$B$2,"=d20261210"),"") | BG2: =IF((0=1),SUMIFS('Daily evaluations'!$C$2:$C$2,'Daily evaluations'!$B$2:$B$2,"=d20261211"),"") | BH2: =IF((0=1),SUMIFS('Daily evaluations'!$C$2:$C$2,'Daily evaluations'!$B$2:$B$2,"=d20261214"),"") | BI2: =IF((0=1),SUMIFS('Daily evaluations'!$C$2:$C$2,'Daily evaluations'!$B$2:$B$2,"=d20261215"),"") | BJ2: =IF((0=1),SUMIFS('Daily evaluations'!$C$2:$C$2,'Daily evaluations'!$B$2:$B$2,"=d20261216"),"") | BK2: =IF((0=1),SUMIFS('Daily evaluations'!$C$2:$C$2,'Daily evaluations'!$B$2:$B$2,"=d20261217"),"") | BL2: =IF((0=1),SUMIFS('Daily evaluations'!$C$2:$C$2,'Daily evaluations'!$B$2:$B$2,"=d20261218"),"") | BM2: =IF((0=1),SUMIFS('Daily evaluations'!$C$2:$C$2,'Daily evaluations'!$B$2:$B$2,"=d20261221"),"") | BN2: =IF((0=1),SUMIFS('Daily evaluations'!$C$2:$C$2,'Daily evaluations'!$B$2:$B$2,"=d20261222"),"") | BO2: =IF((0=1),SUMIFS('Daily evaluations'!$C$2:$C$2,'Daily evaluations'!$B$2:$B$2,"=d20261223"),"") | BP2: =IF((0=1),SUMIFS('Daily evaluations'!$C$2:$C$2,'Daily evaluations'!$B$2:$B$2,"=d20261224"),"") | BQ2: =IF((0=1),SUMIFS('Daily evaluations'!$C$2:$C$2,'Daily evaluations'!$B$2:$B$2,"=d20261228"),"") | BR2: =IF((0=1),SUMIFS('Daily evaluations'!$C$2:$C$2,'Daily evaluations'!$B$2:$B$2,"=d20261229"),"") | BS2: =IF((0=1),SUMIFS('Daily evaluations'!$C$2:$C$2,'Daily evaluations'!$B$2:$B$2,"=d20261230"),"") | BT2: =IF((0=1),SUMIFS('Daily evaluations'!$C$2:$C$2,'Daily evaluations'!$B$2:$B$2,"=d20261231"),"") | BU2: =IF((0=1),SUMIFS('Daily evaluations'!$C$2:$C$2,'Daily evaluations'!$B$2:$B$2,"=d20270104"),"") | BV2: =IF((0=1),SUMIFS('Daily evaluations'!$C$2:$C$2,'Daily evaluations'!$B$2:$B$2,"=d20270105"),"") | BW2: =IF((0=1),SUMIFS('Daily evaluations'!$C$2:$C$2,'Daily evaluations'!$B$2:$B$2,"=d20270106"),"") | BX2: =IF((0=1),SUMIFS('Daily evaluations'!$C$2:$C$2,'Daily evaluations'!$B$2:$B$2,"=d20270107"),"") | BY2: =IF((0=1),SUMIFS('Daily evaluations'!$C$2:$C$2,'Daily evaluations'!$B$2:$B$2,"=d20270108"),"") | BZ2: =IF((0=1),SUMIFS('Daily evaluations'!$C$2:$C$2,'Daily evaluations'!$B$2:$B$2,"=d20270111"),"") | CA2: =IF((0=1),SUMIFS('Daily evaluations'!$C$2:$C$2,'Daily evaluations'!$B$2:$B$2,"=d20270112"),"") | CB2: =IF((0=1),SUMIFS('Daily evaluations'!$C$2:$C$2,'Daily evaluations'!$B$2:$B$2,"=d20270113"),"") | CC2: =IF((0=1),SUMIFS('Daily evaluations'!$C$2:$C$2,'Daily evaluations'!$B$2:$B$2,"=d20270114"),"") | CD2: =IF((0=1),SUMIFS('Daily evaluations'!$C$2:$C$2,'Daily evaluations'!$B$2:$B$2,"=d20270115"),"") | CE2: =IF((0=1),SUMIFS('Daily evaluations'!$C$2:$C$2,'Daily evaluations'!$B$2:$B$2,"=d20270119"),"") | CF2: =IF((0=1),SUMIFS('Daily evaluations'!$C$2:$C$2,'Daily evaluations'!$B$2:$B$2,"=d20270120"),"") | CG2: =IF((0=1),SUMIFS('Daily evaluations'!$C$2:$C$2,'Daily evaluations'!$B$2:$B$2,"=d20270121"),"") | CH2: =IF((0=1),SUMIFS('Daily evaluations'!$C$2:$C$2,'Daily evaluations'!$B$2:$B$2,"=d20270122"),"") | CI2: =IF((0=1),SUMIFS('Daily evaluations'!$C$2:$C$2,'Daily evaluations'!$B$2:$B$2,"=d20270125"),"") | CJ2: =IF((0=1),SUMIFS('Daily evaluations'!$C$2:$C$2,'Daily evaluations'!$B$2:$B$2,"=d20270126"),"") | CK2: =IF((0=1),SUMIFS('Daily evaluations'!$C$2:$C$2,'Daily evaluations'!$B$2:$B$2,"=d20270127"),"") | CL2: =IF((0=1),SUMIFS('Daily evaluations'!$C$2:$C$2,'Daily evaluations'!$B$2:$B$2,"=d20270128"),"") | CM2: =IF((0=1),SUMIFS('Daily evaluations'!$C$2:$C$2,'Daily evaluations'!$B$2:$B$2,"=d20270129"),"") | CN2: =IF((0=1),SUMIFS('Daily evaluations'!$C$2:$C$2,'Daily evaluations'!$B$2:$B$2,"=d20270201"),"") | CO2: =IF((0=1),SUMIFS('Daily evaluations'!$C$2:$C$2,'Daily evaluations'!$B$2:$B$2,"=d20270202"),"") | CP2: =IF((0=1),SUMIFS('Daily evaluations'!$C$2:$C$2,'Daily evaluations'!$B$2:$B$2,"=d20270203"),"") | CQ2: =IF((0=1),SUMIFS('Daily evaluations'!$C$2:$C$2,'Daily evaluations'!$B$2:$B$2,"=d20270204"),"") | CR2: =IF((0=1),SUMIFS('Daily evaluations'!$C$2:$C$2,'Daily evaluations'!$B$2:$B$2,"=d20270205"),"") | CS2: =IF((0=1),SUMIFS('Daily evaluations'!$C$2:$C$2,'Daily evaluations'!$B$2:$B$2,"=d20270208"),"") | CT2: =IF((0=1),SUMIFS('Daily evaluations'!$C$2:$C$2,'Daily evaluations'!$B$2:$B$2,"=d20270209"),"") | CU2: =IF((0=1),SUMIFS('Daily evaluations'!$C$2:$C$2,'Daily evaluations'!$B$2:$B$2,"=d20270210"),"") | CV2: =IF((0=1),SUMIFS('Daily evaluations'!$C$2:$C$2,'Daily evaluations'!$B$2:$B$2,"=d20270211"),"") | CW2: =IF((0=1),SUMIFS('Daily evaluations'!$C$2:$C$2,'Daily evaluations'!$B$2:$B$2,"=d20270212"),"")
A3: Net of costs, bps | B3: =IF((1=1),(SUMIFS('Daily evaluations'!$D$2:$D$2,'Daily evaluations'!$B$2:$B$2,"=d20260922")-'Assumptions (edit)'!B2),"") -> -18.298 | C3: =IF((0=1),(SUMIFS('Daily evaluations'!$D$2:$D$2,'Daily evaluations'!$B$2:$B$2,"=d20260923")-'Assumptions (edit)'!B2),"") | D3: =IF((0=1),(SUMIFS('Daily evaluations'!$D$2:$D$2,'Daily evaluations'!$B$2:$B$2,"=d20260924")-'Assumptions (edit)'!B2),"") | E3: =IF((0=1),(SUMIFS('Daily evaluations'!$D$2:$D$2,'Daily evaluations'!$B$2:$B$2,"=d20260925")-'Assumptions (edit)'!B2),"") | F3: =IF((0=1),(SUMIFS('Daily evaluations'!$D$2:$D$2,'Daily evaluations'!$B$2:$B$2,"=d20260928")-'Assumptions (edit)'!B2),"") | G3: =IF((0=1),(SUMIFS('Daily evaluations'!$D$2:$D$2,'Daily evaluations'!$B$2:$B$2,"=d20260929")-'Assumptions (edit)'!B2),"") | H3: =IF((0=1),(SUMIFS('Daily evaluations'!$D$2:$D$2,'Daily evaluations'!$B$2:$B$2,"=d20260930")-'Assumptions (edit)'!B2),"") | I3: =IF((0=1),(SUMIFS('Daily evaluations'!$D$2:$D$2,'Daily evaluations'!$B$2:$B$2,"=d20261001")-'Assumptions (edit)'!B2),"") | J3: =IF((0=1),(SUMIFS('Daily evaluations'!$D$2:$D$2,'Daily evaluations'!$B$2:$B$2,"=d20261002")-'Assumptions (edit)'!B2),"") | K3: =IF((0=1),(SUMIFS('Daily evaluations'!$D$2:$D$2,'Daily evaluations'!$B$2:$B$2,"=d20261005")-'Assumptions (edit)'!B2),"") | L3: =IF((0=1),(SUMIFS('Daily evaluations'!$D$2:$D$2,'Daily evaluations'!$B$2:$B$2,"=d20261006")-'Assumptions (edit)'!B2),"") | M3: =IF((0=1),(SUMIFS('Daily evaluations'!$D$2:$D$2,'Daily evaluations'!$B$2:$B$2,"=d20261007")-'Assumptions (edit)'!B2),"") | N3: =IF((0=1),(SUMIFS('Daily evaluations'!$D$2:$D$2,'Daily evaluations'!$B$2:$B$2,"=d20261008")-'Assumptions (edit)'!B2),"") | O3: =IF((0=1),(SUMIFS('Daily evaluations'!$D$2:$D$2,'Daily evaluations'!$B$2:$B$2,"=d20261009")-'Assumptions (edit)'!B2),"") | P3: =IF((0=1),(SUMIFS('Daily evaluations'!$D$2:$D$2,'Daily evaluations'!$B$2:$B$2,"=d20261012")-'Assumptions (edit)'!B2),"") | Q3: =IF((0=1),(SUMIFS('Daily evaluations'!$D$2:$D$2,'Daily evaluations'!$B$2:$B$2,"=d20261013")-'Assumptions (edit)'!B2),"") | R3: =IF((0=1),(SUMIFS('Daily evaluations'!$D$2:$D$2,'Daily evaluations'!$B$2:$B$2,"=d20261014")-'Assumptions (edit)'!B2),"") | S3: =IF((0=1),(SUMIFS('Daily evaluations'!$D$2:$D$2,'Daily evaluations'!$B$2:$B$2,"=d20261015")-'Assumptions (edit)'!B2),"") | T3: =IF((0=1),(SUMIFS('Daily evaluations'!$D$2:$D$2,'Daily evaluations'!$B$2:$B$2,"=d20261016")-'Assumptions (edit)'!B2),"") | U3: =IF((0=1),(SUMIFS('Daily evaluations'!$D$2:$D$2,'Daily evaluations'!$B$2:$B$2,"=d20261019")-'Assumptions (edit)'!B2),"") | V3: =IF((0=1),(SUMIFS('Daily evaluations'!$D$2:$D$2,'Daily evaluations'!$B$2:$B$2,"=d20261020")-'Assumptions (edit)'!B2),"") | W3: =IF((0=1),(SUMIFS('Daily evaluations'!$D$2:$D$2,'Daily evaluations'!$B$2:$B$2,"=d20261021")-'Assumptions (edit)'!B2),"") | X3: =IF((0=1),(SUMIFS('Daily evaluations'!$D$2:$D$2,'Daily evaluations'!$B$2:$B$2,"=d20261022")-'Assumptions (edit)'!B2),"") | Y3: =IF((0=1),(SUMIFS('Daily evaluations'!$D$2:$D$2,'Daily evaluations'!$B$2:$B$2,"=d20261023")-'Assumptions (edit)'!B2),"") | Z3: =IF((0=1),(SUMIFS('Daily evaluations'!$D$2:$D$2,'Daily evaluations'!$B$2:$B$2,"=d20261026")-'Assumptions (edit)'!B2),"") | AA3: =IF((0=1),(SUMIFS('Daily evaluations'!$D$2:$D$2,'Daily evaluations'!$B$2:$B$2,"=d20261027")-'Assumptions (edit)'!B2),"") | AB3: =IF((0=1),(SUMIFS('Daily evaluations'!$D$2:$D$2,'Daily evaluations'!$B$2:$B$2,"=d20261028")-'Assumptions (edit)'!B2),"") | AC3: =IF((0=1),(SUMIFS('Daily evaluations'!$D$2:$D$2,'Daily evaluations'!$B$2:$B$2,"=d20261029")-'Assumptions (edit)'!B2),"") | AD3: =IF((0=1),(SUMIFS('Daily evaluations'!$D$2:$D$2,'Daily evaluations'!$B$2:$B$2,"=d20261030")-'Assumptions (edit)'!B2),"") | AE3: =IF((0=1),(SUMIFS('Daily evaluations'!$D$2:$D$2,'Daily evaluations'!$B$2:$B$2,"=d20261102")-'Assumptions (edit)'!B2),"") | AF3: =IF((0=1),(SUMIFS('Daily evaluations'!$D$2:$D$2,'Daily evaluations'!$B$2:$B$2,"=d20261103")-'Assumptions (edit)'!B2),"") | AG3: =IF((0=1),(SUMIFS('Daily evaluations'!$D$2:$D$2,'Daily evaluations'!$B$2:$B$2,"=d20261104")-'Assumptions (edit)'!B2),"") | AH3: =IF((0=1),(SUMIFS('Daily evaluations'!$D$2:$D$2,'Daily evaluations'!$B$2:$B$2,"=d20261105")-'Assumptions (edit)'!B2),"") | AI3: =IF((0=1),(SUMIFS('Daily evaluations'!$D$2:$D$2,'Daily evaluations'!$B$2:$B$2,"=d20261106")-'Assumptions (edit)'!B2),"") | AJ3: =IF((0=1),(SUMIFS('Daily evaluations'!$D$2:$D$2,'Daily evaluations'!$B$2:$B$2,"=d20261109")-'Assumptions (edit)'!B2),"") | AK3: =IF((0=1),(SUMIFS('Daily evaluations'!$D$2:$D$2,'Daily evaluations'!$B$2:$B$2,"=d20261110")-'Assumptions (edit)'!B2),"") | AL3: =IF((0=1),(SUMIFS('Daily evaluations'!$D$2:$D$2,'Daily evaluations'!$B$2:$B$2,"=d20261111")-'Assumptions (edit)'!B2),"") | AM3: =IF((0=1),(SUMIFS('Daily evaluations'!$D$2:$D$2,'Daily evaluations'!$B$2:$B$2,"=d20261112")-'Assumptions (edit)'!B2),"") | AN3: =IF((0=1),(SUMIFS('Daily evaluations'!$D$2:$D$2,'Daily evaluations'!$B$2:$B$2,"=d20261113")-'Assumptions (edit)'!B2),"") | AO3: =IF((0=1),(SUMIFS('Daily evaluations'!$D$2:$D$2,'Daily evaluations'!$B$2:$B$2,"=d20261116")-'Assumptions (edit)'!B2),"") | AP3: =IF((0=1),(SUMIFS('Daily evaluations'!$D$2:$D$2,'Daily evaluations'!$B$2:$B$2,"=d20261117")-'Assumptions (edit)'!B2),"") | AQ3: =IF((0=1),(SUMIFS('Daily evaluations'!$D$2:$D$2,'Daily evaluations'!$B$2:$B$2,"=d20261118")-'Assumptions (edit)'!B2),"") | AR3: =IF((0=1),(SUMIFS('Daily evaluations'!$D$2:$D$2,'Daily evaluations'!$B$2:$B$2,"=d20261119")-'Assumptions (edit)'!B2),"") | AS3: =IF((0=1),(SUMIFS('Daily evaluations'!$D$2:$D$2,'Daily evaluations'!$B$2:$B$2,"=d20261120")-'Assumptions (edit)'!B2),"") | AT3: =IF((0=1),(SUMIFS('Daily evaluations'!$D$2:$D$2,'Daily evaluations'!$B$2:$B$2,"=d20261123")-'Assumptions (edit)'!B2),"") | AU3: =IF((0=1),(SUMIFS('Daily evaluations'!$D$2:$D$2,'Daily evaluations'!$B$2:$B$2,"=d20261124")-'Assumptions (edit)'!B2),"") | AV3: =IF((0=1),(SUMIFS('Daily evaluations'!$D$2:$D$2,'Daily evaluations'!$B$2:$B$2,"=d20261125")-'Assumptions (edit)'!B2),"") | AW3: =IF((0=1),(SUMIFS('Daily evaluations'!$D$2:$D$2,'Daily evaluations'!$B$2:$B$2,"=d20261127")-'Assumptions (edit)'!B2),"") | AX3: =IF((0=1),(SUMIFS('Daily evaluations'!$D$2:$D$2,'Daily evaluations'!$B$2:$B$2,"=d20261130")-'Assumptions (edit)'!B2),"") | AY3: =IF((0=1),(SUMIFS('Daily evaluations'!$D$2:$D$2,'Daily evaluations'!$B$2:$B$2,"=d20261201")-'Assumptions (edit)'!B2),"") | AZ3: =IF((0=1),(SUMIFS('Daily evaluations'!$D$2:$D$2,'Daily evaluations'!$B$2:$B$2,"=d20261202")-'Assumptions (edit)'!B2),"") | BA3: =IF((0=1),(SUMIFS('Daily evaluations'!$D$2:$D$2,'Daily evaluations'!$B$2:$B$2,"=d20261203")-'Assumptions (edit)'!B2),"") | BB3: =IF((0=1),(SUMIFS('Daily evaluations'!$D$2:$D$2,'Daily evaluations'!$B$2:$B$2,"=d20261204")-'Assumptions (edit)'!B2),"") | BC3: =IF((0=1),(SUMIFS('Daily evaluations'!$D$2:$D$2,'Daily evaluations'!$B$2:$B$2,"=d20261207")-'Assumptions (edit)'!B2),"") | BD3: =IF((0=1),(SUMIFS('Daily evaluations'!$D$2:$D$2,'Daily evaluations'!$B$2:$B$2,"=d20261208")-'Assumptions (edit)'!B2),"") | BE3: =IF((0=1),(SUMIFS('Daily evaluations'!$D$2:$D$2,'Daily evaluations'!$B$2:$B$2,"=d20261209")-'Assumptions (edit)'!B2),"") | BF3: =IF((0=1),(SUMIFS('Daily evaluations'!$D$2:$D$2,'Daily evaluations'!$B$2:$B$2,"=d20261210")-'Assumptions (edit)'!B2),"") | BG3: =IF((0=1),(SUMIFS('Daily evaluations'!$D$2:$D$2,'Daily evaluations'!$B$2:$B$2,"=d20261211")-'Assumptions (edit)'!B2),"") | BH3: =IF((0=1),(SUMIFS('Daily evaluations'!$D$2:$D$2,'Daily evaluations'!$B$2:$B$2,"=d20261214")-'Assumptions (edit)'!B2),"") | BI3: =IF((0=1),(SUMIFS('Daily evaluations'!$D$2:$D$2,'Daily evaluations'!$B$2:$B$2,"=d20261215")-'Assumptions (edit)'!B2),"") | BJ3: =IF((0=1),(SUMIFS('Daily evaluations'!$D$2:$D$2,'Daily evaluations'!$B$2:$B$2,"=d20261216")-'Assumptions (edit)'!B2),"") | BK3: =IF((0=1),(SUMIFS('Daily evaluations'!$D$2:$D$2,'Daily evaluations'!$B$2:$B$2,"=d20261217")-'Assumptions (edit)'!B2),"") | BL3: =IF((0=1),(SUMIFS('Daily evaluations'!$D$2:$D$2,'Daily evaluations'!$B$2:$B$2,"=d20261218")-'Assumptions (edit)'!B2),"") | BM3: =IF((0=1),(SUMIFS('Daily evaluations'!$D$2:$D$2,'Daily evaluations'!$B$2:$B$2,"=d20261221")-'Assumptions (edit)'!B2),"") | BN3: =IF((0=1),(SUMIFS('Daily evaluations'!$D$2:$D$2,'Daily evaluations'!$B$2:$B$2,"=d20261222")-'Assumptions (edit)'!B2),"") | BO3: =IF((0=1),(SUMIFS('Daily evaluations'!$D$2:$D$2,'Daily evaluations'!$B$2:$B$2,"=d20261223")-'Assumptions (edit)'!B2),"") | BP3: =IF((0=1),(SUMIFS('Daily evaluations'!$D$2:$D$2,'Daily evaluations'!$B$2:$B$2,"=d20261224")-'Assumptions (edit)'!B2),"") | BQ3: =IF((0=1),(SUMIFS('Daily evaluations'!$D$2:$D$2,'Daily evaluations'!$B$2:$B$2,"=d20261228")-'Assumptions (edit)'!B2),"") | BR3: =IF((0=1),(SUMIFS('Daily evaluations'!$D$2:$D$2,'Daily evaluations'!$B$2:$B$2,"=d20261229")-'Assumptions (edit)'!B2),"") | BS3: =IF((0=1),(SUMIFS('Daily evaluations'!$D$2:$D$2,'Daily evaluations'!$B$2:$B$2,"=d20261230")-'Assumptions (edit)'!B2),"") | BT3: =IF((0=1),(SUMIFS('Daily evaluations'!$D$2:$D$2,'Daily evaluations'!$B$2:$B$2,"=d20261231")-'Assumptions (edit)'!B2),"") | BU3: =IF((0=1),(SUMIFS('Daily evaluations'!$D$2:$D$2,'Daily evaluations'!$B$2:$B$2,"=d20270104")-'Assumptions (edit)'!B2),"") | BV3: =IF((0=1),(SUMIFS('Daily evaluations'!$D$2:$D$2,'Daily evaluations'!$B$2:$B$2,"=d20270105")-'Assumptions (edit)'!B2),"") | BW3: =IF((0=1),(SUMIFS('Daily evaluations'!$D$2:$D$2,'Daily evaluations'!$B$2:$B$2,"=d20270106")-'Assumptions (edit)'!B2),"") | BX3: =IF((0=1),(SUMIFS('Daily evaluations'!$D$2:$D$2,'Daily evaluations'!$B$2:$B$2,"=d20270107")-'Assumptions (edit)'!B2),"") | BY3: =IF((0=1),(SUMIFS('Daily evaluations'!$D$2:$D$2,'Daily evaluations'!$B$2:$B$2,"=d20270108")-'Assumptions (edit)'!B2),"") | BZ3: =IF((0=1),(SUMIFS('Daily evaluations'!$D$2:$D$2,'Daily evaluations'!$B$2:$B$2,"=d20270111")-'Assumptions (edit)'!B2),"") | CA3: =IF((0=1),(SUMIFS('Daily evaluations'!$D$2:$D$2,'Daily evaluations'!$B$2:$B$2,"=d20270112")-'Assumptions (edit)'!B2),"") | CB3: =IF((0=1),(SUMIFS('Daily evaluations'!$D$2:$D$2,'Daily evaluations'!$B$2:$B$2,"=d20270113")-'Assumptions (edit)'!B2),"") | CC3: =IF((0=1),(SUMIFS('Daily evaluations'!$D$2:$D$2,'Daily evaluations'!$B$2:$B$2,"=d20270114")-'Assumptions (edit)'!B2),"") | CD3: =IF((0=1),(SUMIFS('Daily evaluations'!$D$2:$D$2,'Daily evaluations'!$B$2:$B$2,"=d20270115")-'Assumptions (edit)'!B2),"") | CE3: =IF((0=1),(SUMIFS('Daily evaluations'!$D$2:$D$2,'Daily evaluations'!$B$2:$B$2,"=d20270119")-'Assumptions (edit)'!B2),"") | CF3: =IF((0=1),(SUMIFS('Daily evaluations'!$D$2:$D$2,'Daily evaluations'!$B$2:$B$2,"=d20270120")-'Assumptions (edit)'!B2),"") | CG3: =IF((0=1),(SUMIFS('Daily evaluations'!$D$2:$D$2,'Daily evaluations'!$B$2:$B$2,"=d20270121")-'Assumptions (edit)'!B2),"") | CH3: =IF((0=1),(SUMIFS('Daily evaluations'!$D$2:$D$2,'Daily evaluations'!$B$2:$B$2,"=d20270122")-'Assumptions (edit)'!B2),"") | CI3: =IF((0=1),(SUMIFS('Daily evaluations'!$D$2:$D$2,'Daily evaluations'!$B$2:$B$2,"=d20270125")-'Assumptions (edit)'!B2),"") | CJ3: =IF((0=1),(SUMIFS('Daily evaluations'!$D$2:$D$2,'Daily evaluations'!$B$2:$B$2,"=d20270126")-'Assumptions (edit)'!B2),"") | CK3: =IF((0=1),(SUMIFS('Daily evaluations'!$D$2:$D$2,'Daily evaluations'!$B$2:$B$2,"=d20270127")-'Assumptions (edit)'!B2),"") | CL3: =IF((0=1),(SUMIFS('Daily evaluations'!$D$2:$D$2,'Daily evaluations'!$B$2:$B$2,"=d20270128")-'Assumptions (edit)'!B2),"") | CM3: =IF((0=1),(SUMIFS('Daily evaluations'!$D$2:$D$2,'Daily evaluations'!$B$2:$B$2,"=d20270129")-'Assumptions (edit)'!B2),"") | CN3: =IF((0=1),(SUMIFS('Daily evaluations'!$D$2:$D$2,'Daily evaluations'!$B$2:$B$2,"=d20270201")-'Assumptions (edit)'!B2),"") | CO3: =IF((0=1),(SUMIFS('Daily evaluations'!$D$2:$D$2,'Daily evaluations'!$B$2:$B$2,"=d20270202")-'Assumptions (edit)'!B2),"") | CP3: =IF((0=1),(SUMIFS('Daily evaluations'!$D$2:$D$2,'Daily evaluations'!$B$2:$B$2,"=d20270203")-'Assumptions (edit)'!B2),"") | CQ3: =IF((0=1),(SUMIFS('Daily evaluations'!$D$2:$D$2,'Daily evaluations'!$B$2:$B$2,"=d20270204")-'Assumptions (edit)'!B2),"") | CR3: =IF((0=1),(SUMIFS('Daily evaluations'!$D$2:$D$2,'Daily evaluations'!$B$2:$B$2,"=d20270205")-'Assumptions (edit)'!B2),"") | CS3: =IF((0=1),(SUMIFS('Daily evaluations'!$D$2:$D$2,'Daily evaluations'!$B$2:$B$2,"=d20270208")-'Assumptions (edit)'!B2),"") | CT3: =IF((0=1),(SUMIFS('Daily evaluations'!$D$2:$D$2,'Daily evaluations'!$B$2:$B$2,"=d20270209")-'Assumptions (edit)'!B2),"") | CU3: =IF((0=1),(SUMIFS('Daily evaluations'!$D$2:$D$2,'Daily evaluations'!$B$2:$B$2,"=d20270210")-'Assumptions (edit)'!B2),"") | CV3: =IF((0=1),(SUMIFS('Daily evaluations'!$D$2:$D$2,'Daily evaluations'!$B$2:$B$2,"=d20270211")-'Assumptions (edit)'!B2),"") | CW3: =IF((0=1),(SUMIFS('Daily evaluations'!$D$2:$D$2,'Daily evaluations'!$B$2:$B$2,"=d20270212")-'Assumptions (edit)'!B2),"")
A4: Random pods: average, bps | B4: =IF((1=1),SUMIFS('Null distribution by day'!$C$2:$C$2,'Null distribution by day'!$B$2:$B$2,"=d20260922"),"") -> 0.827 | C4: =IF((0=1),SUMIFS('Null distribution by day'!$C$2:$C$2,'Null distribution by day'!$B$2:$B$2,"=d20260923"),"") | D4: =IF((0=1),SUMIFS('Null distribution by day'!$C$2:$C$2,'Null distribution by day'!$B$2:$B$2,"=d20260924"),"") | E4: =IF((0=1),SUMIFS('Null distribution by day'!$C$2:$C$2,'Null distribution by day'!$B$2:$B$2,"=d20260925"),"") | F4: =IF((0=1),SUMIFS('Null distribution by day'!$C$2:$C$2,'Null distribution by day'!$B$2:$B$2,"=d20260928"),"") | G4: =IF((0=1),SUMIFS('Null distribution by day'!$C$2:$C$2,'Null distribution by day'!$B$2:$B$2,"=d20260929"),"") | H4: =IF((0=1),SUMIFS('Null distribution by day'!$C$2:$C$2,'Null distribution by day'!$B$2:$B$2,"=d20260930"),"") | I4: =IF((0=1),SUMIFS('Null distribution by day'!$C$2:$C$2,'Null distribution by day'!$B$2:$B$2,"=d20261001"),"") | J4: =IF((0=1),SUMIFS('Null distribution by day'!$C$2:$C$2,'Null distribution by day'!$B$2:$B$2,"=d20261002"),"") | K4: =IF((0=1),SUMIFS('Null distribution by day'!$C$2:$C$2,'Null distribution by day'!$B$2:$B$2,"=d20261005"),"") | L4: =IF((0=1),SUMIFS('Null distribution by day'!$C$2:$C$2,'Null distribution by day'!$B$2:$B$2,"=d20261006"),"") | M4: =IF((0=1),SUMIFS('Null distribution by day'!$C$2:$C$2,'Null distribution by day'!$B$2:$B$2,"=d20261007"),"") | N4: =IF((0=1),SUMIFS('Null distribution by day'!$C$2:$C$2,'Null distribution by day'!$B$2:$B$2,"=d20261008"),"") | O4: =IF((0=1),SUMIFS('Null distribution by day'!$C$2:$C$2,'Null distribution by day'!$B$2:$B$2,"=d20261009"),"") | P4: =IF((0=1),SUMIFS('Null distribution by day'!$C$2:$C$2,'Null distribution by day'!$B$2:$B$2,"=d20261012"),"") | Q4: =IF((0=1),SUMIFS('Null distribution by day'!$C$2:$C$2,'Null distribution by day'!$B$2:$B$2,"=d20261013"),"") | R4: =IF((0=1),SUMIFS('Null distribution by day'!$C$2:$C$2,'Null distribution by day'!$B$2:$B$2,"=d20261014"),"") | S4: =IF((0=1),SUMIFS('Null distribution by day'!$C$2:$C$2,'Null distribution by day'!$B$2:$B$2,"=d20261015"),"") | T4: =IF((0=1),SUMIFS('Null distribution by day'!$C$2:$C$2,'Null distribution by day'!$B$2:$B$2,"=d20261016"),"") | U4: =IF((0=1),SUMIFS('Null distribution by day'!$C$2:$C$2,'Null distribution by day'!$B$2:$B$2,"=d20261019"),"") | V4: =IF((0=1),SUMIFS('Null distribution by day'!$C$2:$C$2,'Null distribution by day'!$B$2:$B$2,"=d20261020"),"") | W4: =IF((0=1),SUMIFS('Null distribution by day'!$C$2:$C$2,'Null distribution by day'!$B$2:$B$2,"=d20261021"),"") | X4: =IF((0=1),SUMIFS('Null distribution by day'!$C$2:$C$2,'Null distribution by day'!$B$2:$B$2,"=d20261022"),"") | Y4: =IF((0=1),SUMIFS('Null distribution by day'!$C$2:$C$2,'Null distribution by day'!$B$2:$B$2,"=d20261023"),"") | Z4: =IF((0=1),SUMIFS('Null distribution by day'!$C$2:$C$2,'Null distribution by day'!$B$2:$B$2,"=d20261026"),"") | AA4: =IF((0=1),SUMIFS('Null distribution by day'!$C$2:$C$2,'Null distribution by day'!$B$2:$B$2,"=d20261027"),"") | AB4: =IF((0=1),SUMIFS('Null distribution by day'!$C$2:$C$2,'Null distribution by day'!$B$2:$B$2,"=d20261028"),"") | AC4: =IF((0=1),SUMIFS('Null distribution by day'!$C$2:$C$2,'Null distribution by day'!$B$2:$B$2,"=d20261029"),"") | AD4: =IF((0=1),SUMIFS('Null distribution by day'!$C$2:$C$2,'Null distribution by day'!$B$2:$B$2,"=d20261030"),"") | AE4: =IF((0=1),SUMIFS('Null distribution by day'!$C$2:$C$2,'Null distribution by day'!$B$2:$B$2,"=d20261102"),"") | AF4: =IF((0=1),SUMIFS('Null distribution by day'!$C$2:$C$2,'Null distribution by day'!$B$2:$B$2,"=d20261103"),"") | AG4: =IF((0=1),SUMIFS('Null distribution by day'!$C$2:$C$2,'Null distribution by day'!$B$2:$B$2,"=d20261104"),"") | AH4: =IF((0=1),SUMIFS('Null distribution by day'!$C$2:$C$2,'Null distribution by day'!$B$2:$B$2,"=d20261105"),"") | AI4: =IF((0=1),SUMIFS('Null distribution by day'!$C$2:$C$2,'Null distribution by day'!$B$2:$B$2,"=d20261106"),"") | AJ4: =IF((0=1),SUMIFS('Null distribution by day'!$C$2:$C$2,'Null distribution by day'!$B$2:$B$2,"=d20261109"),"") | AK4: =IF((0=1),SUMIFS('Null distribution by day'!$C$2:$C$2,'Null distribution by day'!$B$2:$B$2,"=d20261110"),"") | AL4: =IF((0=1),SUMIFS('Null distribution by day'!$C$2:$C$2,'Null distribution by day'!$B$2:$B$2,"=d20261111"),"") | AM4: =IF((0=1),SUMIFS('Null distribution by day'!$C$2:$C$2,'Null distribution by day'!$B$2:$B$2,"=d20261112"),"") | AN4: =IF((0=1),SUMIFS('Null distribution by day'!$C$2:$C$2,'Null distribution by day'!$B$2:$B$2,"=d20261113"),"") | AO4: =IF((0=1),SUMIFS('Null distribution by day'!$C$2:$C$2,'Null distribution by day'!$B$2:$B$2,"=d20261116"),"") | AP4: =IF((0=1),SUMIFS('Null distribution by day'!$C$2:$C$2,'Null distribution by day'!$B$2:$B$2,"=d20261117"),"") | AQ4: =IF((0=1),SUMIFS('Null distribution by day'!$C$2:$C$2,'Null distribution by day'!$B$2:$B$2,"=d20261118"),"") | AR4: =IF((0=1),SUMIFS('Null distribution by day'!$C$2:$C$2,'Null distribution by day'!$B$2:$B$2,"=d20261119"),"") | AS4: =IF((0=1),SUMIFS('Null distribution by day'!$C$2:$C$2,'Null distribution by day'!$B$2:$B$2,"=d20261120"),"") | AT4: =IF((0=1),SUMIFS('Null distribution by day'!$C$2:$C$2,'Null distribution by day'!$B$2:$B$2,"=d20261123"),"") | AU4: =IF((0=1),SUMIFS('Null distribution by day'!$C$2:$C$2,'Null distribution by day'!$B$2:$B$2,"=d20261124"),"") | AV4: =IF((0=1),SUMIFS('Null distribution by day'!$C$2:$C$2,'Null distribution by day'!$B$2:$B$2,"=d20261125"),"") | AW4: =IF((0=1),SUMIFS('Null distribution by day'!$C$2:$C$2,'Null distribution by day'!$B$2:$B$2,"=d20261127"),"") | AX4: =IF((0=1),SUMIFS('Null distribution by day'!$C$2:$C$2,'Null distribution by day'!$B$2:$B$2,"=d20261130"),"") | AY4: =IF((0=1),SUMIFS('Null distribution by day'!$C$2:$C$2,'Null distribution by day'!$B$2:$B$2,"=d20261201"),"") | AZ4: =IF((0=1),SUMIFS('Null distribution by day'!$C$2:$C$2,'Null distribution by day'!$B$2:$B$2,"=d20261202"),"") | BA4: =IF((0=1),SUMIFS('Null distribution by day'!$C$2:$C$2,'Null distribution by day'!$B$2:$B$2,"=d20261203"),"") | BB4: =IF((0=1),SUMIFS('Null distribution by day'!$C$2:$C$2,'Null distribution by day'!$B$2:$B$2,"=d20261204"),"") | BC4: =IF((0=1),SUMIFS('Null distribution by day'!$C$2:$C$2,'Null distribution by day'!$B$2:$B$2,"=d20261207"),"") | BD4: =IF((0=1),SUMIFS('Null distribution by day'!$C$2:$C$2,'Null distribution by day'!$B$2:$B$2,"=d20261208"),"") | BE4: =IF((0=1),SUMIFS('Null distribution by day'!$C$2:$C$2,'Null distribution by day'!$B$2:$B$2,"=d20261209"),"") | BF4: =IF((0=1),SUMIFS('Null distribution by day'!$C$2:$C$2,'Null distribution by day'!$B$2:$B$2,"=d20261210"),"") | BG4: =IF((0=1),SUMIFS('Null distribution by day'!$C$2:$C$2,'Null distribution by day'!$B$2:$B$2,"=d20261211"),"") | BH4: =IF((0=1),SUMIFS('Null distribution by day'!$C$2:$C$2,'Null distribution by day'!$B$2:$B$2,"=d20261214"),"") | BI4: =IF((0=1),SUMIFS('Null distribution by day'!$C$2:$C$2,'Null distribution by day'!$B$2:$B$2,"=d20261215"),"") | BJ4: =IF((0=1),SUMIFS('Null distribution by day'!$C$2:$C$2,'Null distribution by day'!$B$2:$B$2,"=d20261216"),"") | BK4: =IF((0=1),SUMIFS('Null distribution by day'!$C$2:$C$2,'Null distribution by day'!$B$2:$B$2,"=d20261217"),"") | BL4: =IF((0=1),SUMIFS('Null distribution by day'!$C$2:$C$2,'Null distribution by day'!$B$2:$B$2,"=d20261218"),"") | BM4: =IF((0=1),SUMIFS('Null distribution by day'!$C$2:$C$2,'Null distribution by day'!$B$2:$B$2,"=d20261221"),"") | BN4: =IF((0=1),SUMIFS('Null distribution by day'!$C$2:$C$2,'Null distribution by day'!$B$2:$B$2,"=d20261222"),"") | BO4: =IF((0=1),SUMIFS('Null distribution by day'!$C$2:$C$2,'Null distribution by day'!$B$2:$B$2,"=d20261223"),"") | BP4: =IF((0=1),SUMIFS('Null distribution by day'!$C$2:$C$2,'Null distribution by day'!$B$2:$B$2,"=d20261224"),"") | BQ4: =IF((0=1),SUMIFS('Null distribution by day'!$C$2:$C$2,'Null distribution by day'!$B$2:$B$2,"=d20261228"),"") | BR4: =IF((0=1),SUMIFS('Null distribution by day'!$C$2:$C$2,'Null distribution by day'!$B$2:$B$2,"=d20261229"),"") | BS4: =IF((0=1),SUMIFS('Null distribution by day'!$C$2:$C$2,'Null distribution by day'!$B$2:$B$2,"=d20261230"),"") | BT4: =IF((0=1),SUMIFS('Null distribution by day'!$C$2:$C$2,'Null distribution by day'!$B$2:$B$2,"=d20261231"),"") | BU4: =IF((0=1),SUMIFS('Null distribution by day'!$C$2:$C$2,'Null distribution by day'!$B$2:$B$2,"=d20270104"),"") | BV4: =IF((0=1),SUMIFS('Null distribution by day'!$C$2:$C$2,'Null distribution by day'!$B$2:$B$2,"=d20270105"),"") | BW4: =IF((0=1),SUMIFS('Null distribution by day'!$C$2:$C$2,'Null distribution by day'!$B$2:$B$2,"=d20270106"),"") | BX4: =IF((0=1),SUMIFS('Null distribution by day'!$C$2:$C$2,'Null distribution by day'!$B$2:$B$2,"=d20270107"),"") | BY4: =IF((0=1),SUMIFS('Null distribution by day'!$C$2:$C$2,'Null distribution by day'!$B$2:$B$2,"=d20270108"),"") | BZ4: =IF((0=1),SUMIFS('Null distribution by day'!$C$2:$C$2,'Null distribution by day'!$B$2:$B$2,"=d20270111"),"") | CA4: =IF((0=1),SUMIFS('Null distribution by day'!$C$2:$C$2,'Null distribution by day'!$B$2:$B$2,"=d20270112"),"") | CB4: =IF((0=1),SUMIFS('Null distribution by day'!$C$2:$C$2,'Null distribution by day'!$B$2:$B$2,"=d20270113"),"") | CC4: =IF((0=1),SUMIFS('Null distribution by day'!$C$2:$C$2,'Null distribution by day'!$B$2:$B$2,"=d20270114"),"") | CD4: =IF((0=1),SUMIFS('Null distribution by day'!$C$2:$C$2,'Null distribution by day'!$B$2:$B$2,"=d20270115"),"") | CE4: =IF((0=1),SUMIFS('Null distribution by day'!$C$2:$C$2,'Null distribution by day'!$B$2:$B$2,"=d20270119"),"") | CF4: =IF((0=1),SUMIFS('Null distribution by day'!$C$2:$C$2,'Null distribution by day'!$B$2:$B$2,"=d20270120"),"") | CG4: =IF((0=1),SUMIFS('Null distribution by day'!$C$2:$C$2,'Null distribution by day'!$B$2:$B$2,"=d20270121"),"") | CH4: =IF((0=1),SUMIFS('Null distribution by day'!$C$2:$C$2,'Null distribution by day'!$B$2:$B$2,"=d20270122"),"") | CI4: =IF((0=1),SUMIFS('Null distribution by day'!$C$2:$C$2,'Null distribution by day'!$B$2:$B$2,"=d20270125"),"") | CJ4: =IF((0=1),SUMIFS('Null distribution by day'!$C$2:$C$2,'Null distribution by day'!$B$2:$B$2,"=d20270126"),"") | CK4: =IF((0=1),SUMIFS('Null distribution by day'!$C$2:$C$2,'Null distribution by day'!$B$2:$B$2,"=d20270127"),"") | CL4: =IF((0=1),SUMIFS('Null distribution by day'!$C$2:$C$2,'Null distribution by day'!$B$2:$B$2,"=d20270128"),"") | CM4: =IF((0=1),SUMIFS('Null distribution by day'!$C$2:$C$2,'Null distribution by day'!$B$2:$B$2,"=d20270129"),"") | CN4: =IF((0=1),SUMIFS('Null distribution by day'!$C$2:$C$2,'Null distribution by day'!$B$2:$B$2,"=d20270201"),"") | CO4: =IF((0=1),SUMIFS('Null distribution by day'!$C$2:$C$2,'Null distribution by day'!$B$2:$B$2,"=d20270202"),"") | CP4: =IF((0=1),SUMIFS('Null distribution by day'!$C$2:$C$2,'Null distribution by day'!$B$2:$B$2,"=d20270203"),"") | CQ4: =IF((0=1),SUMIFS('Null distribution by day'!$C$2:$C$2,'Null distribution by day'!$B$2:$B$2,"=d20270204"),"") | CR4: =IF((0=1),SUMIFS('Null distribution by day'!$C$2:$C$2,'Null distribution by day'!$B$2:$B$2,"=d20270205"),"") | CS4: =IF((0=1),SUMIFS('Null distribution by day'!$C$2:$C$2,'Null distribution by day'!$B$2:$B$2,"=d20270208"),"") | CT4: =IF((0=1),SUMIFS('Null distribution by day'!$C$2:$C$2,'Null distribution by day'!$B$2:$B$2,"=d20270209"),"") | CU4: =IF((0=1),SUMIFS('Null distribution by day'!$C$2:$C$2,'Null distribution by day'!$B$2:$B$2,"=d20270210"),"") | CV4: =IF((0=1),SUMIFS('Null distribution by day'!$C$2:$C$2,'Null distribution by day'!$B$2:$B$2,"=d20270211"),"") | CW4: =IF((0=1),SUMIFS('Null distribution by day'!$C$2:$C$2,'Null distribution by day'!$B$2:$B$2,"=d20270212"),"")
A5: Random pods: best, bps | B5: =IF((1=1),SUMIFS('Null distribution by day'!$D$2:$D$2,'Null distribution by day'!$B$2:$B$2,"=d20260922"),"") -> 13.888 | C5: =IF((0=1),SUMIFS('Null distribution by day'!$D$2:$D$2,'Null distribution by day'!$B$2:$B$2,"=d20260923"),"") | D5: =IF((0=1),SUMIFS('Null distribution by day'!$D$2:$D$2,'Null distribution by day'!$B$2:$B$2,"=d20260924"),"") | E5: =IF((0=1),SUMIFS('Null distribution by day'!$D$2:$D$2,'Null distribution by day'!$B$2:$B$2,"=d20260925"),"") | F5: =IF((0=1),SUMIFS('Null distribution by day'!$D$2:$D$2,'Null distribution by day'!$B$2:$B$2,"=d20260928"),"") | G5: =IF((0=1),SUMIFS('Null distribution by day'!$D$2:$D$2,'Null distribution by day'!$B$2:$B$2,"=d20260929"),"") | H5: =IF((0=1),SUMIFS('Null distribution by day'!$D$2:$D$2,'Null distribution by day'!$B$2:$B$2,"=d20260930"),"") | I5: =IF((0=1),SUMIFS('Null distribution by day'!$D$2:$D$2,'Null distribution by day'!$B$2:$B$2,"=d20261001"),"") | J5: =IF((0=1),SUMIFS('Null distribution by day'!$D$2:$D$2,'Null distribution by day'!$B$2:$B$2,"=d20261002"),"") | K5: =IF((0=1),SUMIFS('Null distribution by day'!$D$2:$D$2,'Null distribution by day'!$B$2:$B$2,"=d20261005"),"") | L5: =IF((0=1),SUMIFS('Null distribution by day'!$D$2:$D$2,'Null distribution by day'!$B$2:$B$2,"=d20261006"),"") | M5: =IF((0=1),SUMIFS('Null distribution by day'!$D$2:$D$2,'Null distribution by day'!$B$2:$B$2,"=d20261007"),"") | N5: =IF((0=1),SUMIFS('Null distribution by day'!$D$2:$D$2,'Null distribution by day'!$B$2:$B$2,"=d20261008"),"") | O5: =IF((0=1),SUMIFS('Null distribution by day'!$D$2:$D$2,'Null distribution by day'!$B$2:$B$2,"=d20261009"),"") | P5: =IF((0=1),SUMIFS('Null distribution by day'!$D$2:$D$2,'Null distribution by day'!$B$2:$B$2,"=d20261012"),"") | Q5: =IF((0=1),SUMIFS('Null distribution by day'!$D$2:$D$2,'Null distribution by day'!$B$2:$B$2,"=d20261013"),"") | R5: =IF((0=1),SUMIFS('Null distribution by day'!$D$2:$D$2,'Null distribution by day'!$B$2:$B$2,"=d20261014"),"") | S5: =IF((0=1),SUMIFS('Null distribution by day'!$D$2:$D$2,'Null distribution by day'!$B$2:$B$2,"=d20261015"),"") | T5: =IF((0=1),SUMIFS('Null distribution by day'!$D$2:$D$2,'Null distribution by day'!$B$2:$B$2,"=d20261016"),"") | U5: =IF((0=1),SUMIFS('Null distribution by day'!$D$2:$D$2,'Null distribution by day'!$B$2:$B$2,"=d20261019"),"") | V5: =IF((0=1),SUMIFS('Null distribution by day'!$D$2:$D$2,'Null distribution by day'!$B$2:$B$2,"=d20261020"),"") | W5: =IF((0=1),SUMIFS('Null distribution by day'!$D$2:$D$2,'Null distribution by day'!$B$2:$B$2,"=d20261021"),"") | X5: =IF((0=1),SUMIFS('Null distribution by day'!$D$2:$D$2,'Null distribution by day'!$B$2:$B$2,"=d20261022"),"") | Y5: =IF((0=1),SUMIFS('Null distribution by day'!$D$2:$D$2,'Null distribution by day'!$B$2:$B$2,"=d20261023"),"") | Z5: =IF((0=1),SUMIFS('Null distribution by day'!$D$2:$D$2,'Null distribution by day'!$B$2:$B$2,"=d20261026"),"") | AA5: =IF((0=1),SUMIFS('Null distribution by day'!$D$2:$D$2,'Null distribution by day'!$B$2:$B$2,"=d20261027"),"") | AB5: =IF((0=1),SUMIFS('Null distribution by day'!$D$2:$D$2,'Null distribution by day'!$B$2:$B$2,"=d20261028"),"") | AC5: =IF((0=1),SUMIFS('Null distribution by day'!$D$2:$D$2,'Null distribution by day'!$B$2:$B$2,"=d20261029"),"") | AD5: =IF((0=1),SUMIFS('Null distribution by day'!$D$2:$D$2,'Null distribution by day'!$B$2:$B$2,"=d20261030"),"") | AE5: =IF((0=1),SUMIFS('Null distribution by day'!$D$2:$D$2,'Null distribution by day'!$B$2:$B$2,"=d20261102"),"") | AF5: =IF((0=1),SUMIFS('Null distribution by day'!$D$2:$D$2,'Null distribution by day'!$B$2:$B$2,"=d20261103"),"") | AG5: =IF((0=1),SUMIFS('Null distribution by day'!$D$2:$D$2,'Null distribution by day'!$B$2:$B$2,"=d20261104"),"") | AH5: =IF((0=1),SUMIFS('Null distribution by day'!$D$2:$D$2,'Null distribution by day'!$B$2:$B$2,"=d20261105"),"") | AI5: =IF((0=1),SUMIFS('Null distribution by day'!$D$2:$D$2,'Null distribution by day'!$B$2:$B$2,"=d20261106"),"") | AJ5: =IF((0=1),SUMIFS('Null distribution by day'!$D$2:$D$2,'Null distribution by day'!$B$2:$B$2,"=d20261109"),"") | AK5: =IF((0=1),SUMIFS('Null distribution by day'!$D$2:$D$2,'Null distribution by day'!$B$2:$B$2,"=d20261110"),"") | AL5: =IF((0=1),SUMIFS('Null distribution by day'!$D$2:$D$2,'Null distribution by day'!$B$2:$B$2,"=d20261111"),"") | AM5: =IF((0=1),SUMIFS('Null distribution by day'!$D$2:$D$2,'Null distribution by day'!$B$2:$B$2,"=d20261112"),"") | AN5: =IF((0=1),SUMIFS('Null distribution by day'!$D$2:$D$2,'Null distribution by day'!$B$2:$B$2,"=d20261113"),"") | AO5: =IF((0=1),SUMIFS('Null distribution by day'!$D$2:$D$2,'Null distribution by day'!$B$2:$B$2,"=d20261116"),"") | AP5: =IF((0=1),SUMIFS('Null distribution by day'!$D$2:$D$2,'Null distribution by day'!$B$2:$B$2,"=d20261117"),"") | AQ5: =IF((0=1),SUMIFS('Null distribution by day'!$D$2:$D$2,'Null distribution by day'!$B$2:$B$2,"=d20261118"),"") | AR5: =IF((0=1),SUMIFS('Null distribution by day'!$D$2:$D$2,'Null distribution by day'!$B$2:$B$2,"=d20261119"),"") | AS5: =IF((0=1),SUMIFS('Null distribution by day'!$D$2:$D$2,'Null distribution by day'!$B$2:$B$2,"=d20261120"),"") | AT5: =IF((0=1),SUMIFS('Null distribution by day'!$D$2:$D$2,'Null distribution by day'!$B$2:$B$2,"=d20261123"),"") | AU5: =IF((0=1),SUMIFS('Null distribution by day'!$D$2:$D$2,'Null distribution by day'!$B$2:$B$2,"=d20261124"),"") | AV5: =IF((0=1),SUMIFS('Null distribution by day'!$D$2:$D$2,'Null distribution by day'!$B$2:$B$2,"=d20261125"),"") | AW5: =IF((0=1),SUMIFS('Null distribution by day'!$D$2:$D$2,'Null distribution by day'!$B$2:$B$2,"=d20261127"),"") | AX5: =IF((0=1),SUMIFS('Null distribution by day'!$D$2:$D$2,'Null distribution by day'!$B$2:$B$2,"=d20261130"),"") | AY5: =IF((0=1),SUMIFS('Null distribution by day'!$D$2:$D$2,'Null distribution by day'!$B$2:$B$2,"=d20261201"),"") | AZ5: =IF((0=1),SUMIFS('Null distribution by day'!$D$2:$D$2,'Null distribution by day'!$B$2:$B$2,"=d20261202"),"") | BA5: =IF((0=1),SUMIFS('Null distribution by day'!$D$2:$D$2,'Null distribution by day'!$B$2:$B$2,"=d20261203"),"") | BB5: =IF((0=1),SUMIFS('Null distribution by day'!$D$2:$D$2,'Null distribution by day'!$B$2:$B$2,"=d20261204"),"") | BC5: =IF((0=1),SUMIFS('Null distribution by day'!$D$2:$D$2,'Null distribution by day'!$B$2:$B$2,"=d20261207"),"") | BD5: =IF((0=1),SUMIFS('Null distribution by day'!$D$2:$D$2,'Null distribution by day'!$B$2:$B$2,"=d20261208"),"") | BE5: =IF((0=1),SUMIFS('Null distribution by day'!$D$2:$D$2,'Null distribution by day'!$B$2:$B$2,"=d20261209"),"") | BF5: =IF((0=1),SUMIFS('Null distribution by day'!$D$2:$D$2,'Null distribution by day'!$B$2:$B$2,"=d20261210"),"") | BG5: =IF((0=1),SUMIFS('Null distribution by day'!$D$2:$D$2,'Null distribution by day'!$B$2:$B$2,"=d20261211"),"") | BH5: =IF((0=1),SUMIFS('Null distribution by day'!$D$2:$D$2,'Null distribution by day'!$B$2:$B$2,"=d20261214"),"") | BI5: =IF((0=1),SUMIFS('Null distribution by day'!$D$2:$D$2,'Null distribution by day'!$B$2:$B$2,"=d20261215"),"") | BJ5: =IF((0=1),SUMIFS('Null distribution by day'!$D$2:$D$2,'Null distribution by day'!$B$2:$B$2,"=d20261216"),"") | BK5: =IF((0=1),SUMIFS('Null distribution by day'!$D$2:$D$2,'Null distribution by day'!$B$2:$B$2,"=d20261217"),"") | BL5: =IF((0=1),SUMIFS('Null distribution by day'!$D$2:$D$2,'Null distribution by day'!$B$2:$B$2,"=d20261218"),"") | BM5: =IF((0=1),SUMIFS('Null distribution by day'!$D$2:$D$2,'Null distribution by day'!$B$2:$B$2,"=d20261221"),"") | BN5: =IF((0=1),SUMIFS('Null distribution by day'!$D$2:$D$2,'Null distribution by day'!$B$2:$B$2,"=d20261222"),"") | BO5: =IF((0=1),SUMIFS('Null distribution by day'!$D$2:$D$2,'Null distribution by day'!$B$2:$B$2,"=d20261223"),"") | BP5: =IF((0=1),SUMIFS('Null distribution by day'!$D$2:$D$2,'Null distribution by day'!$B$2:$B$2,"=d20261224"),"") | BQ5: =IF((0=1),SUMIFS('Null distribution by day'!$D$2:$D$2,'Null distribution by day'!$B$2:$B$2,"=d20261228"),"") | BR5: =IF((0=1),SUMIFS('Null distribution by day'!$D$2:$D$2,'Null distribution by day'!$B$2:$B$2,"=d20261229"),"") | BS5: =IF((0=1),SUMIFS('Null distribution by day'!$D$2:$D$2,'Null distribution by day'!$B$2:$B$2,"=d20261230"),"") | BT5: =IF((0=1),SUMIFS('Null distribution by day'!$D$2:$D$2,'Null distribution by day'!$B$2:$B$2,"=d20261231"),"") | BU5: =IF((0=1),SUMIFS('Null distribution by day'!$D$2:$D$2,'Null distribution by day'!$B$2:$B$2,"=d20270104"),"") | BV5: =IF((0=1),SUMIFS('Null distribution by day'!$D$2:$D$2,'Null distribution by day'!$B$2:$B$2,"=d20270105"),"") | BW5: =IF((0=1),SUMIFS('Null distribution by day'!$D$2:$D$2,'Null distribution by day'!$B$2:$B$2,"=d20270106"),"") | BX5: =IF((0=1),SUMIFS('Null distribution by day'!$D$2:$D$2,'Null distribution by day'!$B$2:$B$2,"=d20270107"),"") | BY5: =IF((0=1),SUMIFS('Null distribution by day'!$D$2:$D$2,'Null distribution by day'!$B$2:$B$2,"=d20270108"),"") | BZ5: =IF((0=1),SUMIFS('Null distribution by day'!$D$2:$D$2,'Null distribution by day'!$B$2:$B$2,"=d20270111"),"") | CA5: =IF((0=1),SUMIFS('Null distribution by day'!$D$2:$D$2,'Null distribution by day'!$B$2:$B$2,"=d20270112"),"") | CB5: =IF((0=1),SUMIFS('Null distribution by day'!$D$2:$D$2,'Null distribution by day'!$B$2:$B$2,"=d20270113"),"") | CC5: =IF((0=1),SUMIFS('Null distribution by day'!$D$2:$D$2,'Null distribution by day'!$B$2:$B$2,"=d20270114"),"") | CD5: =IF((0=1),SUMIFS('Null distribution by day'!$D$2:$D$2,'Null distribution by day'!$B$2:$B$2,"=d20270115"),"") | CE5: =IF((0=1),SUMIFS('Null distribution by day'!$D$2:$D$2,'Null distribution by day'!$B$2:$B$2,"=d20270119"),"") | CF5: =IF((0=1),SUMIFS('Null distribution by day'!$D$2:$D$2,'Null distribution by day'!$B$2:$B$2,"=d20270120"),"") | CG5: =IF((0=1),SUMIFS('Null distribution by day'!$D$2:$D$2,'Null distribution by day'!$B$2:$B$2,"=d20270121"),"") | CH5: =IF((0=1),SUMIFS('Null distribution by day'!$D$2:$D$2,'Null distribution by day'!$B$2:$B$2,"=d20270122"),"") | CI5: =IF((0=1),SUMIFS('Null distribution by day'!$D$2:$D$2,'Null distribution by day'!$B$2:$B$2,"=d20270125"),"") | CJ5: =IF((0=1),SUMIFS('Null distribution by day'!$D$2:$D$2,'Null distribution by day'!$B$2:$B$2,"=d20270126"),"") | CK5: =IF((0=1),SUMIFS('Null distribution by day'!$D$2:$D$2,'Null distribution by day'!$B$2:$B$2,"=d20270127"),"") | CL5: =IF((0=1),SUMIFS('Null distribution by day'!$D$2:$D$2,'Null distribution by day'!$B$2:$B$2,"=d20270128"),"") | CM5: =IF((0=1),SUMIFS('Null distribution by day'!$D$2:$D$2,'Null distribution by day'!$B$2:$B$2,"=d20270129"),"") | CN5: =IF((0=1),SUMIFS('Null distribution by day'!$D$2:$D$2,'Null distribution by day'!$B$2:$B$2,"=d20270201"),"") | CO5: =IF((0=1),SUMIFS('Null distribution by day'!$D$2:$D$2,'Null distribution by day'!$B$2:$B$2,"=d20270202"),"") | CP5: =IF((0=1),SUMIFS('Null distribution by day'!$D$2:$D$2,'Null distribution by day'!$B$2:$B$2,"=d20270203"),"") | CQ5: =IF((0=1),SUMIFS('Null distribution by day'!$D$2:$D$2,'Null distribution by day'!$B$2:$B$2,"=d20270204"),"") | CR5: =IF((0=1),SUMIFS('Null distribution by day'!$D$2:$D$2,'Null distribution by day'!$B$2:$B$2,"=d20270205"),"") | CS5: =IF((0=1),SUMIFS('Null distribution by day'!$D$2:$D$2,'Null distribution by day'!$B$2:$B$2,"=d20270208"),"") | CT5: =IF((0=1),SUMIFS('Null distribution by day'!$D$2:$D$2,'Null distribution by day'!$B$2:$B$2,"=d20270209"),"") | CU5: =IF((0=1),SUMIFS('Null distribution by day'!$D$2:$D$2,'Null distribution by day'!$B$2:$B$2,"=d20270210"),"") | CV5: =IF((0=1),SUMIFS('Null distribution by day'!$D$2:$D$2,'Null distribution by day'!$B$2:$B$2,"=d20270211"),"") | CW5: =IF((0=1),SUMIFS('Null distribution by day'!$D$2:$D$2,'Null distribution by day'!$B$2:$B$2,"=d20270212"),"")
A6: All LLM pods: average, bps | B6: =IF((1=1),SUMIFS('Null distribution by day'!$F$2:$F$2,'Null distribution by day'!$B$2:$B$2,"=d20260922"),"") -> 1.303 | C6: =IF((0=1),SUMIFS('Null distribution by day'!$F$2:$F$2,'Null distribution by day'!$B$2:$B$2,"=d20260923"),"") | D6: =IF((0=1),SUMIFS('Null distribution by day'!$F$2:$F$2,'Null distribution by day'!$B$2:$B$2,"=d20260924"),"") | E6: =IF((0=1),SUMIFS('Null distribution by day'!$F$2:$F$2,'Null distribution by day'!$B$2:$B$2,"=d20260925"),"") | F6: =IF((0=1),SUMIFS('Null distribution by day'!$F$2:$F$2,'Null distribution by day'!$B$2:$B$2,"=d20260928"),"") | G6: =IF((0=1),SUMIFS('Null distribution by day'!$F$2:$F$2,'Null distribution by day'!$B$2:$B$2,"=d20260929"),"") | H6: =IF((0=1),SUMIFS('Null distribution by day'!$F$2:$F$2,'Null distribution by day'!$B$2:$B$2,"=d20260930"),"") | I6: =IF((0=1),SUMIFS('Null distribution by day'!$F$2:$F$2,'Null distribution by day'!$B$2:$B$2,"=d20261001"),"") | J6: =IF((0=1),SUMIFS('Null distribution by day'!$F$2:$F$2,'Null distribution by day'!$B$2:$B$2,"=d20261002"),"") | K6: =IF((0=1),SUMIFS('Null distribution by day'!$F$2:$F$2,'Null distribution by day'!$B$2:$B$2,"=d20261005"),"") | L6: =IF((0=1),SUMIFS('Null distribution by day'!$F$2:$F$2,'Null distribution by day'!$B$2:$B$2,"=d20261006"),"") | M6: =IF((0=1),SUMIFS('Null distribution by day'!$F$2:$F$2,'Null distribution by day'!$B$2:$B$2,"=d20261007"),"") | N6: =IF((0=1),SUMIFS('Null distribution by day'!$F$2:$F$2,'Null distribution by day'!$B$2:$B$2,"=d20261008"),"") | O6: =IF((0=1),SUMIFS('Null distribution by day'!$F$2:$F$2,'Null distribution by day'!$B$2:$B$2,"=d20261009"),"") | P6: =IF((0=1),SUMIFS('Null distribution by day'!$F$2:$F$2,'Null distribution by day'!$B$2:$B$2,"=d20261012"),"") | Q6: =IF((0=1),SUMIFS('Null distribution by day'!$F$2:$F$2,'Null distribution by day'!$B$2:$B$2,"=d20261013"),"") | R6: =IF((0=1),SUMIFS('Null distribution by day'!$F$2:$F$2,'Null distribution by day'!$B$2:$B$2,"=d20261014"),"") | S6: =IF((0=1),SUMIFS('Null distribution by day'!$F$2:$F$2,'Null distribution by day'!$B$2:$B$2,"=d20261015"),"") | T6: =IF((0=1),SUMIFS('Null distribution by day'!$F$2:$F$2,'Null distribution by day'!$B$2:$B$2,"=d20261016"),"") | U6: =IF((0=1),SUMIFS('Null distribution by day'!$F$2:$F$2,'Null distribution by day'!$B$2:$B$2,"=d20261019"),"") | V6: =IF((0=1),SUMIFS('Null distribution by day'!$F$2:$F$2,'Null distribution by day'!$B$2:$B$2,"=d20261020"),"") | W6: =IF((0=1),SUMIFS('Null distribution by day'!$F$2:$F$2,'Null distribution by day'!$B$2:$B$2,"=d20261021"),"") | X6: =IF((0=1),SUMIFS('Null distribution by day'!$F$2:$F$2,'Null distribution by day'!$B$2:$B$2,"=d20261022"),"") | Y6: =IF((0=1),SUMIFS('Null distribution by day'!$F$2:$F$2,'Null distribution by day'!$B$2:$B$2,"=d20261023"),"") | Z6: =IF((0=1),SUMIFS('Null distribution by day'!$F$2:$F$2,'Null distribution by day'!$B$2:$B$2,"=d20261026"),"") | AA6: =IF((0=1),SUMIFS('Null distribution by day'!$F$2:$F$2,'Null distribution by day'!$B$2:$B$2,"=d20261027"),"") | AB6: =IF((0=1),SUMIFS('Null distribution by day'!$F$2:$F$2,'Null distribution by day'!$B$2:$B$2,"=d20261028"),"") | AC6: =IF((0=1),SUMIFS('Null distribution by day'!$F$2:$F$2,'Null distribution by day'!$B$2:$B$2,"=d20261029"),"") | AD6: =IF((0=1),SUMIFS('Null distribution by day'!$F$2:$F$2,'Null distribution by day'!$B$2:$B$2,"=d20261030"),"") | AE6: =IF((0=1),SUMIFS('Null distribution by day'!$F$2:$F$2,'Null distribution by day'!$B$2:$B$2,"=d20261102"),"") | AF6: =IF((0=1),SUMIFS('Null distribution by day'!$F$2:$F$2,'Null distribution by day'!$B$2:$B$2,"=d20261103"),"") | AG6: =IF((0=1),SUMIFS('Null distribution by day'!$F$2:$F$2,'Null distribution by day'!$B$2:$B$2,"=d20261104"),"") | AH6: =IF((0=1),SUMIFS('Null distribution by day'!$F$2:$F$2,'Null distribution by day'!$B$2:$B$2,"=d20261105"),"") | AI6: =IF((0=1),SUMIFS('Null distribution by day'!$F$2:$F$2,'Null distribution by day'!$B$2:$B$2,"=d20261106"),"") | AJ6: =IF((0=1),SUMIFS('Null distribution by day'!$F$2:$F$2,'Null distribution by day'!$B$2:$B$2,"=d20261109"),"") | AK6: =IF((0=1),SUMIFS('Null distribution by day'!$F$2:$F$2,'Null distribution by day'!$B$2:$B$2,"=d20261110"),"") | AL6: =IF((0=1),SUMIFS('Null distribution by day'!$F$2:$F$2,'Null distribution by day'!$B$2:$B$2,"=d20261111"),"") | AM6: =IF((0=1),SUMIFS('Null distribution by day'!$F$2:$F$2,'Null distribution by day'!$B$2:$B$2,"=d20261112"),"") | AN6: =IF((0=1),SUMIFS('Null distribution by day'!$F$2:$F$2,'Null distribution by day'!$B$2:$B$2,"=d20261113"),"") | AO6: =IF((0=1),SUMIFS('Null distribution by day'!$F$2:$F$2,'Null distribution by day'!$B$2:$B$2,"=d20261116"),"") | AP6: =IF((0=1),SUMIFS('Null distribution by day'!$F$2:$F$2,'Null distribution by day'!$B$2:$B$2,"=d20261117"),"") | AQ6: =IF((0=1),SUMIFS('Null distribution by day'!$F$2:$F$2,'Null distribution by day'!$B$2:$B$2,"=d20261118"),"") | AR6: =IF((0=1),SUMIFS('Null distribution by day'!$F$2:$F$2,'Null distribution by day'!$B$2:$B$2,"=d20261119"),"") | AS6: =IF((0=1),SUMIFS('Null distribution by day'!$F$2:$F$2,'Null distribution by day'!$B$2:$B$2,"=d20261120"),"") | AT6: =IF((0=1),SUMIFS('Null distribution by day'!$F$2:$F$2,'Null distribution by day'!$B$2:$B$2,"=d20261123"),"") | AU6: =IF((0=1),SUMIFS('Null distribution by day'!$F$2:$F$2,'Null distribution by day'!$B$2:$B$2,"=d20261124"),"") | AV6: =IF((0=1),SUMIFS('Null distribution by day'!$F$2:$F$2,'Null distribution by day'!$B$2:$B$2,"=d20261125"),"") | AW6: =IF((0=1),SUMIFS('Null distribution by day'!$F$2:$F$2,'Null distribution by day'!$B$2:$B$2,"=d20261127"),"") | AX6: =IF((0=1),SUMIFS('Null distribution by day'!$F$2:$F$2,'Null distribution by day'!$B$2:$B$2,"=d20261130"),"") | AY6: =IF((0=1),SUMIFS('Null distribution by day'!$F$2:$F$2,'Null distribution by day'!$B$2:$B$2,"=d20261201"),"") | AZ6: =IF((0=1),SUMIFS('Null distribution by day'!$F$2:$F$2,'Null distribution by day'!$B$2:$B$2,"=d20261202"),"") | BA6: =IF((0=1),SUMIFS('Null distribution by day'!$F$2:$F$2,'Null distribution by day'!$B$2:$B$2,"=d20261203"),"") | BB6: =IF((0=1),SUMIFS('Null distribution by day'!$F$2:$F$2,'Null distribution by day'!$B$2:$B$2,"=d20261204"),"") | BC6: =IF((0=1),SUMIFS('Null distribution by day'!$F$2:$F$2,'Null distribution by day'!$B$2:$B$2,"=d20261207"),"") | BD6: =IF((0=1),SUMIFS('Null distribution by day'!$F$2:$F$2,'Null distribution by day'!$B$2:$B$2,"=d20261208"),"") | BE6: =IF((0=1),SUMIFS('Null distribution by day'!$F$2:$F$2,'Null distribution by day'!$B$2:$B$2,"=d20261209"),"") | BF6: =IF((0=1),SUMIFS('Null distribution by day'!$F$2:$F$2,'Null distribution by day'!$B$2:$B$2,"=d20261210"),"") | BG6: =IF((0=1),SUMIFS('Null distribution by day'!$F$2:$F$2,'Null distribution by day'!$B$2:$B$2,"=d20261211"),"") | BH6: =IF((0=1),SUMIFS('Null distribution by day'!$F$2:$F$2,'Null distribution by day'!$B$2:$B$2,"=d20261214"),"") | BI6: =IF((0=1),SUMIFS('Null distribution by day'!$F$2:$F$2,'Null distribution by day'!$B$2:$B$2,"=d20261215"),"") | BJ6: =IF((0=1),SUMIFS('Null distribution by day'!$F$2:$F$2,'Null distribution by day'!$B$2:$B$2,"=d20261216"),"") | BK6: =IF((0=1),SUMIFS('Null distribution by day'!$F$2:$F$2,'Null distribution by day'!$B$2:$B$2,"=d20261217"),"") | BL6: =IF((0=1),SUMIFS('Null distribution by day'!$F$2:$F$2,'Null distribution by day'!$B$2:$B$2,"=d20261218"),"") | BM6: =IF((0=1),SUMIFS('Null distribution by day'!$F$2:$F$2,'Null distribution by day'!$B$2:$B$2,"=d20261221"),"") | BN6: =IF((0=1),SUMIFS('Null distribution by day'!$F$2:$F$2,'Null distribution by day'!$B$2:$B$2,"=d20261222"),"") | BO6: =IF((0=1),SUMIFS('Null distribution by day'!$F$2:$F$2,'Null distribution by day'!$B$2:$B$2,"=d20261223"),"") | BP6: =IF((0=1),SUMIFS('Null distribution by day'!$F$2:$F$2,'Null distribution by day'!$B$2:$B$2,"=d20261224"),"") | BQ6: =IF((0=1),SUMIFS('Null distribution by day'!$F$2:$F$2,'Null distribution by day'!$B$2:$B$2,"=d20261228"),"") | BR6: =IF((0=1),SUMIFS('Null distribution by day'!$F$2:$F$2,'Null distribution by day'!$B$2:$B$2,"=d20261229"),"") | BS6: =IF((0=1),SUMIFS('Null distribution by day'!$F$2:$F$2,'Null distribution by day'!$B$2:$B$2,"=d20261230"),"") | BT6: =IF((0=1),SUMIFS('Null distribution by day'!$F$2:$F$2,'Null distribution by day'!$B$2:$B$2,"=d20261231"),"") | BU6: =IF((0=1),SUMIFS('Null distribution by day'!$F$2:$F$2,'Null distribution by day'!$B$2:$B$2,"=d20270104"),"") | BV6: =IF((0=1),SUMIFS('Null distribution by day'!$F$2:$F$2,'Null distribution by day'!$B$2:$B$2,"=d20270105"),"") | BW6: =IF((0=1),SUMIFS('Null distribution by day'!$F$2:$F$2,'Null distribution by day'!$B$2:$B$2,"=d20270106"),"") | BX6: =IF((0=1),SUMIFS('Null distribution by day'!$F$2:$F$2,'Null distribution by day'!$B$2:$B$2,"=d20270107"),"") | BY6: =IF((0=1),SUMIFS('Null distribution by day'!$F$2:$F$2,'Null distribution by day'!$B$2:$B$2,"=d20270108"),"") | BZ6: =IF((0=1),SUMIFS('Null distribution by day'!$F$2:$F$2,'Null distribution by day'!$B$2:$B$2,"=d20270111"),"") | CA6: =IF((0=1),SUMIFS('Null distribution by day'!$F$2:$F$2,'Null distribution by day'!$B$2:$B$2,"=d20270112"),"") | CB6: =IF((0=1),SUMIFS('Null distribution by day'!$F$2:$F$2,'Null distribution by day'!$B$2:$B$2,"=d20270113"),"") | CC6: =IF((0=1),SUMIFS('Null distribution by day'!$F$2:$F$2,'Null distribution by day'!$B$2:$B$2,"=d20270114"),"") | CD6: =IF((0=1),SUMIFS('Null distribution by day'!$F$2:$F$2,'Null distribution by day'!$B$2:$B$2,"=d20270115"),"") | CE6: =IF((0=1),SUMIFS('Null distribution by day'!$F$2:$F$2,'Null distribution by day'!$B$2:$B$2,"=d20270119"),"") | CF6: =IF((0=1),SUMIFS('Null distribution by day'!$F$2:$F$2,'Null distribution by day'!$B$2:$B$2,"=d20270120"),"") | CG6: =IF((0=1),SUMIFS('Null distribution by day'!$F$2:$F$2,'Null distribution by day'!$B$2:$B$2,"=d20270121"),"") | CH6: =IF((0=1),SUMIFS('Null distribution by day'!$F$2:$F$2,'Null distribution by day'!$B$2:$B$2,"=d20270122"),"") | CI6: =IF((0=1),SUMIFS('Null distribution by day'!$F$2:$F$2,'Null distribution by day'!$B$2:$B$2,"=d20270125"),"") | CJ6: =IF((0=1),SUMIFS('Null distribution by day'!$F$2:$F$2,'Null distribution by day'!$B$2:$B$2,"=d20270126"),"") | CK6: =IF((0=1),SUMIFS('Null distribution by day'!$F$2:$F$2,'Null distribution by day'!$B$2:$B$2,"=d20270127"),"") | CL6: =IF((0=1),SUMIFS('Null distribution by day'!$F$2:$F$2,'Null distribution by day'!$B$2:$B$2,"=d20270128"),"") | CM6: =IF((0=1),SUMIFS('Null distribution by day'!$F$2:$F$2,'Null distribution by day'!$B$2:$B$2,"=d20270129"),"") | CN6: =IF((0=1),SUMIFS('Null distribution by day'!$F$2:$F$2,'Null distribution by day'!$B$2:$B$2,"=d20270201"),"") | CO6: =IF((0=1),SUMIFS('Null distribution by day'!$F$2:$F$2,'Null distribution by day'!$B$2:$B$2,"=d20270202"),"") | CP6: =IF((0=1),SUMIFS('Null distribution by day'!$F$2:$F$2,'Null distribution by day'!$B$2:$B$2,"=d20270203"),"") | CQ6: =IF((0=1),SUMIFS('Null distribution by day'!$F$2:$F$2,'Null distribution by day'!$B$2:$B$2,"=d20270204"),"") | CR6: =IF((0=1),SUMIFS('Null distribution by day'!$F$2:$F$2,'Null distribution by day'!$B$2:$B$2,"=d20270205"),"") | CS6: =IF((0=1),SUMIFS('Null distribution by day'!$F$2:$F$2,'Null distribution by day'!$B$2:$B$2,"=d20270208"),"") | CT6: =IF((0=1),SUMIFS('Null distribution by day'!$F$2:$F$2,'Null distribution by day'!$B$2:$B$2,"=d20270209"),"") | CU6: =IF((0=1),SUMIFS('Null distribution by day'!$F$2:$F$2,'Null distribution by day'!$B$2:$B$2,"=d20270210"),"") | CV6: =IF((0=1),SUMIFS('Null distribution by day'!$F$2:$F$2,'Null distribution by day'!$B$2:$B$2,"=d20270211"),"") | CW6: =IF((0=1),SUMIFS('Null distribution by day'!$F$2:$F$2,'Null distribution by day'!$B$2:$B$2,"=d20270212"),"")
A7: Hit rate | B7: =IF((1=1),SUMIFS('Daily evaluations'!$G$2:$G$2,'Daily evaluations'!$B$2:$B$2,"=d20260922"),"") -> 0.5 | C7: =IF((0=1),SUMIFS('Daily evaluations'!$G$2:$G$2,'Daily evaluations'!$B$2:$B$2,"=d20260923"),"") | D7: =IF((0=1),SUMIFS('Daily evaluations'!$G$2:$G$2,'Daily evaluations'!$B$2:$B$2,"=d20260924"),"") | E7: =IF((0=1),SUMIFS('Daily evaluations'!$G$2:$G$2,'Daily evaluations'!$B$2:$B$2,"=d20260925"),"") | F7: =IF((0=1),SUMIFS('Daily evaluations'!$G$2:$G$2,'Daily evaluations'!$B$2:$B$2,"=d20260928"),"") | G7: =IF((0=1),SUMIFS('Daily evaluations'!$G$2:$G$2,'Daily evaluations'!$B$2:$B$2,"=d20260929"),"") | H7: =IF((0=1),SUMIFS('Daily evaluations'!$G$2:$G$2,'Daily evaluations'!$B$2:$B$2,"=d20260930"),"") | I7: =IF((0=1),SUMIFS('Daily evaluations'!$G$2:$G$2,'Daily evaluations'!$B$2:$B$2,"=d20261001"),"") | J7: =IF((0=1),SUMIFS('Daily evaluations'!$G$2:$G$2,'Daily evaluations'!$B$2:$B$2,"=d20261002"),"") | K7: =IF((0=1),SUMIFS('Daily evaluations'!$G$2:$G$2,'Daily evaluations'!$B$2:$B$2,"=d20261005"),"") | L7: =IF((0=1),SUMIFS('Daily evaluations'!$G$2:$G$2,'Daily evaluations'!$B$2:$B$2,"=d20261006"),"") | M7: =IF((0=1),SUMIFS('Daily evaluations'!$G$2:$G$2,'Daily evaluations'!$B$2:$B$2,"=d20261007"),"") | N7: =IF((0=1),SUMIFS('Daily evaluations'!$G$2:$G$2,'Daily evaluations'!$B$2:$B$2,"=d20261008"),"") | O7: =IF((0=1),SUMIFS('Daily evaluations'!$G$2:$G$2,'Daily evaluations'!$B$2:$B$2,"=d20261009"),"") | P7: =IF((0=1),SUMIFS('Daily evaluations'!$G$2:$G$2,'Daily evaluations'!$B$2:$B$2,"=d20261012"),"") | Q7: =IF((0=1),SUMIFS('Daily evaluations'!$G$2:$G$2,'Daily evaluations'!$B$2:$B$2,"=d20261013"),"") | R7: =IF((0=1),SUMIFS('Daily evaluations'!$G$2:$G$2,'Daily evaluations'!$B$2:$B$2,"=d20261014"),"") | S7: =IF((0=1),SUMIFS('Daily evaluations'!$G$2:$G$2,'Daily evaluations'!$B$2:$B$2,"=d20261015"),"") | T7: =IF((0=1),SUMIFS('Daily evaluations'!$G$2:$G$2,'Daily evaluations'!$B$2:$B$2,"=d20261016"),"") | U7: =IF((0=1),SUMIFS('Daily evaluations'!$G$2:$G$2,'Daily evaluations'!$B$2:$B$2,"=d20261019"),"") | V7: =IF((0=1),SUMIFS('Daily evaluations'!$G$2:$G$2,'Daily evaluations'!$B$2:$B$2,"=d20261020"),"") | W7: =IF((0=1),SUMIFS('Daily evaluations'!$G$2:$G$2,'Daily evaluations'!$B$2:$B$2,"=d20261021"),"") | X7: =IF((0=1),SUMIFS('Daily evaluations'!$G$2:$G$2,'Daily evaluations'!$B$2:$B$2,"=d20261022"),"") | Y7: =IF((0=1),SUMIFS('Daily evaluations'!$G$2:$G$2,'Daily evaluations'!$B$2:$B$2,"=d20261023"),"") | Z7: =IF((0=1),SUMIFS('Daily evaluations'!$G$2:$G$2,'Daily evaluations'!$B$2:$B$2,"=d20261026"),"") | AA7: =IF((0=1),SUMIFS('Daily evaluations'!$G$2:$G$2,'Daily evaluations'!$B$2:$B$2,"=d20261027"),"") | AB7: =IF((0=1),SUMIFS('Daily evaluations'!$G$2:$G$2,'Daily evaluations'!$B$2:$B$2,"=d20261028"),"") | AC7: =IF((0=1),SUMIFS('Daily evaluations'!$G$2:$G$2,'Daily evaluations'!$B$2:$B$2,"=d20261029"),"") | AD7: =IF((0=1),SUMIFS('Daily evaluations'!$G$2:$G$2,'Daily evaluations'!$B$2:$B$2,"=d20261030"),"") | AE7: =IF((0=1),SUMIFS('Daily evaluations'!$G$2:$G$2,'Daily evaluations'!$B$2:$B$2,"=d20261102"),"") | AF7: =IF((0=1),SUMIFS('Daily evaluations'!$G$2:$G$2,'Daily evaluations'!$B$2:$B$2,"=d20261103"),"") | AG7: =IF((0=1),SUMIFS('Daily evaluations'!$G$2:$G$2,'Daily evaluations'!$B$2:$B$2,"=d20261104"),"") | AH7: =IF((0=1),SUMIFS('Daily evaluations'!$G$2:$G$2,'Daily evaluations'!$B$2:$B$2,"=d20261105"),"") | AI7: =IF((0=1),SUMIFS('Daily evaluations'!$G$2:$G$2,'Daily evaluations'!$B$2:$B$2,"=d20261106"),"") | AJ7: =IF((0=1),SUMIFS('Daily evaluations'!$G$2:$G$2,'Daily evaluations'!$B$2:$B$2,"=d20261109"),"") | AK7: =IF((0=1),SUMIFS('Daily evaluations'!$G$2:$G$2,'Daily evaluations'!$B$2:$B$2,"=d20261110"),"") | AL7: =IF((0=1),SUMIFS('Daily evaluations'!$G$2:$G$2,'Daily evaluations'!$B$2:$B$2,"=d20261111"),"") | AM7: =IF((0=1),SUMIFS('Daily evaluations'!$G$2:$G$2,'Daily evaluations'!$B$2:$B$2,"=d20261112"),"") | AN7: =IF((0=1),SUMIFS('Daily evaluations'!$G$2:$G$2,'Daily evaluations'!$B$2:$B$2,"=d20261113"),"") | AO7: =IF((0=1),SUMIFS('Daily evaluations'!$G$2:$G$2,'Daily evaluations'!$B$2:$B$2,"=d20261116"),"") | AP7: =IF((0=1),SUMIFS('Daily evaluations'!$G$2:$G$2,'Daily evaluations'!$B$2:$B$2,"=d20261117"),"") | AQ7: =IF((0=1),SUMIFS('Daily evaluations'!$G$2:$G$2,'Daily evaluations'!$B$2:$B$2,"=d20261118"),"") | AR7: =IF((0=1),SUMIFS('Daily evaluations'!$G$2:$G$2,'Daily evaluations'!$B$2:$B$2,"=d20261119"),"") | AS7: =IF((0=1),SUMIFS('Daily evaluations'!$G$2:$G$2,'Daily evaluations'!$B$2:$B$2,"=d20261120"),"") | AT7: =IF((0=1),SUMIFS('Daily evaluations'!$G$2:$G$2,'Daily evaluations'!$B$2:$B$2,"=d20261123"),"") | AU7: =IF((0=1),SUMIFS('Daily evaluations'!$G$2:$G$2,'Daily evaluations'!$B$2:$B$2,"=d20261124"),"") | AV7: =IF((0=1),SUMIFS('Daily evaluations'!$G$2:$G$2,'Daily evaluations'!$B$2:$B$2,"=d20261125"),"") | AW7: =IF((0=1),SUMIFS('Daily evaluations'!$G$2:$G$2,'Daily evaluations'!$B$2:$B$2,"=d20261127"),"") | AX7: =IF((0=1),SUMIFS('Daily evaluations'!$G$2:$G$2,'Daily evaluations'!$B$2:$B$2,"=d20261130"),"") | AY7: =IF((0=1),SUMIFS('Daily evaluations'!$G$2:$G$2,'Daily evaluations'!$B$2:$B$2,"=d20261201"),"") | AZ7: =IF((0=1),SUMIFS('Daily evaluations'!$G$2:$G$2,'Daily evaluations'!$B$2:$B$2,"=d20261202"),"") | BA7: =IF((0=1),SUMIFS('Daily evaluations'!$G$2:$G$2,'Daily evaluations'!$B$2:$B$2,"=d20261203"),"") | BB7: =IF((0=1),SUMIFS('Daily evaluations'!$G$2:$G$2,'Daily evaluations'!$B$2:$B$2,"=d20261204"),"") | BC7: =IF((0=1),SUMIFS('Daily evaluations'!$G$2:$G$2,'Daily evaluations'!$B$2:$B$2,"=d20261207"),"") | BD7: =IF((0=1),SUMIFS('Daily evaluations'!$G$2:$G$2,'Daily evaluations'!$B$2:$B$2,"=d20261208"),"") | BE7: =IF((0=1),SUMIFS('Daily evaluations'!$G$2:$G$2,'Daily evaluations'!$B$2:$B$2,"=d20261209"),"") | BF7: =IF((0=1),SUMIFS('Daily evaluations'!$G$2:$G$2,'Daily evaluations'!$B$2:$B$2,"=d20261210"),"") | BG7: =IF((0=1),SUMIFS('Daily evaluations'!$G$2:$G$2,'Daily evaluations'!$B$2:$B$2,"=d20261211"),"") | BH7: =IF((0=1),SUMIFS('Daily evaluations'!$G$2:$G$2,'Daily evaluations'!$B$2:$B$2,"=d20261214"),"") | BI7: =IF((0=1),SUMIFS('Daily evaluations'!$G$2:$G$2,'Daily evaluations'!$B$2:$B$2,"=d20261215"),"") | BJ7: =IF((0=1),SUMIFS('Daily evaluations'!$G$2:$G$2,'Daily evaluations'!$B$2:$B$2,"=d20261216"),"") | BK7: =IF((0=1),SUMIFS('Daily evaluations'!$G$2:$G$2,'Daily evaluations'!$B$2:$B$2,"=d20261217"),"") | BL7: =IF((0=1),SUMIFS('Daily evaluations'!$G$2:$G$2,'Daily evaluations'!$B$2:$B$2,"=d20261218"),"") | BM7: =IF((0=1),SUMIFS('Daily evaluations'!$G$2:$G$2,'Daily evaluations'!$B$2:$B$2,"=d20261221"),"") | BN7: =IF((0=1),SUMIFS('Daily evaluations'!$G$2:$G$2,'Daily evaluations'!$B$2:$B$2,"=d20261222"),"") | BO7: =IF((0=1),SUMIFS('Daily evaluations'!$G$2:$G$2,'Daily evaluations'!$B$2:$B$2,"=d20261223"),"") | BP7: =IF((0=1),SUMIFS('Daily evaluations'!$G$2:$G$2,'Daily evaluations'!$B$2:$B$2,"=d20261224"),"") | BQ7: =IF((0=1),SUMIFS('Daily evaluations'!$G$2:$G$2,'Daily evaluations'!$B$2:$B$2,"=d20261228"),"") | BR7: =IF((0=1),SUMIFS('Daily evaluations'!$G$2:$G$2,'Daily evaluations'!$B$2:$B$2,"=d20261229"),"") | BS7: =IF((0=1),SUMIFS('Daily evaluations'!$G$2:$G$2,'Daily evaluations'!$B$2:$B$2,"=d20261230"),"") | BT7: =IF((0=1),SUMIFS('Daily evaluations'!$G$2:$G$2,'Daily evaluations'!$B$2:$B$2,"=d20261231"),"") | BU7: =IF((0=1),SUMIFS('Daily evaluations'!$G$2:$G$2,'Daily evaluations'!$B$2:$B$2,"=d20270104"),"") | BV7: =IF((0=1),SUMIFS('Daily evaluations'!$G$2:$G$2,'Daily evaluations'!$B$2:$B$2,"=d20270105"),"") | BW7: =IF((0=1),SUMIFS('Daily evaluations'!$G$2:$G$2,'Daily evaluations'!$B$2:$B$2,"=d20270106"),"") | BX7: =IF((0=1),SUMIFS('Daily evaluations'!$G$2:$G$2,'Daily evaluations'!$B$2:$B$2,"=d20270107"),"") | BY7: =IF((0=1),SUMIFS('Daily evaluations'!$G$2:$G$2,'Daily evaluations'!$B$2:$B$2,"=d20270108"),"") | BZ7: =IF((0=1),SUMIFS('Daily evaluations'!$G$2:$G$2,'Daily evaluations'!$B$2:$B$2,"=d20270111"),"") | CA7: =IF((0=1),SUMIFS('Daily evaluations'!$G$2:$G$2,'Daily evaluations'!$B$2:$B$2,"=d20270112"),"") | CB7: =IF((0=1),SUMIFS('Daily evaluations'!$G$2:$G$2,'Daily evaluations'!$B$2:$B$2,"=d20270113"),"") | CC7: =IF((0=1),SUMIFS('Daily evaluations'!$G$2:$G$2,'Daily evaluations'!$B$2:$B$2,"=d20270114"),"") | CD7: =IF((0=1),SUMIFS('Daily evaluations'!$G$2:$G$2,'Daily evaluations'!$B$2:$B$2,"=d20270115"),"") | CE7: =IF((0=1),SUMIFS('Daily evaluations'!$G$2:$G$2,'Daily evaluations'!$B$2:$B$2,"=d20270119"),"") | CF7: =IF((0=1),SUMIFS('Daily evaluations'!$G$2:$G$2,'Daily evaluations'!$B$2:$B$2,"=d20270120"),"") | CG7: =IF((0=1),SUMIFS('Daily evaluations'!$G$2:$G$2,'Daily evaluations'!$B$2:$B$2,"=d20270121"),"") | CH7: =IF((0=1),SUMIFS('Daily evaluations'!$G$2:$G$2,'Daily evaluations'!$B$2:$B$2,"=d20270122"),"") | CI7: =IF((0=1),SUMIFS('Daily evaluations'!$G$2:$G$2,'Daily evaluations'!$B$2:$B$2,"=d20270125"),"") | CJ7: =IF((0=1),SUMIFS('Daily evaluations'!$G$2:$G$2,'Daily evaluations'!$B$2:$B$2,"=d20270126"),"") | CK7: =IF((0=1),SUMIFS('Daily evaluations'!$G$2:$G$2,'Daily evaluations'!$B$2:$B$2,"=d20270127"),"") | CL7: =IF((0=1),SUMIFS('Daily evaluations'!$G$2:$G$2,'Daily evaluations'!$B$2:$B$2,"=d20270128"),"") | CM7: =IF((0=1),SUMIFS('Daily evaluations'!$G$2:$G$2,'Daily evaluations'!$B$2:$B$2,"=d20270129"),"") | CN7: =IF((0=1),SUMIFS('Daily evaluations'!$G$2:$G$2,'Daily evaluations'!$B$2:$B$2,"=d20270201"),"") | CO7: =IF((0=1),SUMIFS('Daily evaluations'!$G$2:$G$2,'Daily evaluations'!$B$2:$B$2,"=d20270202"),"") | CP7: =IF((0=1),SUMIFS('Daily evaluations'!$G$2:$G$2,'Daily evaluations'!$B$2:$B$2,"=d20270203"),"") | CQ7: =IF((0=1),SUMIFS('Daily evaluations'!$G$2:$G$2,'Daily evaluations'!$B$2:$B$2,"=d20270204"),"") | CR7: =IF((0=1),SUMIFS('Daily evaluations'!$G$2:$G$2,'Daily evaluations'!$B$2:$B$2,"=d20270205"),"") | CS7: =IF((0=1),SUMIFS('Daily evaluations'!$G$2:$G$2,'Daily evaluations'!$B$2:$B$2,"=d20270208"),"") | CT7: =IF((0=1),SUMIFS('Daily evaluations'!$G$2:$G$2,'Daily evaluations'!$B$2:$B$2,"=d20270209"),"") | CU7: =IF((0=1),SUMIFS('Daily evaluations'!$G$2:$G$2,'Daily evaluations'!$B$2:$B$2,"=d20270210"),"") | CV7: =IF((0=1),SUMIFS('Daily evaluations'!$G$2:$G$2,'Daily evaluations'!$B$2:$B$2,"=d20270211"),"") | CW7: =IF((0=1),SUMIFS('Daily evaluations'!$G$2:$G$2,'Daily evaluations'!$B$2:$B$2,"=d20270212"),"")
A8: Information coefficient | B8: =IF((1=1),SUMIFS('Daily evaluations'!$H$2:$H$2,'Daily evaluations'!$B$2:$B$2,"=d20260922"),"") -> 0.0123 | C8: =IF((0=1),SUMIFS('Daily evaluations'!$H$2:$H$2,'Daily evaluations'!$B$2:$B$2,"=d20260923"),"") | D8: =IF((0=1),SUMIFS('Daily evaluations'!$H$2:$H$2,'Daily evaluations'!$B$2:$B$2,"=d20260924"),"") | E8: =IF((0=1),SUMIFS('Daily evaluations'!$H$2:$H$2,'Daily evaluations'!$B$2:$B$2,"=d20260925"),"") | F8: =IF((0=1),SUMIFS('Daily evaluations'!$H$2:$H$2,'Daily evaluations'!$B$2:$B$2,"=d20260928"),"") | G8: =IF((0=1),SUMIFS('Daily evaluations'!$H$2:$H$2,'Daily evaluations'!$B$2:$B$2,"=d20260929"),"") | H8: =IF((0=1),SUMIFS('Daily evaluations'!$H$2:$H$2,'Daily evaluations'!$B$2:$B$2,"=d20260930"),"") | I8: =IF((0=1),SUMIFS('Daily evaluations'!$H$2:$H$2,'Daily evaluations'!$B$2:$B$2,"=d20261001"),"") | J8: =IF((0=1),SUMIFS('Daily evaluations'!$H$2:$H$2,'Daily evaluations'!$B$2:$B$2,"=d20261002"),"") | K8: =IF((0=1),SUMIFS('Daily evaluations'!$H$2:$H$2,'Daily evaluations'!$B$2:$B$2,"=d20261005"),"") | L8: =IF((0=1),SUMIFS('Daily evaluations'!$H$2:$H$2,'Daily evaluations'!$B$2:$B$2,"=d20261006"),"") | M8: =IF((0=1),SUMIFS('Daily evaluations'!$H$2:$H$2,'Daily evaluations'!$B$2:$B$2,"=d20261007"),"") | N8: =IF((0=1),SUMIFS('Daily evaluations'!$H$2:$H$2,'Daily evaluations'!$B$2:$B$2,"=d20261008"),"") | O8: =IF((0=1),SUMIFS('Daily evaluations'!$H$2:$H$2,'Daily evaluations'!$B$2:$B$2,"=d20261009"),"") | P8: =IF((0=1),SUMIFS('Daily evaluations'!$H$2:$H$2,'Daily evaluations'!$B$2:$B$2,"=d20261012"),"") | Q8: =IF((0=1),SUMIFS('Daily evaluations'!$H$2:$H$2,'Daily evaluations'!$B$2:$B$2,"=d20261013"),"") | R8: =IF((0=1),SUMIFS('Daily evaluations'!$H$2:$H$2,'Daily evaluations'!$B$2:$B$2,"=d20261014"),"") | S8: =IF((0=1),SUMIFS('Daily evaluations'!$H$2:$H$2,'Daily evaluations'!$B$2:$B$2,"=d20261015"),"") | T8: =IF((0=1),SUMIFS('Daily evaluations'!$H$2:$H$2,'Daily evaluations'!$B$2:$B$2,"=d20261016"),"") | U8: =IF((0=1),SUMIFS('Daily evaluations'!$H$2:$H$2,'Daily evaluations'!$B$2:$B$2,"=d20261019"),"") | V8: =IF((0=1),SUMIFS('Daily evaluations'!$H$2:$H$2,'Daily evaluations'!$B$2:$B$2,"=d20261020"),"") | W8: =IF((0=1),SUMIFS('Daily evaluations'!$H$2:$H$2,'Daily evaluations'!$B$2:$B$2,"=d20261021"),"") | X8: =IF((0=1),SUMIFS('Daily evaluations'!$H$2:$H$2,'Daily evaluations'!$B$2:$B$2,"=d20261022"),"") | Y8: =IF((0=1),SUMIFS('Daily evaluations'!$H$2:$H$2,'Daily evaluations'!$B$2:$B$2,"=d20261023"),"") | Z8: =IF((0=1),SUMIFS('Daily evaluations'!$H$2:$H$2,'Daily evaluations'!$B$2:$B$2,"=d20261026"),"") | AA8: =IF((0=1),SUMIFS('Daily evaluations'!$H$2:$H$2,'Daily evaluations'!$B$2:$B$2,"=d20261027"),"") | AB8: =IF((0=1),SUMIFS('Daily evaluations'!$H$2:$H$2,'Daily evaluations'!$B$2:$B$2,"=d20261028"),"") | AC8: =IF((0=1),SUMIFS('Daily evaluations'!$H$2:$H$2,'Daily evaluations'!$B$2:$B$2,"=d20261029"),"") | AD8: =IF((0=1),SUMIFS('Daily evaluations'!$H$2:$H$2,'Daily evaluations'!$B$2:$B$2,"=d20261030"),"") | AE8: =IF((0=1),SUMIFS('Daily evaluations'!$H$2:$H$2,'Daily evaluations'!$B$2:$B$2,"=d20261102"),"") | AF8: =IF((0=1),SUMIFS('Daily evaluations'!$H$2:$H$2,'Daily evaluations'!$B$2:$B$2,"=d20261103"),"") | AG8: =IF((0=1),SUMIFS('Daily evaluations'!$H$2:$H$2,'Daily evaluations'!$B$2:$B$2,"=d20261104"),"") | AH8: =IF((0=1),SUMIFS('Daily evaluations'!$H$2:$H$2,'Daily evaluations'!$B$2:$B$2,"=d20261105"),"") | AI8: =IF((0=1),SUMIFS('Daily evaluations'!$H$2:$H$2,'Daily evaluations'!$B$2:$B$2,"=d20261106"),"") | AJ8: =IF((0=1),SUMIFS('Daily evaluations'!$H$2:$H$2,'Daily evaluations'!$B$2:$B$2,"=d20261109"),"") | AK8: =IF((0=1),SUMIFS('Daily evaluations'!$H$2:$H$2,'Daily evaluations'!$B$2:$B$2,"=d20261110"),"") | AL8: =IF((0=1),SUMIFS('Daily evaluations'!$H$2:$H$2,'Daily evaluations'!$B$2:$B$2,"=d20261111"),"") | AM8: =IF((0=1),SUMIFS('Daily evaluations'!$H$2:$H$2,'Daily evaluations'!$B$2:$B$2,"=d20261112"),"") | AN8: =IF((0=1),SUMIFS('Daily evaluations'!$H$2:$H$2,'Daily evaluations'!$B$2:$B$2,"=d20261113"),"") | AO8: =IF((0=1),SUMIFS('Daily evaluations'!$H$2:$H$2,'Daily evaluations'!$B$2:$B$2,"=d20261116"),"") | AP8: =IF((0=1),SUMIFS('Daily evaluations'!$H$2:$H$2,'Daily evaluations'!$B$2:$B$2,"=d20261117"),"") | AQ8: =IF((0=1),SUMIFS('Daily evaluations'!$H$2:$H$2,'Daily evaluations'!$B$2:$B$2,"=d20261118"),"") | AR8: =IF((0=1),SUMIFS('Daily evaluations'!$H$2:$H$2,'Daily evaluations'!$B$2:$B$2,"=d20261119"),"") | AS8: =IF((0=1),SUMIFS('Daily evaluations'!$H$2:$H$2,'Daily evaluations'!$B$2:$B$2,"=d20261120"),"") | AT8: =IF((0=1),SUMIFS('Daily evaluations'!$H$2:$H$2,'Daily evaluations'!$B$2:$B$2,"=d20261123"),"") | AU8: =IF((0=1),SUMIFS('Daily evaluations'!$H$2:$H$2,'Daily evaluations'!$B$2:$B$2,"=d20261124"),"") | AV8: =IF((0=1),SUMIFS('Daily evaluations'!$H$2:$H$2,'Daily evaluations'!$B$2:$B$2,"=d20261125"),"") | AW8: =IF((0=1),SUMIFS('Daily evaluations'!$H$2:$H$2,'Daily evaluations'!$B$2:$B$2,"=d20261127"),"") | AX8: =IF((0=1),SUMIFS('Daily evaluations'!$H$2:$H$2,'Daily evaluations'!$B$2:$B$2,"=d20261130"),"") | AY8: =IF((0=1),SUMIFS('Daily evaluations'!$H$2:$H$2,'Daily evaluations'!$B$2:$B$2,"=d20261201"),"") | AZ8: =IF((0=1),SUMIFS('Daily evaluations'!$H$2:$H$2,'Daily evaluations'!$B$2:$B$2,"=d20261202"),"") | BA8: =IF((0=1),SUMIFS('Daily evaluations'!$H$2:$H$2,'Daily evaluations'!$B$2:$B$2,"=d20261203"),"") | BB8: =IF((0=1),SUMIFS('Daily evaluations'!$H$2:$H$2,'Daily evaluations'!$B$2:$B$2,"=d20261204"),"") | BC8: =IF((0=1),SUMIFS('Daily evaluations'!$H$2:$H$2,'Daily evaluations'!$B$2:$B$2,"=d20261207"),"") | BD8: =IF((0=1),SUMIFS('Daily evaluations'!$H$2:$H$2,'Daily evaluations'!$B$2:$B$2,"=d20261208"),"") | BE8: =IF((0=1),SUMIFS('Daily evaluations'!$H$2:$H$2,'Daily evaluations'!$B$2:$B$2,"=d20261209"),"") | BF8: =IF((0=1),SUMIFS('Daily evaluations'!$H$2:$H$2,'Daily evaluations'!$B$2:$B$2,"=d20261210"),"") | BG8: =IF((0=1),SUMIFS('Daily evaluations'!$H$2:$H$2,'Daily evaluations'!$B$2:$B$2,"=d20261211"),"") | BH8: =IF((0=1),SUMIFS('Daily evaluations'!$H$2:$H$2,'Daily evaluations'!$B$2:$B$2,"=d20261214"),"") | BI8: =IF((0=1),SUMIFS('Daily evaluations'!$H$2:$H$2,'Daily evaluations'!$B$2:$B$2,"=d20261215"),"") | BJ8: =IF((0=1),SUMIFS('Daily evaluations'!$H$2:$H$2,'Daily evaluations'!$B$2:$B$2,"=d20261216"),"") | BK8: =IF((0=1),SUMIFS('Daily evaluations'!$H$2:$H$2,'Daily evaluations'!$B$2:$B$2,"=d20261217"),"") | BL8: =IF((0=1),SUMIFS('Daily evaluations'!$H$2:$H$2,'Daily evaluations'!$B$2:$B$2,"=d20261218"),"") | BM8: =IF((0=1),SUMIFS('Daily evaluations'!$H$2:$H$2,'Daily evaluations'!$B$2:$B$2,"=d20261221"),"") | BN8: =IF((0=1),SUMIFS('Daily evaluations'!$H$2:$H$2,'Daily evaluations'!$B$2:$B$2,"=d20261222"),"") | BO8: =IF((0=1),SUMIFS('Daily evaluations'!$H$2:$H$2,'Daily evaluations'!$B$2:$B$2,"=d20261223"),"") | BP8: =IF((0=1),SUMIFS('Daily evaluations'!$H$2:$H$2,'Daily evaluations'!$B$2:$B$2,"=d20261224"),"") | BQ8: =IF((0=1),SUMIFS('Daily evaluations'!$H$2:$H$2,'Daily evaluations'!$B$2:$B$2,"=d20261228"),"") | BR8: =IF((0=1),SUMIFS('Daily evaluations'!$H$2:$H$2,'Daily evaluations'!$B$2:$B$2,"=d20261229"),"") | BS8: =IF((0=1),SUMIFS('Daily evaluations'!$H$2:$H$2,'Daily evaluations'!$B$2:$B$2,"=d20261230"),"") | BT8: =IF((0=1),SUMIFS('Daily evaluations'!$H$2:$H$2,'Daily evaluations'!$B$2:$B$2,"=d20261231"),"") | BU8: =IF((0=1),SUMIFS('Daily evaluations'!$H$2:$H$2,'Daily evaluations'!$B$2:$B$2,"=d20270104"),"") | BV8: =IF((0=1),SUMIFS('Daily evaluations'!$H$2:$H$2,'Daily evaluations'!$B$2:$B$2,"=d20270105"),"") | BW8: =IF((0=1),SUMIFS('Daily evaluations'!$H$2:$H$2,'Daily evaluations'!$B$2:$B$2,"=d20270106"),"") | BX8: =IF((0=1),SUMIFS('Daily evaluations'!$H$2:$H$2,'Daily evaluations'!$B$2:$B$2,"=d20270107"),"") | BY8: =IF((0=1),SUMIFS('Daily evaluations'!$H$2:$H$2,'Daily evaluations'!$B$2:$B$2,"=d20270108"),"") | BZ8: =IF((0=1),SUMIFS('Daily evaluations'!$H$2:$H$2,'Daily evaluations'!$B$2:$B$2,"=d20270111"),"") | CA8: =IF((0=1),SUMIFS('Daily evaluations'!$H$2:$H$2,'Daily evaluations'!$B$2:$B$2,"=d20270112"),"") | CB8: =IF((0=1),SUMIFS('Daily evaluations'!$H$2:$H$2,'Daily evaluations'!$B$2:$B$2,"=d20270113"),"") | CC8: =IF((0=1),SUMIFS('Daily evaluations'!$H$2:$H$2,'Daily evaluations'!$B$2:$B$2,"=d20270114"),"") | CD8: =IF((0=1),SUMIFS('Daily evaluations'!$H$2:$H$2,'Daily evaluations'!$B$2:$B$2,"=d20270115"),"") | CE8: =IF((0=1),SUMIFS('Daily evaluations'!$H$2:$H$2,'Daily evaluations'!$B$2:$B$2,"=d20270119"),"") | CF8: =IF((0=1),SUMIFS('Daily evaluations'!$H$2:$H$2,'Daily evaluations'!$B$2:$B$2,"=d20270120"),"") | CG8: =IF((0=1),SUMIFS('Daily evaluations'!$H$2:$H$2,'Daily evaluations'!$B$2:$B$2,"=d20270121"),"") | CH8: =IF((0=1),SUMIFS('Daily evaluations'!$H$2:$H$2,'Daily evaluations'!$B$2:$B$2,"=d20270122"),"") | CI8: =IF((0=1),SUMIFS('Daily evaluations'!$H$2:$H$2,'Daily evaluations'!$B$2:$B$2,"=d20270125"),"") | CJ8: =IF((0=1),SUMIFS('Daily evaluations'!$H$2:$H$2,'Daily evaluations'!$B$2:$B$2,"=d20270126"),"") | CK8: =IF((0=1),SUMIFS('Daily evaluations'!$H$2:$H$2,'Daily evaluations'!$B$2:$B$2,"=d20270127"),"") | CL8: =IF((0=1),SUMIFS('Daily evaluations'!$H$2:$H$2,'Daily evaluations'!$B$2:$B$2,"=d20270128"),"") | CM8: =IF((0=1),SUMIFS('Daily evaluations'!$H$2:$H$2,'Daily evaluations'!$B$2:$B$2,"=d20270129"),"") | CN8: =IF((0=1),SUMIFS('Daily evaluations'!$H$2:$H$2,'Daily evaluations'!$B$2:$B$2,"=d20270201"),"") | CO8: =IF((0=1),SUMIFS('Daily evaluations'!$H$2:$H$2,'Daily evaluations'!$B$2:$B$2,"=d20270202"),"") | CP8: =IF((0=1),SUMIFS('Daily evaluations'!$H$2:$H$2,'Daily evaluations'!$B$2:$B$2,"=d20270203"),"") | CQ8: =IF((0=1),SUMIFS('Daily evaluations'!$H$2:$H$2,'Daily evaluations'!$B$2:$B$2,"=d20270204"),"") | CR8: =IF((0=1),SUMIFS('Daily evaluations'!$H$2:$H$2,'Daily evaluations'!$B$2:$B$2,"=d20270205"),"") | CS8: =IF((0=1),SUMIFS('Daily evaluations'!$H$2:$H$2,'Daily evaluations'!$B$2:$B$2,"=d20270208"),"") | CT8: =IF((0=1),SUMIFS('Daily evaluations'!$H$2:$H$2,'Daily evaluations'!$B$2:$B$2,"=d20270209"),"") | CU8: =IF((0=1),SUMIFS('Daily evaluations'!$H$2:$H$2,'Daily evaluations'!$B$2:$B$2,"=d20270210"),"") | CV8: =IF((0=1),SUMIFS('Daily evaluations'!$H$2:$H$2,'Daily evaluations'!$B$2:$B$2,"=d20270211"),"") | CW8: =IF((0=1),SUMIFS('Daily evaluations'!$H$2:$H$2,'Daily evaluations'!$B$2:$B$2,"=d20270212"),"")
A9: Cumulative excess, bps | B9: =IF((1=1),SUM(B2),"") -> -21.574 | C9: =IF((0=1),SUM(B2:C2),"") | D9: =IF((0=1),SUM(B2:D2),"") | E9: =IF((0=1),SUM(B2:E2),"") | F9: =IF((0=1),SUM(B2:F2),"") | G9: =IF((0=1),SUM(B2:G2),"") | H9: =IF((0=1),SUM(B2:H2),"") | I9: =IF((0=1),SUM(B2:I2),"") | J9: =IF((0=1),SUM(B2:J2),"") | K9: =IF((0=1),SUM(B2:K2),"") | L9: =IF((0=1),SUM(B2:L2),"") | M9: =IF((0=1),SUM(B2:M2),"") | N9: =IF((0=1),SUM(B2:N2),"") | O9: =IF((0=1),SUM(B2:O2),"") | P9: =IF((0=1),SUM(B2:P2),"") | Q9: =IF((0=1),SUM(B2:Q2),"") | R9: =IF((0=1),SUM(B2:R2),"") | S9: =IF((0=1),SUM(B2:S2),"") | T9: =IF((0=1),SUM(B2:T2),"") | U9: =IF((0=1),SUM(B2:U2),"") | V9: =IF((0=1),SUM(B2:V2),"") | W9: =IF((0=1),SUM(B2:W2),"") | X9: =IF((0=1),SUM(B2:X2),"") | Y9: =IF((0=1),SUM(B2:Y2),"") | Z9: =IF((0=1),SUM(B2:Z2),"") | AA9: =IF((0=1),SUM(B2:AA2),"") | AB9: =IF((0=1),SUM(B2:AB2),"") | AC9: =IF((0=1),SUM(B2:AC2),"") | AD9: =IF((0=1),SUM(B2:AD2),"") | AE9: =IF((0=1),SUM(B2:AE2),"") | AF9: =IF((0=1),SUM(B2:AF2),"") | AG9: =IF((0=1),SUM(B2:AG2),"") | AH9: =IF((0=1),SUM(B2:AH2),"") | AI9: =IF((0=1),SUM(B2:AI2),"") | AJ9: =IF((0=1),SUM(B2:AJ2),"") | AK9: =IF((0=1),SUM(B2:AK2),"") | AL9: =IF((0=1),SUM(B2:AL2),"") | AM9: =IF((0=1),SUM(B2:AM2),"") | AN9: =IF((0=1),SUM(B2:AN2),"") | AO9: =IF((0=1),SUM(B2:AO2),"") | AP9: =IF((0=1),SUM(B2:AP2),"") | AQ9: =IF((0=1),SUM(B2:AQ2),"") | AR9: =IF((0=1),SUM(B2:AR2),"") | AS9: =IF((0=1),SUM(B2:AS2),"") | AT9: =IF((0=1),SUM(B2:AT2),"") | AU9: =IF((0=1),SUM(B2:AU2),"") | AV9: =IF((0=1),SUM(B2:AV2),"") | AW9: =IF((0=1),SUM(B2:AW2),"") | AX9: =IF((0=1),SUM(B2:AX2),"") | AY9: =IF((0=1),SUM(B2:AY2),"") | AZ9: =IF((0=1),SUM(B2:AZ2),"") | BA9: =IF((0=1),SUM(B2:BA2),"") | BB9: =IF((0=1),SUM(B2:BB2),"") | BC9: =IF((0=1),SUM(B2:BC2),"") | BD9: =IF((0=1),SUM(B2:BD2),"") | BE9: =IF((0=1),SUM(B2:BE2),"") | BF9: =IF((0=1),SUM(B2:BF2),"") | BG9: =IF((0=1),SUM(B2:BG2),"") | BH9: =IF((0=1),SUM(B2:BH2),"") | BI9: =IF((0=1),SUM(B2:BI2),"") | BJ9: =IF((0=1),SUM(B2:BJ2),"") | BK9: =IF((0=1),SUM(B2:BK2),"") | BL9: =IF((0=1),SUM(B2:BL2),"") | BM9: =IF((0=1),SUM(B2:BM2),"") | BN9: =IF((0=1),SUM(B2:BN2),"") | BO9: =IF((0=1),SUM(B2:BO2),"") | BP9: =IF((0=1),SUM(B2:BP2),"") | BQ9: =IF((0=1),SUM(B2:BQ2),"") | BR9: =IF((0=1),SUM(B2:BR2),"") | BS9: =IF((0=1),SUM(B2:BS2),"") | BT9: =IF((0=1),SUM(B2:BT2),"") | BU9: =IF((0=1),SUM(B2:BU2),"") | BV9: =IF((0=1),SUM(B2:BV2),"") | BW9: =IF((0=1),SUM(B2:BW2),"") | BX9: =IF((0=1),SUM(B2:BX2),"") | BY9: =IF((0=1),SUM(B2:BY2),"") | BZ9: =IF((0=1),SUM(B2:BZ2),"") | CA9: =IF((0=1),SUM(B2:CA2),"") | CB9: =IF((0=1),SUM(B2:CB2),"") | CC9: =IF((0=1),SUM(B2:CC2),"") | CD9: =IF((0=1),SUM(B2:CD2),"") | CE9: =IF((0=1),SUM(B2:CE2),"") | CF9: =IF((0=1),SUM(B2:CF2),"") | CG9: =IF((0=1),SUM(B2:CG2),"") | CH9: =IF((0=1),SUM(B2:CH2),"") | CI9: =IF((0=1),SUM(B2:CI2),"") | CJ9: =IF((0=1),SUM(B2:CJ2),"") | CK9: =IF((0=1),SUM(B2:CK2),"") | CL9: =IF((0=1),SUM(B2:CL2),"") | CM9: =IF((0=1),SUM(B2:CM2),"") | CN9: =IF((0=1),SUM(B2:CN2),"") | CO9: =IF((0=1),SUM(B2:CO2),"") | CP9: =IF((0=1),SUM(B2:CP2),"") | CQ9: =IF((0=1),SUM(B2:CQ2),"") | CR9: =IF((0=1),SUM(B2:CR2),"") | CS9: =IF((0=1),SUM(B2:CS2),"") | CT9: =IF((0=1),SUM(B2:CT2),"") | CU9: =IF((0=1),SUM(B2:CU2),"") | CV9: =IF((0=1),SUM(B2:CV2),"") | CW9: =IF((0=1),SUM(B2:CW2),"")
A10: Random pods: cumulative average, bps | B10: =IF((1=1),SUM(B4),"") -> 0.827 | C10: =IF((0=1),SUM(B4:C4),"") | D10: =IF((0=1),SUM(B4:D4),"") | E10: =IF((0=1),SUM(B4:E4),"") | F10: =IF((0=1),SUM(B4:F4),"") | G10: =IF((0=1),SUM(B4:G4),"") | H10: =IF((0=1),SUM(B4:H4),"") | I10: =IF((0=1),SUM(B4:I4),"") | J10: =IF((0=1),SUM(B4:J4),"") | K10: =IF((0=1),SUM(B4:K4),"") | L10: =IF((0=1),SUM(B4:L4),"") | M10: =IF((0=1),SUM(B4:M4),"") | N10: =IF((0=1),SUM(B4:N4),"") | O10: =IF((0=1),SUM(B4:O4),"") | P10: =IF((0=1),SUM(B4:P4),"") | Q10: =IF((0=1),SUM(B4:Q4),"") | R10: =IF((0=1),SUM(B4:R4),"") | S10: =IF((0=1),SUM(B4:S4),"") | T10: =IF((0=1),SUM(B4:T4),"") | U10: =IF((0=1),SUM(B4:U4),"") | V10: =IF((0=1),SUM(B4:V4),"") | W10: =IF((0=1),SUM(B4:W4),"") | X10: =IF((0=1),SUM(B4:X4),"") | Y10: =IF((0=1),SUM(B4:Y4),"") | Z10: =IF((0=1),SUM(B4:Z4),"") | AA10: =IF((0=1),SUM(B4:AA4),"") | AB10: =IF((0=1),SUM(B4:AB4),"") | AC10: =IF((0=1),SUM(B4:AC4),"") | AD10: =IF((0=1),SUM(B4:AD4),"") | AE10: =IF((0=1),SUM(B4:AE4),"") | AF10: =IF((0=1),SUM(B4:AF4),"") | AG10: =IF((0=1),SUM(B4:AG4),"") | AH10: =IF((0=1),SUM(B4:AH4),"") | AI10: =IF((0=1),SUM(B4:AI4),"") | AJ10: =IF((0=1),SUM(B4:AJ4),"") | AK10: =IF((0=1),SUM(B4:AK4),"") | AL10: =IF((0=1),SUM(B4:AL4),"") | AM10: =IF((0=1),SUM(B4:AM4),"") | AN10: =IF((0=1),SUM(B4:AN4),"") | AO10: =IF((0=1),SUM(B4:AO4),"") | AP10: =IF((0=1),SUM(B4:AP4),"") | AQ10: =IF((0=1),SUM(B4:AQ4),"") | AR10: =IF((0=1),SUM(B4:AR4),"") | AS10: =IF((0=1),SUM(B4:AS4),"") | AT10: =IF((0=1),SUM(B4:AT4),"") | AU10: =IF((0=1),SUM(B4:AU4),"") | AV10: =IF((0=1),SUM(B4:AV4),"") | AW10: =IF((0=1),SUM(B4:AW4),"") | AX10: =IF((0=1),SUM(B4:AX4),"") | AY10: =IF((0=1),SUM(B4:AY4),"") | AZ10: =IF((0=1),SUM(B4:AZ4),"") | BA10: =IF((0=1),SUM(B4:BA4),"") | BB10: =IF((0=1),SUM(B4:BB4),"") | BC10: =IF((0=1),SUM(B4:BC4),"") | BD10: =IF((0=1),SUM(B4:BD4),"") | BE10: =IF((0=1),SUM(B4:BE4),"") | BF10: =IF((0=1),SUM(B4:BF4),"") | BG10: =IF((0=1),SUM(B4:BG4),"") | BH10: =IF((0=1),SUM(B4:BH4),"") | BI10: =IF((0=1),SUM(B4:BI4),"") | BJ10: =IF((0=1),SUM(B4:BJ4),"") | BK10: =IF((0=1),SUM(B4:BK4),"") | BL10: =IF((0=1),SUM(B4:BL4),"") | BM10: =IF((0=1),SUM(B4:BM4),"") | BN10: =IF((0=1),SUM(B4:BN4),"") | BO10: =IF((0=1),SUM(B4:BO4),"") | BP10: =IF((0=1),SUM(B4:BP4),"") | BQ10: =IF((0=1),SUM(B4:BQ4),"") | BR10: =IF((0=1),SUM(B4:BR4),"") | BS10: =IF((0=1),SUM(B4:BS4),"") | BT10: =IF((0=1),SUM(B4:BT4),"") | BU10: =IF((0=1),SUM(B4:BU4),"") | BV10: =IF((0=1),SUM(B4:BV4),"") | BW10: =IF((0=1),SUM(B4:BW4),"") | BX10: =IF((0=1),SUM(B4:BX4),"") | BY10: =IF((0=1),SUM(B4:BY4),"") | BZ10: =IF((0=1),SUM(B4:BZ4),"") | CA10: =IF((0=1),SUM(B4:CA4),"") | CB10: =IF((0=1),SUM(B4:CB4),"") | CC10: =IF((0=1),SUM(B4:CC4),"") | CD10: =IF((0=1),SUM(B4:CD4),"") | CE10: =IF((0=1),SUM(B4:CE4),"") | CF10: =IF((0=1),SUM(B4:CF4),"") | CG10: =IF((0=1),SUM(B4:CG4),"") | CH10: =IF((0=1),SUM(B4:CH4),"") | CI10: =IF((0=1),SUM(B4:CI4),"") | CJ10: =IF((0=1),SUM(B4:CJ4),"") | CK10: =IF((0=1),SUM(B4:CK4),"") | CL10: =IF((0=1),SUM(B4:CL4),"") | CM10: =IF((0=1),SUM(B4:CM4),"") | CN10: =IF((0=1),SUM(B4:CN4),"") | CO10: =IF((0=1),SUM(B4:CO4),"") | CP10: =IF((0=1),SUM(B4:CP4),"") | CQ10: =IF((0=1),SUM(B4:CQ4),"") | CR10: =IF((0=1),SUM(B4:CR4),"") | CS10: =IF((0=1),SUM(B4:CS4),"") | CT10: =IF((0=1),SUM(B4:CT4),"") | CU10: =IF((0=1),SUM(B4:CU4),"") | CV10: =IF((0=1),SUM(B4:CV4),"") | CW10: =IF((0=1),SUM(B4:CW4),"")
A11: Evaluated days to date | B11: =IF((1=1),COUNT(B2),"") -> 1 | C11: =IF((0=1),COUNT(B2:C2),"") | D11: =IF((0=1),COUNT(B2:D2),"") | E11: =IF((0=1),COUNT(B2:E2),"") | F11: =IF((0=1),COUNT(B2:F2),"") | G11: =IF((0=1),COUNT(B2:G2),"") | H11: =IF((0=1),COUNT(B2:H2),"") | I11: =IF((0=1),COUNT(B2:I2),"") | J11: =IF((0=1),COUNT(B2:J2),"") | K11: =IF((0=1),COUNT(B2:K2),"") | L11: =IF((0=1),COUNT(B2:L2),"") | M11: =IF((0=1),COUNT(B2:M2),"") | N11: =IF((0=1),COUNT(B2:N2),"") | O11: =IF((0=1),COUNT(B2:O2),"") | P11: =IF((0=1),COUNT(B2:P2),"") | Q11: =IF((0=1),COUNT(B2:Q2),"") | R11: =IF((0=1),COUNT(B2:R2),"") | S11: =IF((0=1),COUNT(B2:S2),"") | T11: =IF((0=1),COUNT(B2:T2),"") | U11: =IF((0=1),COUNT(B2:U2),"") | V11: =IF((0=1),COUNT(B2:V2),"") | W11: =IF((0=1),COUNT(B2:W2),"") | X11: =IF((0=1),COUNT(B2:X2),"") | Y11: =IF((0=1),COUNT(B2:Y2),"") | Z11: =IF((0=1),COUNT(B2:Z2),"") | AA11: =IF((0=1),COUNT(B2:AA2),"") | AB11: =IF((0=1),COUNT(B2:AB2),"") | AC11: =IF((0=1),COUNT(B2:AC2),"") | AD11: =IF((0=1),COUNT(B2:AD2),"") | AE11: =IF((0=1),COUNT(B2:AE2),"") | AF11: =IF((0=1),COUNT(B2:AF2),"") | AG11: =IF((0=1),COUNT(B2:AG2),"") | AH11: =IF((0=1),COUNT(B2:AH2),"") | AI11: =IF((0=1),COUNT(B2:AI2),"") | AJ11: =IF((0=1),COUNT(B2:AJ2),"") | AK11: =IF((0=1),COUNT(B2:AK2),"") | AL11: =IF((0=1),COUNT(B2:AL2),"") | AM11: =IF((0=1),COUNT(B2:AM2),"") | AN11: =IF((0=1),COUNT(B2:AN2),"") | AO11: =IF((0=1),COUNT(B2:AO2),"") | AP11: =IF((0=1),COUNT(B2:AP2),"") | AQ11: =IF((0=1),COUNT(B2:AQ2),"") | AR11: =IF((0=1),COUNT(B2:AR2),"") | AS11: =IF((0=1),COUNT(B2:AS2),"") | AT11: =IF((0=1),COUNT(B2:AT2),"") | AU11: =IF((0=1),COUNT(B2:AU2),"") | AV11: =IF((0=1),COUNT(B2:AV2),"") | AW11: =IF((0=1),COUNT(B2:AW2),"") | AX11: =IF((0=1),COUNT(B2:AX2),"") | AY11: =IF((0=1),COUNT(B2:AY2),"") | AZ11: =IF((0=1),COUNT(B2:AZ2),"") | BA11: =IF((0=1),COUNT(B2:BA2),"") | BB11: =IF((0=1),COUNT(B2:BB2),"") | BC11: =IF((0=1),COUNT(B2:BC2),"") | BD11: =IF((0=1),COUNT(B2:BD2),"") | BE11: =IF((0=1),COUNT(B2:BE2),"") | BF11: =IF((0=1),COUNT(B2:BF2),"") | BG11: =IF((0=1),COUNT(B2:BG2),"") | BH11: =IF((0=1),COUNT(B2:BH2),"") | BI11: =IF((0=1),COUNT(B2:BI2),"") | BJ11: =IF((0=1),COUNT(B2:BJ2),"") | BK11: =IF((0=1),COUNT(B2:BK2),"") | BL11: =IF((0=1),COUNT(B2:BL2),"") | BM11: =IF((0=1),COUNT(B2:BM2),"") | BN11: =IF((0=1),COUNT(B2:BN2),"") | BO11: =IF((0=1),COUNT(B2:BO2),"") | BP11: =IF((0=1),COUNT(B2:BP2),"") | BQ11: =IF((0=1),COUNT(B2:BQ2),"") | BR11: =IF((0=1),COUNT(B2:BR2),"") | BS11: =IF((0=1),COUNT(B2:BS2),"") | BT11: =IF((0=1),COUNT(B2:BT2),"") | BU11: =IF((0=1),COUNT(B2:BU2),"") | BV11: =IF((0=1),COUNT(B2:BV2),"") | BW11: =IF((0=1),COUNT(B2:BW2),"") | BX11: =IF((0=1),COUNT(B2:BX2),"") | BY11: =IF((0=1),COUNT(B2:BY2),"") | BZ11: =IF((0=1),COUNT(B2:BZ2),"") | CA11: =IF((0=1),COUNT(B2:CA2),"") | CB11: =IF((0=1),COUNT(B2:CB2),"") | CC11: =IF((0=1),COUNT(B2:CC2),"") | CD11: =IF((0=1),COUNT(B2:CD2),"") | CE11: =IF((0=1),COUNT(B2:CE2),"") | CF11: =IF((0=1),COUNT(B2:CF2),"") | CG11: =IF((0=1),COUNT(B2:CG2),"") | CH11: =IF((0=1),COUNT(B2:CH2),"") | CI11: =IF((0=1),COUNT(B2:CI2),"") | CJ11: =IF((0=1),COUNT(B2:CJ2),"") | CK11: =IF((0=1),COUNT(B2:CK2),"") | CL11: =IF((0=1),COUNT(B2:CL2),"") | CM11: =IF((0=1),COUNT(B2:CM2),"") | CN11: =IF((0=1),COUNT(B2:CN2),"") | CO11: =IF((0=1),COUNT(B2:CO2),"") | CP11: =IF((0=1),COUNT(B2:CP2),"") | CQ11: =IF((0=1),COUNT(B2:CQ2),"") | CR11: =IF((0=1),COUNT(B2:CR2),"") | CS11: =IF((0=1),COUNT(B2:CS2),"") | CT11: =IF((0=1),COUNT(B2:CT2),"") | CU11: =IF((0=1),COUNT(B2:CU2),"") | CV11: =IF((0=1),COUNT(B2:CV2),"") | CW11: =IF((0=1),COUNT(B2:CW2),"")
A12: Running mean, bps/day | B12: =IF((1=1),(B9/B11),"") -> -21.574 | C12: =IF((0=1),(C9/C11),"") | D12: =IF((0=1),(D9/D11),"") | E12: =IF((0=1),(E9/E11),"") | F12: =IF((0=1),(F9/F11),"") | G12: =IF((0=1),(G9/G11),"") | H12: =IF((0=1),(H9/H11),"") | I12: =IF((0=1),(I9/I11),"") | J12: =IF((0=1),(J9/J11),"") | ... CW12: =IF((0=1),(CW9/CW11),"")
A13: Squared excess | B13: =IF((1=1),(B2*B2),"") -> 465.43748 | C13: =IF((0=1),(C2*C2),"") | D13: =IF((0=1),(D2*D2),"") | E13: =IF((0=1),(E2*E2),"") | F13: =IF((0=1),(F2*F2),"") | G13: =IF((0=1),(G2*G2),"") | H13: =IF((0=1),(H2*H2),"") | I13: =IF((0=1),(I2*I2),"") | J13: =IF((0=1),(J2*J2),"") | ... CW13: =IF((0=1),(CW2*CW2),"")
A14: Running mean of squares | B14: =IF((1=1),(SUM(B13)/B11),"") -> 465.43748 | C14: =IF((0=1),(SUM(B13:C13)/C11),"") | D14: =IF((0=1),(SUM(B13:D13)/D11),"") | E14: =IF((0=1),(SUM(B13:E13)/E11),"") | F14: =IF((0=1),(SUM(B13:F13)/F11),"") | G14: =IF((0=1),(SUM(B13:G13)/G11),"") | H14: =IF((0=1),(SUM(B13:H13)/H11),"") | I14: =IF((0=1),(SUM(B13:I13)/I11),"") | J14: =IF((0=1),(SUM(B13:J13)/J11),"") | K14: =IF((0=1),(SUM(B13:K13)/K11),"") | L14: =IF((0=1),(SUM(B13:L13)/L11),"") | M14: =IF((0=1),(SUM(B13:M13)/M11),"") | N14: =IF((0=1),(SUM(B13:N13)/N11),"") | O14: =IF((0=1),(SUM(B13:O13)/O11),"") | P14: =IF((0=1),(SUM(B13:P13)/P11),"") | Q14: =IF((0=1),(SUM(B13:Q13)/Q11),"") | R14: =IF((0=1),(SUM(B13:R13)/R11),"") | S14: =IF((0=1),(SUM(B13:S13)/S11),"") | T14: =IF((0=1),(SUM(B13:T13)/T11),"") | U14: =IF((0=1),(SUM(B13:U13)/U11),"") | V14: =IF((0=1),(SUM(B13:V13)/V11),"") | W14: =IF((0=1),(SUM(B13:W13)/W11),"") | X14: =IF((0=1),(SUM(B13:X13)/X11),"") | Y14: =IF((0=1),(SUM(B13:Y13)/Y11),"") | Z14: =IF((0=1),(SUM(B13:Z13)/Z11),"") | AA14: =IF((0=1),(SUM(B13:AA13)/AA11),"") | AB14: =IF((0=1),(SUM(B13:AB13)/AB11),"") | AC14: =IF((0=1),(SUM(B13:AC13)/AC11),"") | AD14: =IF((0=1),(SUM(B13:AD13)/AD11),"") | AE14: =IF((0=1),(SUM(B13:AE13)/AE11),"") | AF14: =IF((0=1),(SUM(B13:AF13)/AF11),"") | AG14: =IF((0=1),(SUM(B13:AG13)/AG11),"") | AH14: =IF((0=1),(SUM(B13:AH13)/AH11),"") | AI14: =IF((0=1),(SUM(B13:AI13)/AI11),"") | AJ14: =IF((0=1),(SUM(B13:AJ13)/AJ11),"") | AK14: =IF((0=1),(SUM(B13:AK13)/AK11),"") | AL14: =IF((0=1),(SUM(B13:AL13)/AL11),"") | AM14: =IF((0=1),(SUM(B13:AM13)/AM11),"") | AN14: =IF((0=1),(SUM(B13:AN13)/AN11),"") | AO14: =IF((0=1),(SUM(B13:AO13)/AO11),"") | AP14: =IF((0=1),(SUM(B13:AP13)/AP11),"") | AQ14: =IF((0=1),(SUM(B13:AQ13)/AQ11),"") | AR14: =IF((0=1),(SUM(B13:AR13)/AR11),"") | AS14: =IF((0=1),(SUM(B13:AS13)/AS11),"") | AT14: =IF((0=1),(SUM(B13:AT13)/AT11),"") | AU14: =IF((0=1),(SUM(B13:AU13)/AU11),"") | AV14: =IF((0=1),(SUM(B13:AV13)/AV11),"") | AW14: =IF((0=1),(SUM(B13:AW13)/AW11),"") | AX14: =IF((0=1),(SUM(B13:AX13)/AX11),"") | AY14: =IF((0=1),(SUM(B13:AY13)/AY11),"") | AZ14: =IF((0=1),(SUM(B13:AZ13)/AZ11),"") | BA14: =IF((0=1),(SUM(B13:BA13)/BA11),"") | BB14: =IF((0=1),(SUM(B13:BB13)/BB11),"") | BC14: =IF((0=1),(SUM(B13:BC13)/BC11),"") | BD14: =IF((0=1),(SUM(B13:BD13)/BD11),"") | BE14: =IF((0=1),(SUM(B13:BE13)/BE11),"") | BF14: =IF((0=1),(SUM(B13:BF13)/BF11),"") | BG14: =IF((0=1),(SUM(B13:BG13)/BG11),"") | BH14: =IF((0=1),(SUM(B13:BH13)/BH11),"") | BI14: =IF((0=1),(SUM(B13:BI13)/BI11),"") | BJ14: =IF((0=1),(SUM(B13:BJ13)/BJ11),"") | BK14: =IF((0=1),(SUM(B13:BK13)/BK11),"") | BL14: =IF((0=1),(SUM(B13:BL13)/BL11),"") | BM14: =IF((0=1),(SUM(B13:BM13)/BM11),"") | BN14: =IF((0=1),(SUM(B13:BN13)/BN11),"") | BO14: =IF((0=1),(SUM(B13:BO13)/BO11),"") | BP14: =IF((0=1),(SUM(B13:BP13)/BP11),"") | BQ14: =IF((0=1),(SUM(B13:BQ13)/BQ11),"") | BR14: =IF((0=1),(SUM(B13:BR13)/BR11),"") | BS14: =IF((0=1),(SUM(B13:BS13)/BS11),"") | BT14: =IF((0=1),(SUM(B13:BT13)/BT11),"") | BU14: =IF((0=1),(SUM(B13:BU13)/BU11),"") | BV14: =IF((0=1),(SUM(B13:BV13)/BV11),"") | BW14: =IF((0=1),(SUM(B13:BW13)/BW11),"") | BX14: =IF((0=1),(SUM(B13:BX13)/BX11),"") | BY14: =IF((0=1),(SUM(B13:BY13)/BY11),"") | BZ14: =IF((0=1),(SUM(B13:BZ13)/BZ11),"") | CA14: =IF((0=1),(SUM(B13:CA13)/CA11),"") | CB14: =IF((0=1),(SUM(B13:CB13)/CB11),"") | CC14: =IF((0=1),(SUM(B13:CC13)/CC11),"") | CD14: =IF((0=1),(SUM(B13:CD13)/CD11),"") | CE14: =IF((0=1),(SUM(B13:CE13)/CE11),"") | CF14: =IF((0=1),(SUM(B13:CF13)/CF11),"") | CG14: =IF((0=1),(SUM(B13:CG13)/CG11),"") | CH14: =IF((0=1),(SUM(B13:CH13)/CH11),"") | CI14: =IF((0=1),(SUM(B13:CI13)/CI11),"") | CJ14: =IF((0=1),(SUM(B13:CJ13)/CJ11),"") | CK14: =IF((0=1),(SUM(B13:CK13)/CK11),"") | CL14: =IF((0=1),(SUM(B13:CL13)/CL11),"") | CM14: =IF((0=1),(SUM(B13:CM13)/CM11),"") | CN14: =IF((0=1),(SUM(B13:CN13)/CN11),"") | CO14: =IF((0=1),(SUM(B13:CO13)/CO11),"") | CP14: =IF((0=1),(SUM(B13:CP13)/CP11),"") | CQ14: =IF((0=1),(SUM(B13:CQ13)/CQ11),"") | CR14: =IF((0=1),(SUM(B13:CR13)/CR11),"") | CS14: =IF((0=1),(SUM(B13:CS13)/CS11),"") | CT14: =IF((0=1),(SUM(B13:CT13)/CT11),"") | CU14: =IF((0=1),(SUM(B13:CU13)/CU11),"") | CV14: =IF((0=1),(SUM(B13:CV13)/CV11),"") | CW14: =IF((0=1),(SUM(B13:CW13)/CW11),"")
A15: Running daily sd, bps | B15: 0
A16: Running t-stat
A17: Cumulative net P&L on notional, $ | B17: =IF((1=1),((SUM(B3)/10000)*'Assumptions (edit)'!B5),"") -> -182.98 | C17: =IF((0=1),((SUM(B3:C3)/10000)*'Assumptions (edit)'!B5),"") | D17: =IF((0=1),((SUM(B3:D3)/10000)*'Assumptions (edit)'!B5),"") | E17: =IF((0=1),((SUM(B3:E3)/10000)*'Assumptions (edit)'!B5),"") | F17: =IF((0=1),((SUM(B3:F3)/10000)*'Assumptions (edit)'!B5),"") | G17: =IF((0=1),((SUM(B3:G3)/10000)*'Assumptions (edit)'!B5),"") | H17: =IF((0=1),((SUM(B3:H3)/10000)*'Assumptions (edit)'!B5),"") | I17: =IF((0=1),((SUM(B3:I3)/10000)*'Assumptions (edit)'!B5),"") | J17: =IF((0=1),((SUM(B3:J3)/10000)*'Assumptions (edit)'!B5),"") | K17: =IF((0=1),((SUM(B3:K3)/10000)*'Assumptions (edit)'!B5),"") | L17: =IF((0=1),((SUM(B3:L3)/10000)*'Assumptions (edit)'!B5),"") | M17: =IF((0=1),((SUM(B3:M3)/10000)*'Assumptions (edit)'!B5),"") | N17: =IF((0=1),((SUM(B3:N3)/10000)*'Assumptions (edit)'!B5),"") | O17: =IF((0=1),((SUM(B3:O3)/10000)*'Assumptions (edit)'!B5),"") | P17: =IF((0=1),((SUM(B3:P3)/10000)*'Assumptions (edit)'!B5),"") | Q17: =IF((0=1),((SUM(B3:Q3)/10000)*'Assumptions (edit)'!B5),"") | R17: =IF((0=1),((SUM(B3:R3)/10000)*'Assumptions (edit)'!B5),"") | S17: =IF((0=1),((SUM(B3:S3)/10000)*'Assumptions (edit)'!B5),"") | T17: =IF((0=1),((SUM(B3:T3)/10000)*'Assumptions (edit)'!B5),"") | U17: =IF((0=1),((SUM(B3:U3)/10000)*'Assumptions (edit)'!B5),"") | V17: =IF((0=1),((SUM(B3:V3)/10000)*'Assumptions (edit)'!B5),"") | W17: =IF((0=1),((SUM(B3:W3)/10000)*'Assumptions (edit)'!B5),"") | X17: =IF((0=1),((SUM(B3:X3)/10000)*'Assumptions (edit)'!B5),"") | Y17: =IF((0=1),((SUM(B3:Y3)/10000)*'Assumptions (edit)'!B5),"") | Z17: =IF((0=1),((SUM(B3:Z3)/10000)*'Assumptions (edit)'!B5),"") | AA17: =IF((0=1),((SUM(B3:AA3)/10000)*'Assumptions (edit)'!B5),"") | AB17: =IF((0=1),((SUM(B3:AB3)/10000)*'Assumptions (edit)'!B5),"") | AC17: =IF((0=1),((SUM(B3:AC3)/10000)*'Assumptions (edit)'!B5),"") | AD17: =IF((0=1),((SUM(B3:AD3)/10000)*'Assumptions (edit)'!B5),"") | AE17: =IF((0=1),((SUM(B3:AE3)/10000)*'Assumptions (edit)'!B5),"") | AF17: =IF((0=1),((SUM(B3:AF3)/10000)*'Assumptions (edit)'!B5),"") | AG17: =IF((0=1),((SUM(B3:AG3)/10000)*'Assumptions (edit)'!B5),"") | AH17: =IF((0=1),((SUM(B3:AH3)/10000)*'Assumptions (edit)'!B5),"") | AI17: =IF((0=1),((SUM(B3:AI3)/10000)*'Assumptions (edit)'!B5),"") | AJ17: =IF((0=1),((SUM(B3:AJ3)/10000)*'Assumptions (edit)'!B5),"") | AK17: =IF((0=1),((SUM(B3:AK3)/10000)*'Assumptions (edit)'!B5),"") | AL17: =IF((0=1),((SUM(B3:AL3)/10000)*'Assumptions (edit)'!B5),"") | AM17: =IF((0=1),((SUM(B3:AM3)/10000)*'Assumptions (edit)'!B5),"") | AN17: =IF((0=1),((SUM(B3:AN3)/10000)*'Assumptions (edit)'!B5),"") | AO17: =IF((0=1),((SUM(B3:AO3)/10000)*'Assumptions (edit)'!B5),"") | AP17: =IF((0=1),((SUM(B3:AP3)/10000)*'Assumptions (edit)'!B5),"") | AQ17: =IF((0=1),((SUM(B3:AQ3)/10000)*'Assumptions (edit)'!B5),"") | AR17: =IF((0=1),((SUM(B3:AR3)/10000)*'Assumptions (edit)'!B5),"") | AS17: =IF((0=1),((SUM(B3:AS3)/10000)*'Assumptions (edit)'!B5),"") | AT17: =IF((0=1),((SUM(B3:AT3)/10000)*'Assumptions (edit)'!B5),"") | AU17: =IF((0=1),((SUM(B3:AU3)/10000)*'Assumptions (edit)'!B5),"") | AV17: =IF((0=1),((SUM(B3:AV3)/10000)*'Assumptions (edit)'!B5),"") | AW17: =IF((0=1),((SUM(B3:AW3)/10000)*'Assumptions (edit)'!B5),"") | AX17: =IF((0=1),((SUM(B3:AX3)/10000)*'Assumptions (edit)'!B5),"") | AY17: =IF((0=1),((SUM(B3:AY3)/10000)*'Assumptions (edit)'!B5),"") | AZ17: =IF((0=1),((SUM(B3:AZ3)/10000)*'Assumptions (edit)'!B5),"") | BA17: =IF((0=1),((SUM(B3:BA3)/10000)*'Assumptions (edit)'!B5),"") | BB17: =IF((0=1),((SUM(B3:BB3)/10000)*'Assumptions (edit)'!B5),"") | BC17: =IF((0=1),((SUM(B3:BC3)/10000)*'Assumptions (edit)'!B5),"") | BD17: =IF((0=1),((SUM(B3:BD3)/10000)*'Assumptions (edit)'!B5),"") | BE17: =IF((0=1),((SUM(B3:BE3)/10000)*'Assumptions (edit)'!B5),"") | BF17: =IF((0=1),((SUM(B3:BF3)/10000)*'Assumptions (edit)'!B5),"") | BG17: =IF((0=1),((SUM(B3:BG3)/10000)*'Assumptions (edit)'!B5),"") | BH17: =IF((0=1),((SUM(B3:BH3)/10000)*'Assumptions (edit)'!B5),"") | BI17: =IF((0=1),((SUM(B3:BI3)/10000)*'Assumptions (edit)'!B5),"") | BJ17: =IF((0=1),((SUM(B3:BJ3)/10000)*'Assumptions (edit)'!B5),"") | BK17: =IF((0=1),((SUM(B3:BK3)/10000)*'Assumptions (edit)'!B5),"") | BL17: =IF((0=1),((SUM(B3:BL3)/10000)*'Assumptions (edit)'!B5),"") | BM17: =IF((0=1),((SUM(B3:BM3)/10000)*'Assumptions (edit)'!B5),"") | BN17: =IF((0=1),((SUM(B3:BN3)/10000)*'Assumptions (edit)'!B5),"") | BO17: =IF((0=1),((SUM(B3:BO3)/10000)*'Assumptions (edit)'!B5),"") | BP17: =IF((0=1),((SUM(B3:BP3)/10000)*'Assumptions (edit)'!B5),"") | BQ17: =IF((0=1),((SUM(B3:BQ3)/10000)*'Assumptions (edit)'!B5),"") | BR17: =IF((0=1),((SUM(B3:BR3)/10000)*'Assumptions (edit)'!B5),"") | BS17: =IF((0=1),((SUM(B3:BS3)/10000)*'Assumptions (edit)'!B5),"") | BT17: =IF((0=1),((SUM(B3:BT3)/10000)*'Assumptions (edit)'!B5),"") | BU17: =IF((0=1),((SUM(B3:BU3)/10000)*'Assumptions (edit)'!B5),"") | BV17: =IF((0=1),((SUM(B3:BV3)/10000)*'Assumptions (edit)'!B5),"") | BW17: =IF((0=1),((SUM(B3:BW3)/10000)*'Assumptions (edit)'!B5),"") | BX17: =IF((0=1),((SUM(B3:BX3)/10000)*'Assumptions (edit)'!B5),"") | BY17: =IF((0=1),((SUM(B3:BY3)/10000)*'Assumptions (edit)'!B5),"") | BZ17: =IF((0=1),((SUM(B3:BZ3)/10000)*'Assumptions (edit)'!B5),"") | CA17: =IF((0=1),((SUM(B3:CA3)/10000)*'Assumptions (edit)'!B5),"") | CB17: =IF((0=1),((SUM(B3:CB3)/10000)*'Assumptions (edit)'!B5),"") | CC17: =IF((0=1),((SUM(B3:CC3)/10000)*'Assumptions (edit)'!B5),"") | CD17: =IF((0=1),((SUM(B3:CD3)/10000)*'Assumptions (edit)'!B5),"") | CE17: =IF((0=1),((SUM(B3:CE3)/10000)*'Assumptions (edit)'!B5),"") | CF17: =IF((0=1),((SUM(B3:CF3)/10000)*'Assumptions (edit)'!B5),"") | CG17: =IF((0=1),((SUM(B3:CG3)/10000)*'Assumptions (edit)'!B5),"") | CH17: =IF((0=1),((SUM(B3:CH3)/10000)*'Assumptions (edit)'!B5),"") | CI17: =IF((0=1),((SUM(B3:CI3)/10000)*'Assumptions (edit)'!B5),"") | CJ17: =IF((0=1),((SUM(B3:CJ3)/10000)*'Assumptions (edit)'!B5),"") | CK17: =IF((0=1),((SUM(B3:CK3)/10000)*'Assumptions (edit)'!B5),"") | CL17: =IF((0=1),((SUM(B3:CL3)/10000)*'Assumptions (edit)'!B5),"") | CM17: =IF((0=1),((SUM(B3:CM3)/10000)*'Assumptions (edit)'!B5),"") | CN17: =IF((0=1),((SUM(B3:CN3)/10000)*'Assumptions (edit)'!B5),"") | CO17: =IF((0=1),((SUM(B3:CO3)/10000)*'Assumptions (edit)'!B5),"") | CP17: =IF((0=1),((SUM(B3:CP3)/10000)*'Assumptions (edit)'!B5),"") | CQ17: =IF((0=1),((SUM(B3:CQ3)/10000)*'Assumptions (edit)'!B5),"") | CR17: =IF((0=1),((SUM(B3:CR3)/10000)*'Assumptions (edit)'!B5),"") | CS17: =IF((0=1),((SUM(B3:CS3)/10000)*'Assumptions (edit)'!B5),"") | CT17: =IF((0=1),((SUM(B3:CT3)/10000)*'Assumptions (edit)'!B5),"") | CU17: =IF((0=1),((SUM(B3:CU3)/10000)*'Assumptions (edit)'!B5),"") | CV17: =IF((0=1),((SUM(B3:CV3)/10000)*'Assumptions (edit)'!B5),"") | CW17: =IF((0=1),((SUM(B3:CW3)/10000)*'Assumptions (edit)'!B5),"")
A18: Cumulative excess, realized then projected | B18: =IF((1=1),B9,(B9+(B12*(1-1)))) -> -21.574 | C18: =IF((0=1),C9,(B9+(B12*(2-1)))) -> -43.148 | D18: =IF((0=1),D9,(B9+(B12*(3-1)))) -> -64.722 | E18: =IF((0=1),E9,(B9+(B12*(4-1)))) -> -86.296 | F18: =IF((0=1),F9,(B9+(B12*(5-1)))) -> -107.87 | G18: =IF((0=1),G9,(B9+(B12*(6-1)))) -> -129.444 | H18: =IF((0=1),H9,(B9+(B12*(7-1)))) -> -151.018 | I18: =IF((0=1),I9,(B9+(B12*(8-1)))) -> -172.592 | J18: =IF((0=1),J9,(B9+(B12*(9-1)))) -> -194.166 | K18: =IF((0=1),K9,(B9+(B12*(10-1)))) -> -215.74 | L18: =IF((0=1),L9,(B9+(B12*(11-1)))) -> -237.314 | M18: =IF((0=1),M9,(B9+(B12*(12-1)))) -> -258.888 | N18: =IF((0=1),N9,(B9+(B12*(13-1)))) -> -280.462 | O18: =IF((0=1),O9,(B9+(B12*(14-1)))) -> -302.036 | P18: =IF((0=1),P9,(B9+(B12*(15-1)))) -> -323.61 | Q18: =IF((0=1),Q9,(B9+(B12*(16-1)))) -> -345.184 | R18: =IF((0=1),R9,(B9+(B12*(17-1)))) -> -366.758 | S18: =IF((0=1),S9,(B9+(B12*(18-1)))) -> -388.332 | T18: =IF((0=1),T9,(B9+(B12*(19-1)))) -> -409.906 | U18: =IF((0=1),U9,(B9+(B12*(20-1)))) -> -431.48 | V18: =IF((0=1),V9,(B9+(B12*(21-1)))) -> -453.054 | W18: =IF((0=1),W9,(B9+(B12*(22-1)))) -> -474.628 | X18: =IF((0=1),X9,(B9+(B12*(23-1)))) -> -496.202 | Y18: =IF((0=1),Y9,(B9+(B12*(24-1)))) -> -517.776 | Z18: =IF((0=1),Z9,(B9+(B12*(25-1)))) -> -539.35 | AA18: =IF((0=1),AA9,(B9+(B12*(26-1)))) -> -560.924 | AB18: =IF((0=1),AB9,(B9+(B12*(27-1)))) -> -582.498 | AC18: =IF((0=1),AC9,(B9+(B12*(28-1)))) -> -604.072 | AD18: =IF((0=1),AD9,(B9+(B12*(29-1)))) -> -625.646 | AE18: =IF((0=1),AE9,(B9+(B12*(30-1)))) -> -647.22 | AF18: =IF((0=1),AF9,(B9+(B12*(31-1)))) -> -668.794 | AG18: =IF((0=1),AG9,(B9+(B12*(32-1)))) -> -690.368 | AH18: =IF((0=1),AH9,(B9+(B12*(33-1)))) -> -711.942 | AI18: =IF((0=1),AI9,(B9+(B12*(34-1)))) -> -733.516 | AJ18: =IF((0=1),AJ9,(B9+(B12*(35-1)))) -> -755.09 | AK18: =IF((0=1),AK9,(B9+(B12*(36-1)))) -> -776.664 | AL18: =IF((0=1),AL9,(B9+(B12*(37-1)))) -> -798.238 | AM18: =IF((0=1),AM9,(B9+(B12*(38-1)))) -> -819.812 | AN18: =IF((0=1),AN9,(B9+(B12*(39-1)))) -> -841.386 | AO18: =IF((0=1),AO9,(B9+(B12*(40-1)))) -> -862.96 | AP18: =IF((0=1),AP9,(B9+(B12*(41-1)))) -> -884.534 | AQ18: =IF((0=1),AQ9,(B9+(B12*(42-1)))) -> -906.108 | AR18: =IF((0=1),AR9,(B9+(B12*(43-1)))) -> -927.682 | AS18: =IF((0=1),AS9,(B9+(B12*(44-1)))) -> -949.256 | AT18: =IF((0=1),AT9,(B9+(B12*(45-1)))) -> -970.83 | AU18: =IF((0=1),AU9,(B9+(B12*(46-1)))) -> -992.404 | AV18: =IF((0=1),AV9,(B9+(B12*(47-1)))) -> -1013.978 | AW18: =IF((0=1),AW9,(B9+(B12*(48-1)))) -> -1035.552 | AX18: =IF((0=1),AX9,(B9+(B12*(49-1)))) -> -1057.126 | AY18: =IF((0=1),AY9,(B9+(B12*(50-1)))) -> -1078.7 | AZ18: =IF((0=1),AZ9,(B9+(B12*(51-1)))) -> -1100.274 | BA18: =IF((0=1),BA9,(B9+(B12*(52-1)))) -> -1121.848 | BB18: =IF((0=1),BB9,(B9+(B12*(53-1)))) -> -1143.422 | BC18: =IF((0=1),BC9,(B9+(B12*(54-1)))) -> -1164.996 | BD18: =IF((0=1),BD9,(B9+(B12*(55-1)))) -> -1186.57 | BE18: =IF((0=1),BE9,(B9+(B12*(56-1)))) -> -1208.144 | BF18: =IF((0=1),BF9,(B9+(B12*(57-1)))) -> -1229.718 | BG18: =IF((0=1),BG9,(B9+(B12*(58-1)))) -> -1251.292 | BH18: =IF((0=1),BH9,(B9+(B12*(59-1)))) -> -1272.866 | BI18: =IF((0=1),BI9,(B9+(B12*(60-1)))) -> -1294.44 | BJ18: =IF((0=1),BJ9,(B9+(B12*(61-1)))) -> -1316.014 | BK18: =IF((0=1),BK9,(B9+(B12*(62-1)))) -> -1337.588 | BL18: =IF((0=1),BL9,(B9+(B12*(63-1)))) -> -1359.162 | BM18: =IF((0=1),BM9,(B9+(B12*(64-1)))) -> -1380.736 | BN18: =IF((0=1),BN9,(B9+(B12*(65-1)))) -> -1402.31 | BO18: =IF((0=1),BO9,(B9+(B12*(66-1)))) -> -1423.884 | BP18: =IF((0=1),BP9,(B9+(B12*(67-1)))) -> -1445.458 | BQ18: =IF((0=1),BQ9,(B9+(B12*(68-1)))) -> -1467.032 | BR18: =IF((0=1),BR9,(B9+(B12*(69-1)))) -> -1488.606 | BS18: =IF((0=1),BS9,(B9+(B12*(70-1)))) -> -1510.18 | BT18: =IF((0=1),BT9,(B9+(B12*(71-1)))) -> -1531.754 | BU18: =IF((0=1),BU9,(B9+(B12*(72-1)))) -> -1553.328 | BV18: =IF((0=1),BV9,(B9+(B12*(73-1)))) -> -1574.902 | BW18: =IF((0=1),BW9,(B9+(B12*(74-1)))) -> -1596.476 | BX18: =IF((0=1),BX9,(B9+(B12*(75-1)))) -> -1618.05 | BY18: =IF((0=1),BY9,(B9+(B12*(76-1)))) -> -1639.624 | BZ18: =IF((0=1),BZ9,(B9+(B12*(77-1)))) -> -1661.198 | CA18: =IF((0=1),CA9,(B9+(B12*(78-1)))) -> -1682.772 | CB18: =IF((0=1),CB9,(B9+(B12*(79-1)))) -> -1704.346 | CC18: =IF((0=1),CC9,(B9+(B12*(80-1)))) -> -1725.92 | CD18: =IF((0=1),CD9,(B9+(B12*(81-1)))) -> -1747.494 | CE18: =IF((0=1),CE9,(B9+(B12*(82-1)))) -> -1769.068 | CF18: =IF((0=1),CF9,(B9+(B12*(83-1)))) -> -1790.642 | CG18: =IF((0=1),CG9,(B9+(B12*(84-1)))) -> -1812.216 | CH18: =IF((0=1),CH9,(B9+(B12*(85-1)))) -> -1833.79 | CI18: =IF((0=1),CI9,(B9+(B12*(86-1)))) -> -1855.364 | CJ18: =IF((0=1),CJ9,(B9+(B12*(87-1)))) -> -1876.938 | CK18: =IF((0=1),CK9,(B9+(B12*(88-1)))) -> -1898.512 | CL18: =IF((0=1),CL9,(B9+(B12*(89-1)))) -> -1920.086 | CM18: =IF((0=1),CM9,(B9+(B12*(90-1)))) -> -1941.66 | CN18: =IF((0=1),CN9,(B9+(B12*(91-1)))) -> -1963.234 | CO18: =IF((0=1),CO9,(B9+(B12*(92-1)))) -> -1984.808 | CP18: =IF((0=1),CP9,(B9+(B12*(93-1)))) -> -2006.382 | CQ18: =IF((0=1),CQ9,(B9+(B12*(94-1)))) -> -2027.956 | CR18: =IF((0=1),CR9,(B9+(B12*(95-1)))) -> -2049.53 | CS18: =IF((0=1),CS9,(B9+(B12*(96-1)))) -> -2071.104 | CT18: =IF((0=1),CT9,(B9+(B12*(97-1)))) -> -2092.678 | CU18: =IF((0=1),CU9,(B9+(B12*(98-1)))) -> -2114.252 | CV18: =IF((0=1),CV9,(B9+(B12*(99-1)))) -> -2135.826 | CW18: =IF((0=1),CW9,(B9+(B12*(100-1)))) -> -2157.4

Sheet Summary
A1: line | B1: value
A2: Evaluated days | B2: =COUNTIFS('Daily evaluations'!$C$2:$C$2,"<>") -> 1
A3: Mean sector-neutral excess, bps/day | B3: =IF((B2>0),AVERAGE('Daily evaluations'!$C$2:$C$2),"") -> -21.574
A4: Cumulative excess, bps | B4: =IF((B2>0),SUM('Daily evaluations'!$C$2:$C$2),"") -> -21.574
A5: Mean net of costs, bps/day | B5: =IF((B2>0),(AVERAGE('Daily evaluations'!$D$2:$D$2)-'Assumptions (edit)'!B2),"") -> -18.298
A6: Hit rate | B6: =IF((B2>0),AVERAGE('Daily evaluations'!$G$2:$G$2),"") -> 0.5
A7: Mean IC | B7: =IF((B2>0),AVERAGE('Daily evaluations'!$H$2:$H$2),"") -> 0.0123
A8: Close-to-close sector-neutral excess, bps/day | B8: =IF((B2>0),AVERAGE('Daily evaluations'!$F$2:$F$2),"")
A9: Mean of squares | B9: =IF((B2>0),AVERAGE('Daily evaluations'!$J$2:$J$2),"") -> 465.431
A10: Daily sd, bps | B10: 0
A11: t-stat
A12: Random pods: mean, bps/day | B12: =IF((B2>0),AVERAGE('Null distribution by day'!$C$2:$C$2),"") -> 0.827
A13: Random pods: best day-average, bps | B13: =IF((B2>0),MAX('Null distribution by day'!$D$2:$D$2),"") -> 13.888
A14: Days needed to reach the t threshold at this mean and sd | B14: =IF(AND(AND((B2>1),(B3>0)),(B10>0)),POWER((('Assumptions (edit)'!B3*B10)/B3),2),"")
A15: Projected cumulative excess at horizon, bps | B15: =IF((B2>0),(B3*'Assumptions (edit)'!B4),"") -> -2157.4
A16: Names scored per day | B16: =IF((B2>0),AVERAGE('Daily evaluations'!$I$2:$I$2),"") -> 1436

Sheet Sector mix of picks (2026-09-23
A1: line | B1: Basic Materials | C1: Communication Services | D1: Consumer Cyclical | E1: Consumer Defensive | F1: Energy | G1: Financial Services | H1: Healthcare | I1: Industrials | J1: Real Estate | K1: Technology | L1: Utilities
A2: Picks | B2: #N/A | C2: #N/A | D2: #N/A | E2: #N/A | F2: #N/A | G2: #N/A | H2: #N/A | I2: #N/A | J2: #N/A | K2: #N/A | L2: #N/A
A3: Realized sector-neutral excess, bps | B3: #N/A | C3: #N/A | D3: #N/A | E3: #N/A | F3: #N/A | G3: #N/A | H3: #N/A | I3: #N/A | J3: #N/A | K3: #N/A | L3: #N/A

Sheet Periods
A1: ID | B1: Name | C1: Start | D1: End | E1: Frame | F1: Year | G1: Quarter | H1: Index
A2: sep26 | B2: Sep-26 | C2: 46266 | D2: 46295 | E2: fcst | F2: 2026 | G2: Q3 2026 | H2: 0
A3: oct26 | B3: Oct-26 | C3: 46296 | D3: 46326 | E3: fcst | F3: 2026 | G3: Q4 2026 | H3: 1
A4: nov26 | B4: Nov-26 | C4: 46327 | D4: 46356 | E4: fcst | F4: 2026 | G4: Q4 2026 | H4: 2
A5: dec26 | B5: Dec-26 | C5: 46357 | D5: 46387 | E5: fcst | F5: 2026 | G5: Q4 2026 | H5: 3
A6: jan27 | B6: Jan-27 | C6: 46388 | D6: 46418 | E6: fcst | F6: 2027 | G6: Q1 2027 | H6: 4
A7: feb27 | B7: Feb-27 | C7: 46419 | D7: 46446 | E7: fcst | F7: 2027 | G7: Q1 2027 | H7: 5

Sheet Trading days
A1: ID | B1: name | C1: date | D1: idx | E1: evaluated
A2: d20260922 | B2: 09-22 | C2: 46287 | D2: 1 | E2: 1
A3: d20260923 | B3: 09-23 | C3: 46288 | D3: 2 | E3: 0
A4: d20260924 | B4: 09-24 | C4: 46289 | D4: 3 | E4: 0
A5: d20260925 | B5: 09-25 | C5: 46290 | D5: 4 | E5: 0
A6: d20260928 | B6: 09-28 | C6: 46293 | D6: 5 | E6: 0
A7: d20260929 | B7: 09-29 | C7: 46294 | D7: 6 | E7: 0
A8: d20260930 | B8: 09-30 | C8: 46295 | D8: 7 | E8: 0
A9: d20261001 | B9: 10-01 | C9: 46296 | D9: 8 | E9: 0
A10: d20261002 | B10: 10-02 | C10: 46297 | D10: 9 | E10: 0
A11: d20261005 | B11: 10-05 | C11: 46300 | D11: 10 | E11: 0
A12: d20261006 | B12: 10-06 | C12: 46301 | D12: 11 | E12: 0
A13: d20261007 | B13: 10-07 | C13: 46302 | D13: 12 | E13: 0
... A101: d20270212 | B101: 02-12 | C101: 46430 | D101: 100 | E101: 0

Sheet Sectors
A1: ID | B1: name
A2: basic_materials | B2: Basic Materials
A3: communication_services | B3: Communication Services
A4: consumer_cyclical | B4: Consumer Cyclical
A5: consumer_defensive | B5: Consumer Defensive
A6: energy | B6: Energy
A7: financial_services | B7: Financial Services
A8: healthcare | B8: Healthcare
A9: industrials | B9: Industrials
A10: real_estate | B10: Real Estate
A11: technology | B11: Technology
A12: utilities | B12: Utilities

Sheet Daily evaluations
A1: ID | B1: day | C1: sn_excess_bps | D1: excess_bps | E1: net_bps | F1: cc_sn_bps | G1: hit_rate | H1: ic | I1: n_scored | J1: sq_bps
A2: p06_seasonality_d20260922 | B2: d20260922 | C2: -21.574 | D2: -8.298 | E2: -18.298 | G2: 0.5 | H2: 0.0123 | I2: 1436 | J2: 465.431

Sheet Null distribution by day
A1: ID | B1: day | C1: random_avg_bps | D1: random_best_bps | E1: random_worst_bps | F1: llm_avg_bps
A2: d20260922 | B2: d20260922 | C2: 0.827 | D2: 13.888 | E2: -13.795 | F2: 1.303

Sheet Picks for 2026-09-23
A1: ID | B1: symbol | C1: company | D1: rank | E1: score | F1: sector | G1: overnight_bps | H1: sn_excess_bps
A2: 2026-09-23_GNRC | B2: GNRC | C2: Generac Holdings Inc. | D2: 1 | E2: 0.0283 | F2: industrials
A3: 2026-09-23_VKTX | B3: VKTX | C3: Viking Therapeutics, Inc. | D3: 2 | E3: 0.0226 | F3: healthcare
A4: 2026-09-23_VICR | B4: VICR | C4: Vicor Corporation | D4: 3 | E4: 0.0163 | F4: technology
A5: 2026-09-23_FPS | B5: FPS | C5: Forgent Power Solutions, Inc. | D5: 4 | E5: 0.0132 | F5: industrials
A6: 2026-09-23_DFTX | B6: DFTX | C6: Definium Therapeutics, Inc. | D6: 5 | E6: 0.0118 | F6: healthcare
A7: 2026-09-23_RBLX | B7: RBLX | C7: Roblox Corporation | D7: 6 | E7: 0.0116 | F7: technology
A8: 2026-09-23_SMMT | B8: SMMT | C8: Summit Therapeutics Inc. | D8: 7 | E8: 0.0107 | F8: healthcare
A9: 2026-09-23_MGNI | B9: MGNI | C9: Magnite, Inc. | D9: 8 | E9: 0.0105 | F9: communication_services
A10: 2026-09-23_CHYM | B10: CHYM | C10: Chime Financial, Inc. Class A Common Stock | D10: 9 | E10: 0.0103 | F10: technology
A11: 2026-09-23_GRAL | B11: GRAL | C11: GRAIL Inc. | D11: 10 | E11: 0.0103 | F11: healthcare
A12: 2026-09-23_CRCL | B12: CRCL | C12: Circle Internet Group | D12: 11 | E12: 0.0103 | F12: financial_services
A13: 2026-09-23_VERA | B13: VERA | C13: Vera Therapeutics, Inc. | D13: 12 | E13: 0.01 | F13: healthcare
... A101: 2026-09-23_BMI | B101: BMI | C101: Badger Meter, Inc. | D101: 100 | E101: 0.0038 | F101: industrials

Sheet Assumptions (edit) lines
A1: ID | B1: name | C1: format
A2: round_trip_bps | B2: Assumed round-trip cost, bps
A3: t_threshold | B3: t-stat required to call it skill
A4: horizon_days | B4: Watch horizon, trading days
A5: notional_usd | B5: Notional, $

Sheet By trading day lines
A1: ID | B1: name | C1: format
A2: sn_excess_bps | B2: Sector-neutral overnight excess, bps
A3: net_bps | B3: Net of costs, bps
A4: random_avg_bps | B4: Random pods: average, bps
A5: random_best_bps | B5: Random pods: best, bps
A6: llm_avg_bps | B6: All LLM pods: average, bps
A7: hit_rate | B7: Hit rate | C7: percent
A8: ic | B8: Information coefficient
A9: cum_bps | B9: Cumulative excess, bps
A10: random_cum_bps | B10: Random pods: cumulative average, bps
A11: n_days | B11: Evaluated days to date
A12: mean_bps | B12: Running mean, bps/day
A13: sq_bps | B13: Squared excess
A14: mean_sq | B14: Running mean of squares
A15: sd_bps | B15: Running daily sd, bps
A16: t_stat | B16: Running t-stat
A17: cum_pnl_usd | B17: Cumulative net P&L on notional, $
A18: proj_cum_bps | B18: Cumulative excess, realized then projected

Sheet Summary lines
A1: ID | B1: name | C1: format
A2: n_days | B2: Evaluated days
A3: mean_bps | B3: Mean sector-neutral excess, bps/day
A4: cum_bps | B4: Cumulative excess, bps
A5: net_bps | B5: Mean net of costs, bps/day
A6: hit_rate | B6: Hit rate | C6: percent
A7: ic | B7: Mean IC
A8: cc_bps | B8: Close-to-close sector-neutral excess, bps/day
A9: mean_sq | B9: Mean of squares
A10: sd_bps | B10: Daily sd, bps
A11: t_stat | B11: t-stat
A12: random_mean | B12: Random pods: mean, bps/day
A13: random_best | B13: Random pods: best day-average, bps
A14: days_to_threshold | B14: Days needed to reach the t threshold at this mean and sd
A15: proj_horizon_bps | B15: Projected cumulative excess at horizon, bps
A16: avg_scored | B16: Names scored per day

Sheet Sector mix of picks (2026-0 (2)
A1: ID | B1: name | C1: format
A2: picks | B2: Picks
A3: avg_sn_excess_bps | B3: Realized sector-neutral excess, bps

Sheet Rules
A1: Table | B1: Target | C1: When | D1: Formula | E1: Status
A2: by_day | B2: value | C2: line = sn_excess_bps | D2: IF(day.evaluated = 1, SUM(daily.sn_excess_bps[day=@day]), BLANK) | E2: ok
A3: by_day | B3: value | C3: line = net_bps | D3: IF(day.evaluated = 1, SUM(daily.excess_bps[day=@day]) - assumptions.round_trip_bps, BLANK) | E3: ok
A4: by_day | B4: value | C4: line = random_avg_bps | D4: IF(day.evaluated = 1, SUM(null_daily.random_avg_bps[day=@day]), BLANK) | E4: ok
A5: by_day | B5: value | C5: line = random_best_bps | D5: IF(day.evaluated = 1, SUM(null_daily.random_best_bps[day=@day]), BLANK) | E5: ok
A6: by_day | B6: value | C6: line = llm_avg_bps | D6: IF(day.evaluated = 1, SUM(null_daily.llm_avg_bps[day=@day]), BLANK) | E6: ok
A7: by_day | B7: value | C7: line = hit_rate | D7: IF(day.evaluated = 1, SUM(daily.hit_rate[day=@day]), BLANK) | E7: ok
A8: by_day | B8: value | C8: line = ic | D8: IF(day.evaluated = 1, SUM(daily.ic[day=@day]), BLANK) | E8: ok
A9: by_day | B9: value | C9: line = cum_bps | D9: IF(day.evaluated = 1, SUM(sn_excess_bps[day=first..this]), BLANK) | E9: ok
A10: by_day | B10: value | C10: line = random_cum_bps | D10: IF(day.evaluated = 1, SUM(random_avg_bps[day=first..this]), BLANK) | E10: ok
A11: by_day | B11: value | C11: line = n_days | D11: IF(day.evaluated = 1, COUNT(sn_excess_bps[day=first..this]), BLANK) | E11: ok
A12: by_day | B12: value | C12: line = mean_bps | D12: IF(day.evaluated = 1, cum_bps / n_days, BLANK) | E12: ok
... A35: sector_mix | B35: value | C35: line = avg_sn_excess_bps | D35: IF(COUNT(picks.sn_excess_bps[sector=@sector]) > 0, AVG(picks.sn_excess_bps[sector=@sector]), BLANK) | E35: ok
A37: Rules are what the model is made of; the cell formulas on the other sheets were compiled from them. Inputs are blue, formulas black.

Sheet Notes
A1: Cells that kept their computed value because the rule has no faithful Excel formula
A2: by_day.value: "IF(day.evaluated = 1, IF(mean_sq - mean_bps * mean_bps > 0, SQRT(mean_sq - mean_bps * mean_bps), 0), BLANK)" kept as values — SQRT() has no Excel form (100 cells)
A3: by_day.value: "IF(day.evaluated = 1, IF(n_days > 1 and sd_bps > 0, mean_bps / (sd_bps / SQRT(n_days)), BLANK), BLANK)" kept as values — SQRT() has no Excel form (100 cells)
A4: summary.value: "IF(n_days > 0, IF(mean_sq - mean_bps * mean_bps > 0, SQRT(mean_sq - mean_bps * mean_bps), 0), BLANK)" kept as values — SQRT() has no Excel form
A5: summary.value: "IF(n_days > 1 and sd_bps > 0, mean_bps / (sd_bps / SQRT(n_days)), BLANK)" kept as values — SQRT() has no Excel form
A6: sector_mix.value: "COUNT(picks.rank[sector=@sector])" kept as values — a path on a measure value (11 cells)
A7: sector_mix.value: "IF(COUNT(picks.sn_excess_bps[sector=@sector]) > 0, AVG(picks.sn_excess_bps[sector=@sector]), BLANK)" kept as values — a path on a measure value (11 cells)
